BEGIN:VCALENDAR
VERSION:2.0
PRODID:-//AFLabs urnik izvoz - fs//aflabs.si//SI
NAME:UL FS Urnik
X-WR-CALNAME:UL FS Urnik
DTSTAMP:20260424T032532Z
REFRESH-INTERVAL:PT1H
SOURCE:https://urnik.fs.uni-lj.si/teacher/811/?day=2025-10-20&export=1
URL:https://urnik.fs.uni-lj.si/teacher/811/?day=2025-10-20&export=1
X-PUBLISHED-TTL:PT1H
X-WR-TIMEZONE:Europe/Ljubljana
BEGIN:VTIMEZONE
TZID:Europe/Ljubljana
BEGIN:DAYLIGHT
DTSTART:20260329T020000
RDATE:20260329T020000
RDATE:20270328T020000
TZNAME:CEST
TZOFFSETFROM:+0100
TZOFFSETTO:+0200
END:DAYLIGHT
BEGIN:STANDARD
DTSTART:20261025T030000
RDATE:20261025T030000
RDATE:20271031T030000
TZNAME:CET
TZOFFSETFROM:+0200
TZOFFSETTO:+0100
END:STANDARD
END:VTIMEZONE
BEGIN:VEVENT
SUMMARY:Krmiljenje mehatronskih sistemov (KMSP)\, Predavanja (P)
DTSTART;TZID=Europe/Ljubljana:20250929T093000
DTEND;TZID=Europe/Ljubljana:20250929T113000
DTSTAMP:20260424T032532Z
UID:fs-AFLABS-URNIK:srecanje:16027-2025-09-29 09:30:00+02:00
DESCRIPTION:Predmet: Krmiljenje mehatronskih sistemov (KMSP)\, Predavanja 
 (P)\nLetniki: Mehatronika (PAP-3)\nIzvajalci: Primož Podržaj\nProstor: P
 redavalnica IV/3A
END:VEVENT
BEGIN:VEVENT
SUMMARY:Krmiljenje mehatronskih sistemov (KMSP)\, Predavanja (P)
DTSTART;TZID=Europe/Ljubljana:20251006T093000
DTEND;TZID=Europe/Ljubljana:20251006T113000
DTSTAMP:20260424T032532Z
UID:fs-AFLABS-URNIK:srecanje:16027-2025-10-06 09:30:00+02:00
DESCRIPTION:Predmet: Krmiljenje mehatronskih sistemov (KMSP)\, Predavanja 
 (P)\nLetniki: Mehatronika (PAP-3)\nIzvajalci: Primož Podržaj\nProstor: P
 redavalnica IV/3A
END:VEVENT
BEGIN:VEVENT
SUMMARY:Krmiljenje mehatronskih sistemov (KMSP)\, Predavanja (P)
DTSTART;TZID=Europe/Ljubljana:20251013T093000
DTEND;TZID=Europe/Ljubljana:20251013T113000
DTSTAMP:20260424T032532Z
UID:fs-AFLABS-URNIK:srecanje:16027-2025-10-13 09:30:00+02:00
DESCRIPTION:Predmet: Krmiljenje mehatronskih sistemov (KMSP)\, Predavanja 
 (P)\nLetniki: Mehatronika (PAP-3)\nIzvajalci: Primož Podržaj\nProstor: P
 redavalnica IV/3A
END:VEVENT
BEGIN:VEVENT
SUMMARY:Krmiljenje mehatronskih sistemov (KMSP)\, Predavanja (P)
DTSTART;TZID=Europe/Ljubljana:20251020T093000
DTEND;TZID=Europe/Ljubljana:20251020T113000
DTSTAMP:20260424T032532Z
UID:fs-AFLABS-URNIK:srecanje:16027-2025-10-20 09:30:00+02:00
DESCRIPTION:Predmet: Krmiljenje mehatronskih sistemov (KMSP)\, Predavanja 
 (P)\nLetniki: Mehatronika (PAP-3)\nIzvajalci: Primož Podržaj\nProstor: P
 redavalnica IV/3A
END:VEVENT
BEGIN:VEVENT
SUMMARY:Krmiljenje mehatronskih sistemov (KMSP)\, Predavanja (P)
DTSTART;TZID=Europe/Ljubljana:20251027T093000
DTEND;TZID=Europe/Ljubljana:20251027T113000
DTSTAMP:20260424T032532Z
UID:fs-AFLABS-URNIK:srecanje:16027-2025-10-27 09:30:00+01:00
DESCRIPTION:Predmet: Krmiljenje mehatronskih sistemov (KMSP)\, Predavanja 
 (P)\nLetniki: Mehatronika (PAP-3)\nIzvajalci: Primož Podržaj\nProstor: P
 redavalnica IV/3A
END:VEVENT
BEGIN:VEVENT
SUMMARY:Krmiljenje mehatronskih sistemov (KMSP)\, Predavanja (P)
DTSTART;TZID=Europe/Ljubljana:20251103T093000
DTEND;TZID=Europe/Ljubljana:20251103T113000
DTSTAMP:20260424T032532Z
UID:fs-AFLABS-URNIK:srecanje:16027-2025-11-03 09:30:00+01:00
DESCRIPTION:Predmet: Krmiljenje mehatronskih sistemov (KMSP)\, Predavanja 
 (P)\nLetniki: Mehatronika (PAP-3)\nIzvajalci: Primož Podržaj\nProstor: P
 redavalnica IV/3A
END:VEVENT
BEGIN:VEVENT
SUMMARY:Krmiljenje mehatronskih sistemov (KMSP)\, Predavanja (P)
DTSTART;TZID=Europe/Ljubljana:20251110T093000
DTEND;TZID=Europe/Ljubljana:20251110T113000
DTSTAMP:20260424T032532Z
UID:fs-AFLABS-URNIK:srecanje:16027-2025-11-10 09:30:00+01:00
DESCRIPTION:Predmet: Krmiljenje mehatronskih sistemov (KMSP)\, Predavanja 
 (P)\nLetniki: Mehatronika (PAP-3)\nIzvajalci: Primož Podržaj\nProstor: P
 redavalnica IV/3A
END:VEVENT
BEGIN:VEVENT
SUMMARY:Krmiljenje mehatronskih sistemov (KMSP)\, Predavanja (P)
DTSTART;TZID=Europe/Ljubljana:20251117T093000
DTEND;TZID=Europe/Ljubljana:20251117T113000
DTSTAMP:20260424T032532Z
UID:fs-AFLABS-URNIK:srecanje:16027-2025-11-17 09:30:00+01:00
DESCRIPTION:Predmet: Krmiljenje mehatronskih sistemov (KMSP)\, Predavanja 
 (P)\nLetniki: Mehatronika (PAP-3)\nIzvajalci: Primož Podržaj\nProstor: P
 redavalnica IV/3A
END:VEVENT
BEGIN:VEVENT
SUMMARY:Krmiljenje mehatronskih sistemov (KMSP)\, Predavanja (P)
DTSTART;TZID=Europe/Ljubljana:20251124T093000
DTEND;TZID=Europe/Ljubljana:20251124T113000
DTSTAMP:20260424T032532Z
UID:fs-AFLABS-URNIK:srecanje:16027-2025-11-24 09:30:00+01:00
DESCRIPTION:Predmet: Krmiljenje mehatronskih sistemov (KMSP)\, Predavanja 
 (P)\nLetniki: Mehatronika (PAP-3)\nIzvajalci: Primož Podržaj\nProstor: P
 redavalnica IV/3A
END:VEVENT
BEGIN:VEVENT
SUMMARY:Krmiljenje mehatronskih sistemov (KMSP)\, Predavanja (P)
DTSTART;TZID=Europe/Ljubljana:20251201T093000
DTEND;TZID=Europe/Ljubljana:20251201T113000
DTSTAMP:20260424T032532Z
UID:fs-AFLABS-URNIK:srecanje:16027-2025-12-01 09:30:00+01:00
DESCRIPTION:Predmet: Krmiljenje mehatronskih sistemov (KMSP)\, Predavanja 
 (P)\nLetniki: Mehatronika (PAP-3)\nIzvajalci: Primož Podržaj\nProstor: P
 redavalnica IV/3A
END:VEVENT
BEGIN:VEVENT
SUMMARY:Krmiljenje mehatronskih sistemov (KMSP)\, Predavanja (P)
DTSTART;TZID=Europe/Ljubljana:20251208T093000
DTEND;TZID=Europe/Ljubljana:20251208T113000
DTSTAMP:20260424T032532Z
UID:fs-AFLABS-URNIK:srecanje:16027-2025-12-08 09:30:00+01:00
DESCRIPTION:Predmet: Krmiljenje mehatronskih sistemov (KMSP)\, Predavanja 
 (P)\nLetniki: Mehatronika (PAP-3)\nIzvajalci: Primož Podržaj\nProstor: P
 redavalnica IV/3A
END:VEVENT
BEGIN:VEVENT
SUMMARY:Krmiljenje mehatronskih sistemov (KMSP)\, Predavanja (P)
DTSTART;TZID=Europe/Ljubljana:20251215T093000
DTEND;TZID=Europe/Ljubljana:20251215T113000
DTSTAMP:20260424T032532Z
UID:fs-AFLABS-URNIK:srecanje:16027-2025-12-15 09:30:00+01:00
DESCRIPTION:Predmet: Krmiljenje mehatronskih sistemov (KMSP)\, Predavanja 
 (P)\nLetniki: Mehatronika (PAP-3)\nIzvajalci: Primož Podržaj\nProstor: P
 redavalnica IV/3A
END:VEVENT
BEGIN:VEVENT
SUMMARY:Krmiljenje mehatronskih sistemov (KMSP)\, Predavanja (P)
DTSTART;TZID=Europe/Ljubljana:20251222T093000
DTEND;TZID=Europe/Ljubljana:20251222T113000
DTSTAMP:20260424T032532Z
UID:fs-AFLABS-URNIK:srecanje:16027-2025-12-22 09:30:00+01:00
DESCRIPTION:Predmet: Krmiljenje mehatronskih sistemov (KMSP)\, Predavanja 
 (P)\nLetniki: Mehatronika (PAP-3)\nIzvajalci: Primož Podržaj\nProstor: P
 redavalnica IV/3A
END:VEVENT
BEGIN:VEVENT
SUMMARY:Krmiljenje mehatronskih sistemov (KMSP)\, Predavanja (P)
DTSTART;TZID=Europe/Ljubljana:20260105T093000
DTEND;TZID=Europe/Ljubljana:20260105T113000
DTSTAMP:20260424T032532Z
UID:fs-AFLABS-URNIK:srecanje:16027-2026-01-05 09:30:00+01:00
DESCRIPTION:Predmet: Krmiljenje mehatronskih sistemov (KMSP)\, Predavanja 
 (P)\nLetniki: Mehatronika (PAP-3)\nIzvajalci: Primož Podržaj\nProstor: P
 redavalnica IV/3A
END:VEVENT
BEGIN:VEVENT
SUMMARY:Krmiljenje mehatronskih sistemov (KMSP)\, Predavanja (P)
DTSTART;TZID=Europe/Ljubljana:20260112T093000
DTEND;TZID=Europe/Ljubljana:20260112T113000
DTSTAMP:20260424T032532Z
UID:fs-AFLABS-URNIK:srecanje:16027-2026-01-12 09:30:00+01:00
DESCRIPTION:Predmet: Krmiljenje mehatronskih sistemov (KMSP)\, Predavanja 
 (P)\nLetniki: Mehatronika (PAP-3)\nIzvajalci: Primož Podržaj\nProstor: P
 redavalnica IV/3A
END:VEVENT
BEGIN:VEVENT
SUMMARY:Mikroprocesorska krmilja (MPKM)\, Predavanja (P)
DTSTART;TZID=Europe/Ljubljana:20250930T140000
DTEND;TZID=Europe/Ljubljana:20250930T160000
DTSTAMP:20260424T032532Z
UID:fs-AFLABS-URNIK:srecanje:2373-2025-09-30 14:00:00+02:00
DESCRIPTION:Predmet: Mikroprocesorska krmilja (MPKM)\, Predavanja (P)\nLet
 niki: Mehatronika in laserska tehnika (MAG-1)\nIzvajalci: Janez Diaci\, Do
 minik Kozjek\, Primož Podržaj\nProstor: Predavalnica III/4
END:VEVENT
BEGIN:VEVENT
SUMMARY:Mikroprocesorska krmilja (MPKM)\, Predavanja (P)
DTSTART;TZID=Europe/Ljubljana:20251007T140000
DTEND;TZID=Europe/Ljubljana:20251007T160000
DTSTAMP:20260424T032532Z
UID:fs-AFLABS-URNIK:srecanje:2373-2025-10-07 14:00:00+02:00
DESCRIPTION:Predmet: Mikroprocesorska krmilja (MPKM)\, Predavanja (P)\nLet
 niki: Mehatronika in laserska tehnika (MAG-1)\nIzvajalci: Janez Diaci\, Do
 minik Kozjek\, Primož Podržaj\nProstor: Predavalnica III/4
END:VEVENT
BEGIN:VEVENT
SUMMARY:Mikroprocesorska krmilja (MPKM)\, Predavanja (P)
DTSTART;TZID=Europe/Ljubljana:20251014T140000
DTEND;TZID=Europe/Ljubljana:20251014T160000
DTSTAMP:20260424T032532Z
UID:fs-AFLABS-URNIK:srecanje:2373-2025-10-14 14:00:00+02:00
DESCRIPTION:Predmet: Mikroprocesorska krmilja (MPKM)\, Predavanja (P)\nLet
 niki: Mehatronika in laserska tehnika (MAG-1)\nIzvajalci: Janez Diaci\, Do
 minik Kozjek\, Primož Podržaj\nProstor: Predavalnica III/4
END:VEVENT
BEGIN:VEVENT
SUMMARY:Mikroprocesorska krmilja (MPKM)\, Predavanja (P)
DTSTART;TZID=Europe/Ljubljana:20251021T140000
DTEND;TZID=Europe/Ljubljana:20251021T160000
DTSTAMP:20260424T032532Z
UID:fs-AFLABS-URNIK:srecanje:2373-2025-10-21 14:00:00+02:00
DESCRIPTION:Predmet: Mikroprocesorska krmilja (MPKM)\, Predavanja (P)\nLet
 niki: Mehatronika in laserska tehnika (MAG-1)\nIzvajalci: Janez Diaci\, Do
 minik Kozjek\, Primož Podržaj\nProstor: Predavalnica III/4
END:VEVENT
BEGIN:VEVENT
SUMMARY:Mikroprocesorska krmilja (MPKM)\, Predavanja (P)
DTSTART;TZID=Europe/Ljubljana:20251028T140000
DTEND;TZID=Europe/Ljubljana:20251028T160000
DTSTAMP:20260424T032532Z
UID:fs-AFLABS-URNIK:srecanje:2373-2025-10-28 14:00:00+01:00
DESCRIPTION:Predmet: Mikroprocesorska krmilja (MPKM)\, Predavanja (P)\nLet
 niki: Mehatronika in laserska tehnika (MAG-1)\nIzvajalci: Janez Diaci\, Do
 minik Kozjek\, Primož Podržaj\nProstor: Predavalnica III/4
END:VEVENT
BEGIN:VEVENT
SUMMARY:Mikroprocesorska krmilja (MPKM)\, Predavanja (P)
DTSTART;TZID=Europe/Ljubljana:20251104T140000
DTEND;TZID=Europe/Ljubljana:20251104T160000
DTSTAMP:20260424T032532Z
UID:fs-AFLABS-URNIK:srecanje:2373-2025-11-04 14:00:00+01:00
DESCRIPTION:Predmet: Mikroprocesorska krmilja (MPKM)\, Predavanja (P)\nLet
 niki: Mehatronika in laserska tehnika (MAG-1)\nIzvajalci: Janez Diaci\, Do
 minik Kozjek\, Primož Podržaj\nProstor: Predavalnica III/4
END:VEVENT
BEGIN:VEVENT
SUMMARY:Mikroprocesorska krmilja (MPKM)\, Predavanja (P)
DTSTART;TZID=Europe/Ljubljana:20251111T140000
DTEND;TZID=Europe/Ljubljana:20251111T160000
DTSTAMP:20260424T032532Z
UID:fs-AFLABS-URNIK:srecanje:2373-2025-11-11 14:00:00+01:00
DESCRIPTION:Predmet: Mikroprocesorska krmilja (MPKM)\, Predavanja (P)\nLet
 niki: Mehatronika in laserska tehnika (MAG-1)\nIzvajalci: Janez Diaci\, Do
 minik Kozjek\, Primož Podržaj\nProstor: Predavalnica III/4
END:VEVENT
BEGIN:VEVENT
SUMMARY:Mikroprocesorska krmilja (MPKM)\, Predavanja (P)
DTSTART;TZID=Europe/Ljubljana:20251118T140000
DTEND;TZID=Europe/Ljubljana:20251118T160000
DTSTAMP:20260424T032532Z
UID:fs-AFLABS-URNIK:srecanje:2373-2025-11-18 14:00:00+01:00
DESCRIPTION:Predmet: Mikroprocesorska krmilja (MPKM)\, Predavanja (P)\nLet
 niki: Mehatronika in laserska tehnika (MAG-1)\nIzvajalci: Janez Diaci\, Do
 minik Kozjek\, Primož Podržaj\nProstor: Predavalnica III/4
END:VEVENT
BEGIN:VEVENT
SUMMARY:Mikroprocesorska krmilja (MPKM)\, Predavanja (P)
DTSTART;TZID=Europe/Ljubljana:20251125T140000
DTEND;TZID=Europe/Ljubljana:20251125T160000
DTSTAMP:20260424T032532Z
UID:fs-AFLABS-URNIK:srecanje:2373-2025-11-25 14:00:00+01:00
DESCRIPTION:Predmet: Mikroprocesorska krmilja (MPKM)\, Predavanja (P)\nLet
 niki: Mehatronika in laserska tehnika (MAG-1)\nIzvajalci: Janez Diaci\, Do
 minik Kozjek\, Primož Podržaj\nProstor: Predavalnica III/4
END:VEVENT
BEGIN:VEVENT
SUMMARY:Mikroprocesorska krmilja (MPKM)\, Predavanja (P)
DTSTART;TZID=Europe/Ljubljana:20251202T140000
DTEND;TZID=Europe/Ljubljana:20251202T160000
DTSTAMP:20260424T032532Z
UID:fs-AFLABS-URNIK:srecanje:2373-2025-12-02 14:00:00+01:00
DESCRIPTION:Predmet: Mikroprocesorska krmilja (MPKM)\, Predavanja (P)\nLet
 niki: Mehatronika in laserska tehnika (MAG-1)\nIzvajalci: Janez Diaci\, Do
 minik Kozjek\, Primož Podržaj\nProstor: Predavalnica III/4
END:VEVENT
BEGIN:VEVENT
SUMMARY:Mikroprocesorska krmilja (MPKM)\, Predavanja (P)
DTSTART;TZID=Europe/Ljubljana:20251209T140000
DTEND;TZID=Europe/Ljubljana:20251209T160000
DTSTAMP:20260424T032532Z
UID:fs-AFLABS-URNIK:srecanje:2373-2025-12-09 14:00:00+01:00
DESCRIPTION:Predmet: Mikroprocesorska krmilja (MPKM)\, Predavanja (P)\nLet
 niki: Mehatronika in laserska tehnika (MAG-1)\nIzvajalci: Janez Diaci\, Do
 minik Kozjek\, Primož Podržaj\nProstor: Predavalnica III/4
END:VEVENT
BEGIN:VEVENT
SUMMARY:Mikroprocesorska krmilja (MPKM)\, Predavanja (P)
DTSTART;TZID=Europe/Ljubljana:20251216T140000
DTEND;TZID=Europe/Ljubljana:20251216T160000
DTSTAMP:20260424T032532Z
UID:fs-AFLABS-URNIK:srecanje:2373-2025-12-16 14:00:00+01:00
DESCRIPTION:Predmet: Mikroprocesorska krmilja (MPKM)\, Predavanja (P)\nLet
 niki: Mehatronika in laserska tehnika (MAG-1)\nIzvajalci: Janez Diaci\, Do
 minik Kozjek\, Primož Podržaj\nProstor: Predavalnica III/4
END:VEVENT
BEGIN:VEVENT
SUMMARY:Mikroprocesorska krmilja (MPKM)\, Predavanja (P)
DTSTART;TZID=Europe/Ljubljana:20251223T140000
DTEND;TZID=Europe/Ljubljana:20251223T160000
DTSTAMP:20260424T032532Z
UID:fs-AFLABS-URNIK:srecanje:2373-2025-12-23 14:00:00+01:00
DESCRIPTION:Predmet: Mikroprocesorska krmilja (MPKM)\, Predavanja (P)\nLet
 niki: Mehatronika in laserska tehnika (MAG-1)\nIzvajalci: Janez Diaci\, Do
 minik Kozjek\, Primož Podržaj\nProstor: Predavalnica III/4
END:VEVENT
BEGIN:VEVENT
SUMMARY:Mikroprocesorska krmilja (MPKM)\, Predavanja (P)
DTSTART;TZID=Europe/Ljubljana:20260106T140000
DTEND;TZID=Europe/Ljubljana:20260106T160000
DTSTAMP:20260424T032532Z
UID:fs-AFLABS-URNIK:srecanje:2373-2026-01-06 14:00:00+01:00
DESCRIPTION:Predmet: Mikroprocesorska krmilja (MPKM)\, Predavanja (P)\nLet
 niki: Mehatronika in laserska tehnika (MAG-1)\nIzvajalci: Janez Diaci\, Do
 minik Kozjek\, Primož Podržaj\nProstor: Predavalnica III/4
END:VEVENT
BEGIN:VEVENT
SUMMARY:Mikroprocesorska krmilja (MPKM)\, Predavanja (P)
DTSTART;TZID=Europe/Ljubljana:20260113T140000
DTEND;TZID=Europe/Ljubljana:20260113T160000
DTSTAMP:20260424T032532Z
UID:fs-AFLABS-URNIK:srecanje:2373-2026-01-13 14:00:00+01:00
DESCRIPTION:Predmet: Mikroprocesorska krmilja (MPKM)\, Predavanja (P)\nLet
 niki: Mehatronika in laserska tehnika (MAG-1)\nIzvajalci: Janez Diaci\, Do
 minik Kozjek\, Primož Podržaj\nProstor: Predavalnica III/4
END:VEVENT
BEGIN:VEVENT
SUMMARY:Napredni senzorski sistemi in omrežja (NSSM)\, Predavanja (P)
DTSTART;TZID=Europe/Ljubljana:20251001T100000
DTEND;TZID=Europe/Ljubljana:20251001T113000
DTSTAMP:20260424T032532Z
UID:fs-AFLABS-URNIK:srecanje:17634-2025-10-01 10:00:00+02:00
DESCRIPTION:Predmet: Napredni senzorski sistemi in omrežja (NSSM)\, Preda
 vanja (P)\nLetniki: Mehatronika in laserska tehnika (MAG-2)\nIzvajalci: Pr
 imož Podržaj\nProstor: Predavalnica III/3B
END:VEVENT
BEGIN:VEVENT
SUMMARY:Napredni senzorski sistemi in omrežja (NSSM)\, Predavanja (P)
DTSTART;TZID=Europe/Ljubljana:20251008T100000
DTEND;TZID=Europe/Ljubljana:20251008T120000
DTSTAMP:20260424T032532Z
UID:fs-AFLABS-URNIK:srecanje:17352-2025-10-08 10:00:00+02:00
DESCRIPTION:Predmet: Napredni senzorski sistemi in omrežja (NSSM)\, Preda
 vanja (P)\nLetniki: Mehatronika in laserska tehnika (MAG-2)\nIzvajalci: Pr
 imož Podržaj\nProstor: Predavalnica IV/4
END:VEVENT
BEGIN:VEVENT
SUMMARY:Napredni senzorski sistemi in omrežja (NSSM)\, Predavanja (P)
DTSTART;TZID=Europe/Ljubljana:20251015T100000
DTEND;TZID=Europe/Ljubljana:20251015T120000
DTSTAMP:20260424T032532Z
UID:fs-AFLABS-URNIK:srecanje:17352-2025-10-15 10:00:00+02:00
DESCRIPTION:Predmet: Napredni senzorski sistemi in omrežja (NSSM)\, Preda
 vanja (P)\nLetniki: Mehatronika in laserska tehnika (MAG-2)\nIzvajalci: Pr
 imož Podržaj\nProstor: Predavalnica IV/4
END:VEVENT
BEGIN:VEVENT
SUMMARY:Napredni senzorski sistemi in omrežja (NSSM)\, Predavanja (P)
DTSTART;TZID=Europe/Ljubljana:20251022T100000
DTEND;TZID=Europe/Ljubljana:20251022T120000
DTSTAMP:20260424T032532Z
UID:fs-AFLABS-URNIK:srecanje:17352-2025-10-22 10:00:00+02:00
DESCRIPTION:Predmet: Napredni senzorski sistemi in omrežja (NSSM)\, Preda
 vanja (P)\nLetniki: Mehatronika in laserska tehnika (MAG-2)\nIzvajalci: Pr
 imož Podržaj\nProstor: Predavalnica IV/4
END:VEVENT
BEGIN:VEVENT
SUMMARY:Napredni senzorski sistemi in omrežja (NSSM)\, Predavanja (P)
DTSTART;TZID=Europe/Ljubljana:20251029T100000
DTEND;TZID=Europe/Ljubljana:20251029T120000
DTSTAMP:20260424T032532Z
UID:fs-AFLABS-URNIK:srecanje:17352-2025-10-29 10:00:00+01:00
DESCRIPTION:Predmet: Napredni senzorski sistemi in omrežja (NSSM)\, Preda
 vanja (P)\nLetniki: Mehatronika in laserska tehnika (MAG-2)\nIzvajalci: Pr
 imož Podržaj\nProstor: Predavalnica IV/4
END:VEVENT
BEGIN:VEVENT
SUMMARY:Napredni senzorski sistemi in omrežja (NSSM)\, Predavanja (P)
DTSTART;TZID=Europe/Ljubljana:20251105T100000
DTEND;TZID=Europe/Ljubljana:20251105T120000
DTSTAMP:20260424T032532Z
UID:fs-AFLABS-URNIK:srecanje:17352-2025-11-05 10:00:00+01:00
DESCRIPTION:Predmet: Napredni senzorski sistemi in omrežja (NSSM)\, Preda
 vanja (P)\nLetniki: Mehatronika in laserska tehnika (MAG-2)\nIzvajalci: Pr
 imož Podržaj\nProstor: Predavalnica IV/4
END:VEVENT
BEGIN:VEVENT
SUMMARY:Napredni senzorski sistemi in omrežja (NSSM)\, Predavanja (P)
DTSTART;TZID=Europe/Ljubljana:20251112T100000
DTEND;TZID=Europe/Ljubljana:20251112T120000
DTSTAMP:20260424T032532Z
UID:fs-AFLABS-URNIK:srecanje:17352-2025-11-12 10:00:00+01:00
DESCRIPTION:Predmet: Napredni senzorski sistemi in omrežja (NSSM)\, Preda
 vanja (P)\nLetniki: Mehatronika in laserska tehnika (MAG-2)\nIzvajalci: Pr
 imož Podržaj\nProstor: Predavalnica IV/4
END:VEVENT
BEGIN:VEVENT
SUMMARY:Napredni senzorski sistemi in omrežja (NSSM)\, Predavanja (P)
DTSTART;TZID=Europe/Ljubljana:20251119T100000
DTEND;TZID=Europe/Ljubljana:20251119T120000
DTSTAMP:20260424T032532Z
UID:fs-AFLABS-URNIK:srecanje:17352-2025-11-19 10:00:00+01:00
DESCRIPTION:Predmet: Napredni senzorski sistemi in omrežja (NSSM)\, Preda
 vanja (P)\nLetniki: Mehatronika in laserska tehnika (MAG-2)\nIzvajalci: Pr
 imož Podržaj\nProstor: Predavalnica IV/4
END:VEVENT
BEGIN:VEVENT
SUMMARY:Napredni senzorski sistemi in omrežja (NSSM)\, Predavanja (P)
DTSTART;TZID=Europe/Ljubljana:20251126T100000
DTEND;TZID=Europe/Ljubljana:20251126T120000
DTSTAMP:20260424T032532Z
UID:fs-AFLABS-URNIK:srecanje:17352-2025-11-26 10:00:00+01:00
DESCRIPTION:Predmet: Napredni senzorski sistemi in omrežja (NSSM)\, Preda
 vanja (P)\nLetniki: Mehatronika in laserska tehnika (MAG-2)\nIzvajalci: Pr
 imož Podržaj\nProstor: Predavalnica IV/4
END:VEVENT
BEGIN:VEVENT
SUMMARY:Napredni senzorski sistemi in omrežja (NSSM)\, Predavanja (P)
DTSTART;TZID=Europe/Ljubljana:20251203T100000
DTEND;TZID=Europe/Ljubljana:20251203T120000
DTSTAMP:20260424T032532Z
UID:fs-AFLABS-URNIK:srecanje:17352-2025-12-03 10:00:00+01:00
DESCRIPTION:Predmet: Napredni senzorski sistemi in omrežja (NSSM)\, Preda
 vanja (P)\nLetniki: Mehatronika in laserska tehnika (MAG-2)\nIzvajalci: Pr
 imož Podržaj\nProstor: Predavalnica IV/4
END:VEVENT
BEGIN:VEVENT
SUMMARY:Napredni senzorski sistemi in omrežja (NSSM)\, Predavanja (P)
DTSTART;TZID=Europe/Ljubljana:20251210T100000
DTEND;TZID=Europe/Ljubljana:20251210T120000
DTSTAMP:20260424T032532Z
UID:fs-AFLABS-URNIK:srecanje:17352-2025-12-10 10:00:00+01:00
DESCRIPTION:Predmet: Napredni senzorski sistemi in omrežja (NSSM)\, Preda
 vanja (P)\nLetniki: Mehatronika in laserska tehnika (MAG-2)\nIzvajalci: Pr
 imož Podržaj\nProstor: Predavalnica IV/4
END:VEVENT
BEGIN:VEVENT
SUMMARY:Napredni senzorski sistemi in omrežja (NSSM)\, Predavanja (P)
DTSTART;TZID=Europe/Ljubljana:20251217T100000
DTEND;TZID=Europe/Ljubljana:20251217T120000
DTSTAMP:20260424T032532Z
UID:fs-AFLABS-URNIK:srecanje:17352-2025-12-17 10:00:00+01:00
DESCRIPTION:Predmet: Napredni senzorski sistemi in omrežja (NSSM)\, Preda
 vanja (P)\nLetniki: Mehatronika in laserska tehnika (MAG-2)\nIzvajalci: Pr
 imož Podržaj\nProstor: Predavalnica IV/4
END:VEVENT
BEGIN:VEVENT
SUMMARY:Napredni senzorski sistemi in omrežja (NSSM)\, Predavanja (P)
DTSTART;TZID=Europe/Ljubljana:20251224T100000
DTEND;TZID=Europe/Ljubljana:20251224T120000
DTSTAMP:20260424T032532Z
UID:fs-AFLABS-URNIK:srecanje:17352-2025-12-24 10:00:00+01:00
DESCRIPTION:Predmet: Napredni senzorski sistemi in omrežja (NSSM)\, Preda
 vanja (P)\nLetniki: Mehatronika in laserska tehnika (MAG-2)\nIzvajalci: Pr
 imož Podržaj\nProstor: Predavalnica IV/4
END:VEVENT
BEGIN:VEVENT
SUMMARY:Napredni senzorski sistemi in omrežja (NSSM)\, Predavanja (P)
DTSTART;TZID=Europe/Ljubljana:20260107T100000
DTEND;TZID=Europe/Ljubljana:20260107T120000
DTSTAMP:20260424T032532Z
UID:fs-AFLABS-URNIK:srecanje:17352-2026-01-07 10:00:00+01:00
DESCRIPTION:Predmet: Napredni senzorski sistemi in omrežja (NSSM)\, Preda
 vanja (P)\nLetniki: Mehatronika in laserska tehnika (MAG-2)\nIzvajalci: Pr
 imož Podržaj\nProstor: Predavalnica IV/4
END:VEVENT
BEGIN:VEVENT
SUMMARY:Napredni senzorski sistemi in omrežja (NSSM)\, Predavanja (P)
DTSTART;TZID=Europe/Ljubljana:20260114T100000
DTEND;TZID=Europe/Ljubljana:20260114T120000
DTSTAMP:20260424T032532Z
UID:fs-AFLABS-URNIK:srecanje:17352-2026-01-14 10:00:00+01:00
DESCRIPTION:Predmet: Napredni senzorski sistemi in omrežja (NSSM)\, Preda
 vanja (P)\nLetniki: Mehatronika in laserska tehnika (MAG-2)\nIzvajalci: Pr
 imož Podržaj\nProstor: Predavalnica IV/4
END:VEVENT
BEGIN:VEVENT
SUMMARY:KMSP kolokvij 1
DTSTART;TZID=Europe/Ljubljana:20251120T150000
DTEND;TZID=Europe/Ljubljana:20251120T170000
DTSTAMP:20260424T032532Z
UID:fs-AFLABS-URNIK:rezervacija:11319
ATTENDEE:Mehatronika (PAP-3)
CATEGORIES:Reservation
COLOR:royalblue
DESCRIPTION:Predmeti: Krmiljenje mehatronskih sistemov (KMSP)\nLetniki: Me
 hatronika (PAP-3)\nIzvajalci: Primož Podržaj\, Tomaž Požrl\nProstori: 
 Predavalnica I/4A
LOCATION:Predavalnica I/4A
ORGANIZER:Primož Podržaj, Tomaž Požrl
X-WR-TIMEZONE:Europe/Ljubljana
END:VEVENT
BEGIN:VEVENT
SUMMARY:KMSP kolokvij 2
DTSTART;TZID=Europe/Ljubljana:20260113T140000
DTEND;TZID=Europe/Ljubljana:20260113T160000
DTSTAMP:20260424T032532Z
UID:fs-AFLABS-URNIK:rezervacija:11320
ATTENDEE:Mehatronika (PAP-3)
CATEGORIES:Reservation
COLOR:royalblue
DESCRIPTION:Predmeti: Krmiljenje mehatronskih sistemov (KMSP)\nLetniki: Me
 hatronika (PAP-3)\nIzvajalci: Primož Podržaj\, Tomaž Požrl\nProstori: 
 Predavalnica II/3B
LOCATION:Predavalnica II/3B
ORGANIZER:Primož Podržaj, Tomaž Požrl
X-WR-TIMEZONE:Europe/Ljubljana
END:VEVENT
BEGIN:VEVENT
SUMMARY:Predavanje prof. Kljuno
DTSTART;TZID=Europe/Ljubljana:20251128T120000
DTEND;TZID=Europe/Ljubljana:20251128T130000
DTSTAMP:20260424T032532Z
UID:fs-AFLABS-URNIK:rezervacija:13150
CATEGORIES:Reservation
COLOR:royalblue
DESCRIPTION:Predmeti: \nLetniki: \nIzvajalci: Primož Podržaj\nProstori: 
 Laboratorij LAMPA SII-82
LOCATION:Laboratorij LAMPA SII-82
ORGANIZER:Primož Podržaj
X-WR-TIMEZONE:Europe/Ljubljana
END:VEVENT
BEGIN:VEVENT
SUMMARY:KMSP
DTSTART;TZID=Europe/Ljubljana:20251204T093000
DTEND;TZID=Europe/Ljubljana:20251204T113000
DTSTAMP:20260424T032532Z
UID:fs-AFLABS-URNIK:rezervacija:13288
ATTENDEE:Mehatronika (PAP-3)
CATEGORIES:Reservation
COLOR:royalblue
DESCRIPTION:Predmeti: Krmiljenje mehatronskih sistemov (KMSP)\nLetniki: Me
 hatronika (PAP-3)\nIzvajalci: Primož Podržaj\, Tomaž Požrl\nProstori: 
 Predavalnica I/4A
LOCATION:Predavalnica I/4A
ORGANIZER:Primož Podržaj, Tomaž Požrl
X-WR-TIMEZONE:Europe/Ljubljana
END:VEVENT
END:VCALENDAR
