BEGIN:VCALENDAR
VERSION:2.0
PRODID:-//AFLabs urnik izvoz - fs//aflabs.si//SI
NAME:UL FS Urnik
X-WR-CALNAME:UL FS Urnik
DTSTAMP:20260419T193607Z
REFRESH-INTERVAL:PT1H
SOURCE:https://urnik.fs.uni-lj.si/teacher/812/?day=2024-02-12&export=1
URL:https://urnik.fs.uni-lj.si/teacher/812/?day=2024-02-12&export=1
X-PUBLISHED-TTL:PT1H
X-WR-TIMEZONE:Europe/Ljubljana
BEGIN:VTIMEZONE
TZID:Europe/Ljubljana
BEGIN:DAYLIGHT
DTSTART:20260329T020000
RDATE:20260329T020000
RDATE:20270328T020000
TZNAME:CEST
TZOFFSETFROM:+0100
TZOFFSETTO:+0200
END:DAYLIGHT
BEGIN:STANDARD
DTSTART:20261025T030000
RDATE:20261025T030000
RDATE:20271031T030000
TZNAME:CET
TZOFFSETFROM:+0200
TZOFFSETTO:+0100
END:STANDARD
END:VTIMEZONE
BEGIN:VEVENT
SUMMARY:Dinamika strojev in konstrukcij (DSKM)\, Laboratorijske vaje (VL)\
 , [S1]
DTSTART;TZID=Europe/Ljubljana:20240220T080000
DTEND;TZID=Europe/Ljubljana:20240220T100000
DTSTAMP:20260419T193607Z
UID:fs-AFLABS-URNIK:srecanje:8931-2024-02-20 08:00:00+01:00
DESCRIPTION:Predmet: Dinamika strojev in konstrukcij (DSKM)\, Laboratorijs
 ke vaje (VL)\, [S1]\nLetniki: Mehanika (MAG-1)\nIzvajalci: Martin Česnik\
 , Miha Kodrič\, Gašper Krivic\, Miha Pogačar\nProstor: Računalniška p
 redavalnica LNMS II/1
END:VEVENT
BEGIN:VEVENT
SUMMARY:Dinamika strojev in konstrukcij (DSKM)\, Laboratorijske vaje (VL)\
 , [S1]
DTSTART;TZID=Europe/Ljubljana:20240227T080000
DTEND;TZID=Europe/Ljubljana:20240227T100000
DTSTAMP:20260419T193607Z
UID:fs-AFLABS-URNIK:srecanje:8931-2024-02-27 08:00:00+01:00
DESCRIPTION:Predmet: Dinamika strojev in konstrukcij (DSKM)\, Laboratorijs
 ke vaje (VL)\, [S1]\nLetniki: Mehanika (MAG-1)\nIzvajalci: Martin Česnik\
 , Miha Kodrič\, Gašper Krivic\, Miha Pogačar\nProstor: Računalniška p
 redavalnica LNMS II/1
END:VEVENT
BEGIN:VEVENT
SUMMARY:Dinamika strojev in konstrukcij (DSKM)\, Laboratorijske vaje (VL)\
 , [S1]
DTSTART;TZID=Europe/Ljubljana:20240305T080000
DTEND;TZID=Europe/Ljubljana:20240305T100000
DTSTAMP:20260419T193607Z
UID:fs-AFLABS-URNIK:srecanje:8931-2024-03-05 08:00:00+01:00
DESCRIPTION:Predmet: Dinamika strojev in konstrukcij (DSKM)\, Laboratorijs
 ke vaje (VL)\, [S1]\nLetniki: Mehanika (MAG-1)\nIzvajalci: Martin Česnik\
 , Miha Kodrič\, Gašper Krivic\, Miha Pogačar\nProstor: Računalniška p
 redavalnica LNMS II/1
END:VEVENT
BEGIN:VEVENT
SUMMARY:Dinamika strojev in konstrukcij (DSKM)\, Laboratorijske vaje (VL)\
 , [S1]
DTSTART;TZID=Europe/Ljubljana:20240312T080000
DTEND;TZID=Europe/Ljubljana:20240312T100000
DTSTAMP:20260419T193607Z
UID:fs-AFLABS-URNIK:srecanje:8931-2024-03-12 08:00:00+01:00
DESCRIPTION:Predmet: Dinamika strojev in konstrukcij (DSKM)\, Laboratorijs
 ke vaje (VL)\, [S1]\nLetniki: Mehanika (MAG-1)\nIzvajalci: Martin Česnik\
 , Miha Kodrič\, Gašper Krivic\, Miha Pogačar\nProstor: Računalniška p
 redavalnica LNMS II/1
END:VEVENT
BEGIN:VEVENT
SUMMARY:Dinamika strojev in konstrukcij (DSKM)\, Laboratorijske vaje (VL)\
 , [S2]
DTSTART;TZID=Europe/Ljubljana:20240220T100000
DTEND;TZID=Europe/Ljubljana:20240220T120000
DTSTAMP:20260419T193607Z
UID:fs-AFLABS-URNIK:srecanje:9298-2024-02-20 10:00:00+01:00
DESCRIPTION:Predmet: Dinamika strojev in konstrukcij (DSKM)\, Laboratorijs
 ke vaje (VL)\, [S2]\nLetniki: Mehanika (MAG-1)\nIzvajalci: Martin Česnik\
 , Miha Kodrič\, Gašper Krivic\, Miha Pogačar\nProstor: Računalniška p
 redavalnica LADISK  I/4B
END:VEVENT
BEGIN:VEVENT
SUMMARY:Dinamika strojev in konstrukcij (DSKM)\, Laboratorijske vaje (VL)\
 , [S2]
DTSTART;TZID=Europe/Ljubljana:20240227T100000
DTEND;TZID=Europe/Ljubljana:20240227T120000
DTSTAMP:20260419T193607Z
UID:fs-AFLABS-URNIK:srecanje:9298-2024-02-27 10:00:00+01:00
DESCRIPTION:Predmet: Dinamika strojev in konstrukcij (DSKM)\, Laboratorijs
 ke vaje (VL)\, [S2]\nLetniki: Mehanika (MAG-1)\nIzvajalci: Martin Česnik\
 , Miha Kodrič\, Gašper Krivic\, Miha Pogačar\nProstor: Računalniška p
 redavalnica LADISK  I/4B
END:VEVENT
BEGIN:VEVENT
SUMMARY:Dinamika strojev in konstrukcij (DSKM)\, Laboratorijske vaje (VL)\
 , [S2]
DTSTART;TZID=Europe/Ljubljana:20240305T100000
DTEND;TZID=Europe/Ljubljana:20240305T120000
DTSTAMP:20260419T193607Z
UID:fs-AFLABS-URNIK:srecanje:9298-2024-03-05 10:00:00+01:00
DESCRIPTION:Predmet: Dinamika strojev in konstrukcij (DSKM)\, Laboratorijs
 ke vaje (VL)\, [S2]\nLetniki: Mehanika (MAG-1)\nIzvajalci: Martin Česnik\
 , Miha Kodrič\, Gašper Krivic\, Miha Pogačar\nProstor: Računalniška p
 redavalnica LADISK  I/4B
END:VEVENT
BEGIN:VEVENT
SUMMARY:Dinamika strojev in konstrukcij (DSKM)\, Laboratorijske vaje (VL)\
 , [S2]
DTSTART;TZID=Europe/Ljubljana:20240312T100000
DTEND;TZID=Europe/Ljubljana:20240312T120000
DTSTAMP:20260419T193607Z
UID:fs-AFLABS-URNIK:srecanje:9298-2024-03-12 10:00:00+01:00
DESCRIPTION:Predmet: Dinamika strojev in konstrukcij (DSKM)\, Laboratorijs
 ke vaje (VL)\, [S2]\nLetniki: Mehanika (MAG-1)\nIzvajalci: Martin Česnik\
 , Miha Kodrič\, Gašper Krivic\, Miha Pogačar\nProstor: Računalniška p
 redavalnica LADISK  I/4B
END:VEVENT
BEGIN:VEVENT
SUMMARY:Dinamika strojev in konstrukcij (DSKM)\, Laboratorijske vaje (VL)\
 , [S3]
DTSTART;TZID=Europe/Ljubljana:20240223T100000
DTEND;TZID=Europe/Ljubljana:20240223T120000
DTSTAMP:20260419T193607Z
UID:fs-AFLABS-URNIK:srecanje:8934-2024-02-23 10:00:00+01:00
DESCRIPTION:Predmet: Dinamika strojev in konstrukcij (DSKM)\, Laboratorijs
 ke vaje (VL)\, [S3]\nLetniki: Mehanika (MAG-1)\nIzvajalci: Miha Kodrič\, 
 Gašper Krivic\, Miha Pogačar\nProstor: Računalniška predavalnica LADIS
 K  I/4B
END:VEVENT
BEGIN:VEVENT
SUMMARY:Dinamika strojev in konstrukcij (DSKM)\, Laboratorijske vaje (VL)\
 , [S3]
DTSTART;TZID=Europe/Ljubljana:20240301T100000
DTEND;TZID=Europe/Ljubljana:20240301T120000
DTSTAMP:20260419T193607Z
UID:fs-AFLABS-URNIK:srecanje:8934-2024-03-01 10:00:00+01:00
DESCRIPTION:Predmet: Dinamika strojev in konstrukcij (DSKM)\, Laboratorijs
 ke vaje (VL)\, [S3]\nLetniki: Mehanika (MAG-1)\nIzvajalci: Miha Kodrič\, 
 Gašper Krivic\, Miha Pogačar\nProstor: Računalniška predavalnica LADIS
 K  I/4B
END:VEVENT
BEGIN:VEVENT
SUMMARY:Dinamika strojev in konstrukcij (DSKM)\, Laboratorijske vaje (VL)\
 , [S3]
DTSTART;TZID=Europe/Ljubljana:20240308T100000
DTEND;TZID=Europe/Ljubljana:20240308T120000
DTSTAMP:20260419T193607Z
UID:fs-AFLABS-URNIK:srecanje:8934-2024-03-08 10:00:00+01:00
DESCRIPTION:Predmet: Dinamika strojev in konstrukcij (DSKM)\, Laboratorijs
 ke vaje (VL)\, [S3]\nLetniki: Mehanika (MAG-1)\nIzvajalci: Miha Kodrič\, 
 Gašper Krivic\, Miha Pogačar\nProstor: Računalniška predavalnica LADIS
 K  I/4B
END:VEVENT
BEGIN:VEVENT
SUMMARY:Dinamika strojev in konstrukcij (DSKM)\, Laboratorijske vaje (VL)\
 , [S3]
DTSTART;TZID=Europe/Ljubljana:20240315T100000
DTEND;TZID=Europe/Ljubljana:20240315T120000
DTSTAMP:20260419T193607Z
UID:fs-AFLABS-URNIK:srecanje:8934-2024-03-15 10:00:00+01:00
DESCRIPTION:Predmet: Dinamika strojev in konstrukcij (DSKM)\, Laboratorijs
 ke vaje (VL)\, [S3]\nLetniki: Mehanika (MAG-1)\nIzvajalci: Miha Kodrič\, 
 Gašper Krivic\, Miha Pogačar\nProstor: Računalniška predavalnica LADIS
 K  I/4B
END:VEVENT
BEGIN:VEVENT
SUMMARY:Dinamika strojev in konstrukcij (DSKM)\, Laboratorijske vaje (VL)\
 , [S4]
DTSTART;TZID=Europe/Ljubljana:20240223T120000
DTEND;TZID=Europe/Ljubljana:20240223T140000
DTSTAMP:20260419T193607Z
UID:fs-AFLABS-URNIK:srecanje:8937-2024-02-23 12:00:00+01:00
DESCRIPTION:Predmet: Dinamika strojev in konstrukcij (DSKM)\, Laboratorijs
 ke vaje (VL)\, [S4]\nLetniki: Mehanika (MAG-1)\nIzvajalci: Gašper Krivic\
 , Miha Pogačar\nProstor: Računalniška predavalnica LADISK  I/4B
END:VEVENT
BEGIN:VEVENT
SUMMARY:Dinamika strojev in konstrukcij (DSKM)\, Laboratorijske vaje (VL)\
 , [S4]
DTSTART;TZID=Europe/Ljubljana:20240301T120000
DTEND;TZID=Europe/Ljubljana:20240301T140000
DTSTAMP:20260419T193607Z
UID:fs-AFLABS-URNIK:srecanje:8937-2024-03-01 12:00:00+01:00
DESCRIPTION:Predmet: Dinamika strojev in konstrukcij (DSKM)\, Laboratorijs
 ke vaje (VL)\, [S4]\nLetniki: Mehanika (MAG-1)\nIzvajalci: Gašper Krivic\
 , Miha Pogačar\nProstor: Računalniška predavalnica LADISK  I/4B
END:VEVENT
BEGIN:VEVENT
SUMMARY:Dinamika strojev in konstrukcij (DSKM)\, Laboratorijske vaje (VL)\
 , [S4]
DTSTART;TZID=Europe/Ljubljana:20240308T120000
DTEND;TZID=Europe/Ljubljana:20240308T140000
DTSTAMP:20260419T193607Z
UID:fs-AFLABS-URNIK:srecanje:8937-2024-03-08 12:00:00+01:00
DESCRIPTION:Predmet: Dinamika strojev in konstrukcij (DSKM)\, Laboratorijs
 ke vaje (VL)\, [S4]\nLetniki: Mehanika (MAG-1)\nIzvajalci: Gašper Krivic\
 , Miha Pogačar\nProstor: Računalniška predavalnica LADISK  I/4B
END:VEVENT
BEGIN:VEVENT
SUMMARY:Dinamika strojev in konstrukcij (DSKM)\, Laboratorijske vaje (VL)\
 , [S4]
DTSTART;TZID=Europe/Ljubljana:20240315T120000
DTEND;TZID=Europe/Ljubljana:20240315T140000
DTSTAMP:20260419T193607Z
UID:fs-AFLABS-URNIK:srecanje:8937-2024-03-15 12:00:00+01:00
DESCRIPTION:Predmet: Dinamika strojev in konstrukcij (DSKM)\, Laboratorijs
 ke vaje (VL)\, [S4]\nLetniki: Mehanika (MAG-1)\nIzvajalci: Gašper Krivic\
 , Miha Pogačar\nProstor: Računalniška predavalnica LADISK  I/4B
END:VEVENT
END:VCALENDAR
