BEGIN:VCALENDAR
VERSION:2.0
PRODID:-//AFLabs urnik izvoz - fs//aflabs.si//SI
NAME:UL FS Urnik
X-WR-CALNAME:UL FS Urnik
DTSTAMP:20260423T223858Z
REFRESH-INTERVAL:PT1H
SOURCE:https://urnik.fs.uni-lj.si/teacher/814/?day=2024-09-09&export=1
URL:https://urnik.fs.uni-lj.si/teacher/814/?day=2024-09-09&export=1
X-PUBLISHED-TTL:PT1H
X-WR-TIMEZONE:Europe/Ljubljana
BEGIN:VTIMEZONE
TZID:Europe/Ljubljana
BEGIN:DAYLIGHT
DTSTART:20260329T020000
RDATE:20260329T020000
RDATE:20270328T020000
TZNAME:CEST
TZOFFSETFROM:+0100
TZOFFSETTO:+0200
END:DAYLIGHT
BEGIN:STANDARD
DTSTART:20261025T030000
RDATE:20261025T030000
RDATE:20271031T030000
TZNAME:CET
TZOFFSETFROM:+0200
TZOFFSETTO:+0100
END:STANDARD
END:VTIMEZONE
BEGIN:VEVENT
SUMMARY:Vzdrževanje (VZDP)\, Predavalniške vaje (VP)\, [S1]
DTSTART;TZID=Europe/Ljubljana:20240930T093000
DTEND;TZID=Europe/Ljubljana:20240930T113000
DTSTAMP:20260423T223858Z
UID:fs-AFLABS-URNIK:srecanje:7765-2024-09-30 09:30:00+02:00
DESCRIPTION:Predmet: Vzdrževanje (VZDP)\, Predavalniške vaje (VP)\, [S1]
 \nLetniki: Energetsko strojništvo (PAP-2)\, Industrijsko inženirstvo (PA
 P-2)\, Konstruiranje industrijskih sistemov (PAP-2)\, Konstruiranje stroje
 v in naprav (PAP-2)\, Mehatronika (PAP-2)\, Procesno strojništvo (PAP-2)\
 , Proizvodne tehnologije (PAP-2)\nIzvajalci: Marko Polajnar\nProstor: Pred
 avalnica II/3B
END:VEVENT
BEGIN:VEVENT
SUMMARY:Vzdrževanje (VZDP)\, Predavalniške vaje (VP)\, [S1]
DTSTART;TZID=Europe/Ljubljana:20241007T093000
DTEND;TZID=Europe/Ljubljana:20241007T113000
DTSTAMP:20260423T223858Z
UID:fs-AFLABS-URNIK:srecanje:7765-2024-10-07 09:30:00+02:00
DESCRIPTION:Predmet: Vzdrževanje (VZDP)\, Predavalniške vaje (VP)\, [S1]
 \nLetniki: Energetsko strojništvo (PAP-2)\, Industrijsko inženirstvo (PA
 P-2)\, Konstruiranje industrijskih sistemov (PAP-2)\, Konstruiranje stroje
 v in naprav (PAP-2)\, Mehatronika (PAP-2)\, Procesno strojništvo (PAP-2)\
 , Proizvodne tehnologije (PAP-2)\nIzvajalci: Marko Polajnar\nProstor: Pred
 avalnica II/3B
END:VEVENT
BEGIN:VEVENT
SUMMARY:Vzdrževanje (VZDP)\, Predavalniške vaje (VP)\, [S1]
DTSTART;TZID=Europe/Ljubljana:20241014T093000
DTEND;TZID=Europe/Ljubljana:20241014T113000
DTSTAMP:20260423T223858Z
UID:fs-AFLABS-URNIK:srecanje:7765-2024-10-14 09:30:00+02:00
DESCRIPTION:Predmet: Vzdrževanje (VZDP)\, Predavalniške vaje (VP)\, [S1]
 \nLetniki: Energetsko strojništvo (PAP-2)\, Industrijsko inženirstvo (PA
 P-2)\, Konstruiranje industrijskih sistemov (PAP-2)\, Konstruiranje stroje
 v in naprav (PAP-2)\, Mehatronika (PAP-2)\, Procesno strojništvo (PAP-2)\
 , Proizvodne tehnologije (PAP-2)\nIzvajalci: Marko Polajnar\nProstor: Pred
 avalnica II/3B
END:VEVENT
BEGIN:VEVENT
SUMMARY:Vzdrževanje (VZDP)\, Predavalniške vaje (VP)\, [S2]
DTSTART;TZID=Europe/Ljubljana:20240930T153000
DTEND;TZID=Europe/Ljubljana:20240930T173000
DTSTAMP:20260423T223858Z
UID:fs-AFLABS-URNIK:srecanje:10604-2024-09-30 15:30:00+02:00
DESCRIPTION:Predmet: Vzdrževanje (VZDP)\, Predavalniške vaje (VP)\, [S2]
 \nLetniki: Energetsko strojništvo (PAP-2)\, Industrijsko inženirstvo (PA
 P-2)\, Konstruiranje industrijskih sistemov (PAP-2)\, Konstruiranje stroje
 v in naprav (PAP-2)\, Mehatronika (PAP-2)\, Procesno strojništvo (PAP-2)\
 , Proizvodne tehnologije (PAP-2)\nIzvajalci: Marko Polajnar\, Ana Trajkovs
 ki\nProstor: Predavalnica III/3A
END:VEVENT
BEGIN:VEVENT
SUMMARY:Vzdrževanje (VZDP)\, Predavalniške vaje (VP)\, [S2]
DTSTART;TZID=Europe/Ljubljana:20241007T153000
DTEND;TZID=Europe/Ljubljana:20241007T173000
DTSTAMP:20260423T223858Z
UID:fs-AFLABS-URNIK:srecanje:10604-2024-10-07 15:30:00+02:00
DESCRIPTION:Predmet: Vzdrževanje (VZDP)\, Predavalniške vaje (VP)\, [S2]
 \nLetniki: Energetsko strojništvo (PAP-2)\, Industrijsko inženirstvo (PA
 P-2)\, Konstruiranje industrijskih sistemov (PAP-2)\, Konstruiranje stroje
 v in naprav (PAP-2)\, Mehatronika (PAP-2)\, Procesno strojništvo (PAP-2)\
 , Proizvodne tehnologije (PAP-2)\nIzvajalci: Marko Polajnar\, Ana Trajkovs
 ki\nProstor: Predavalnica III/3A
END:VEVENT
BEGIN:VEVENT
SUMMARY:Vzdrževanje (VZDP)\, Predavalniške vaje (VP)\, [S2]
DTSTART;TZID=Europe/Ljubljana:20241014T153000
DTEND;TZID=Europe/Ljubljana:20241014T173000
DTSTAMP:20260423T223858Z
UID:fs-AFLABS-URNIK:srecanje:10604-2024-10-14 15:30:00+02:00
DESCRIPTION:Predmet: Vzdrževanje (VZDP)\, Predavalniške vaje (VP)\, [S2]
 \nLetniki: Energetsko strojništvo (PAP-2)\, Industrijsko inženirstvo (PA
 P-2)\, Konstruiranje industrijskih sistemov (PAP-2)\, Konstruiranje stroje
 v in naprav (PAP-2)\, Mehatronika (PAP-2)\, Procesno strojništvo (PAP-2)\
 , Proizvodne tehnologije (PAP-2)\nIzvajalci: Marko Polajnar\, Ana Trajkovs
 ki\nProstor: Predavalnica III/3A
END:VEVENT
BEGIN:VEVENT
SUMMARY:Vzdrževanje (VZDP)\, Predavalniške vaje (VP)\, [S3]
DTSTART;TZID=Europe/Ljubljana:20240930T113000
DTEND;TZID=Europe/Ljubljana:20240930T133000
DTSTAMP:20260423T223858Z
UID:fs-AFLABS-URNIK:srecanje:10605-2024-09-30 11:30:00+02:00
DESCRIPTION:Predmet: Vzdrževanje (VZDP)\, Predavalniške vaje (VP)\, [S3]
 \nLetniki: Energetsko strojništvo (PAP-2)\, Industrijsko inženirstvo (PA
 P-2)\, Konstruiranje industrijskih sistemov (PAP-2)\, Konstruiranje stroje
 v in naprav (PAP-2)\, Mehatronika (PAP-2)\, Procesno strojništvo (PAP-2)\
 , Proizvodne tehnologije (PAP-2)\nIzvajalci: Lucija Čoga\, Marko Polajnar
 \nProstor: Predavalnica IV/2
END:VEVENT
BEGIN:VEVENT
SUMMARY:Vzdrževanje (VZDP)\, Predavalniške vaje (VP)\, [S3]
DTSTART;TZID=Europe/Ljubljana:20241007T113000
DTEND;TZID=Europe/Ljubljana:20241007T133000
DTSTAMP:20260423T223858Z
UID:fs-AFLABS-URNIK:srecanje:10605-2024-10-07 11:30:00+02:00
DESCRIPTION:Predmet: Vzdrževanje (VZDP)\, Predavalniške vaje (VP)\, [S3]
 \nLetniki: Energetsko strojništvo (PAP-2)\, Industrijsko inženirstvo (PA
 P-2)\, Konstruiranje industrijskih sistemov (PAP-2)\, Konstruiranje stroje
 v in naprav (PAP-2)\, Mehatronika (PAP-2)\, Procesno strojništvo (PAP-2)\
 , Proizvodne tehnologije (PAP-2)\nIzvajalci: Lucija Čoga\, Marko Polajnar
 \nProstor: Predavalnica IV/2
END:VEVENT
BEGIN:VEVENT
SUMMARY:Vzdrževanje (VZDP)\, Predavalniške vaje (VP)\, [S3]
DTSTART;TZID=Europe/Ljubljana:20241014T113000
DTEND;TZID=Europe/Ljubljana:20241014T133000
DTSTAMP:20260423T223858Z
UID:fs-AFLABS-URNIK:srecanje:10605-2024-10-14 11:30:00+02:00
DESCRIPTION:Predmet: Vzdrževanje (VZDP)\, Predavalniške vaje (VP)\, [S3]
 \nLetniki: Energetsko strojništvo (PAP-2)\, Industrijsko inženirstvo (PA
 P-2)\, Konstruiranje industrijskih sistemov (PAP-2)\, Konstruiranje stroje
 v in naprav (PAP-2)\, Mehatronika (PAP-2)\, Procesno strojništvo (PAP-2)\
 , Proizvodne tehnologije (PAP-2)\nIzvajalci: Lucija Čoga\, Marko Polajnar
 \nProstor: Predavalnica IV/2
END:VEVENT
BEGIN:VEVENT
SUMMARY:Tribologija (TRBR)\, Predavalniške vaje (VP)
DTSTART;TZID=Europe/Ljubljana:20241001T100000
DTEND;TZID=Europe/Ljubljana:20241001T120000
DTSTAMP:20260423T223858Z
UID:fs-AFLABS-URNIK:srecanje:7664-2024-10-01 10:00:00+02:00
DESCRIPTION:Predmet: Tribologija (TRBR)\, Predavalniške vaje (VP)\nLetnik
 i: RRP-3 (RRP-3)\nIzvajalci: Lucija Čoga\, Petra Jan\, Urban Klanjšček\
 , Nejc Osolnik\, Marko Polajnar\, Tomaž Požar\, Anastasia Samodurova\, J
 ožica Sterle\nProstor: Predavalnica IV/4
END:VEVENT
BEGIN:VEVENT
SUMMARY:Tribologija (TRBR)\, Predavalniške vaje (VP)
DTSTART;TZID=Europe/Ljubljana:20241008T100000
DTEND;TZID=Europe/Ljubljana:20241008T120000
DTSTAMP:20260423T223858Z
UID:fs-AFLABS-URNIK:srecanje:7664-2024-10-08 10:00:00+02:00
DESCRIPTION:Predmet: Tribologija (TRBR)\, Predavalniške vaje (VP)\nLetnik
 i: RRP-3 (RRP-3)\nIzvajalci: Lucija Čoga\, Petra Jan\, Urban Klanjšček\
 , Nejc Osolnik\, Marko Polajnar\, Tomaž Požar\, Anastasia Samodurova\, J
 ožica Sterle\nProstor: Predavalnica IV/4
END:VEVENT
BEGIN:VEVENT
SUMMARY:Vzdrževanje (VZDP)\, Predavanja (P)
DTSTART;TZID=Europe/Ljubljana:20241003T073000
DTEND;TZID=Europe/Ljubljana:20241003T093000
DTSTAMP:20260423T223858Z
UID:fs-AFLABS-URNIK:srecanje:7724-2024-10-03 07:30:00+02:00
DESCRIPTION:Predmet: Vzdrževanje (VZDP)\, Predavanja (P)\nLetniki: Energe
 tsko strojništvo (PAP-2)\, Industrijsko inženirstvo (PAP-2)\, Konstruira
 nje industrijskih sistemov (PAP-2)\, Konstruiranje strojev in naprav (PAP-
 2)\, Mehatronika (PAP-2)\, Procesno strojništvo (PAP-2)\, Proizvodne tehn
 ologije (PAP-2)\nIzvajalci: Mitjan Kalin\, Franc Majdič\, Marko Polajnar\
 nProstor: Predavalnica V/2
END:VEVENT
BEGIN:VEVENT
SUMMARY:Vzdrževanje (VZDP)\, Predavanja (P)
DTSTART;TZID=Europe/Ljubljana:20241010T073000
DTEND;TZID=Europe/Ljubljana:20241010T093000
DTSTAMP:20260423T223858Z
UID:fs-AFLABS-URNIK:srecanje:7724-2024-10-10 07:30:00+02:00
DESCRIPTION:Predmet: Vzdrževanje (VZDP)\, Predavanja (P)\nLetniki: Energe
 tsko strojništvo (PAP-2)\, Industrijsko inženirstvo (PAP-2)\, Konstruira
 nje industrijskih sistemov (PAP-2)\, Konstruiranje strojev in naprav (PAP-
 2)\, Mehatronika (PAP-2)\, Procesno strojništvo (PAP-2)\, Proizvodne tehn
 ologije (PAP-2)\nIzvajalci: Mitjan Kalin\, Franc Majdič\, Marko Polajnar\
 nProstor: Predavalnica V/2
END:VEVENT
BEGIN:VEVENT
SUMMARY:Pogoni (PGNR)\, Predavalniške vaje (VP)
DTSTART;TZID=Europe/Ljubljana:20241003T160000
DTEND;TZID=Europe/Ljubljana:20241003T180000
DTSTAMP:20260423T223858Z
UID:fs-AFLABS-URNIK:srecanje:7181-2024-10-03 16:00:00+02:00
DESCRIPTION:Predmet: Pogoni (PGNR)\, Predavalniške vaje (VP)\nLetniki: RR
 P-3 (RRP-3)\nIzvajalci: Lucija Čoga\, Petra Jan\, Urban Klanjšček\, Nej
 c Osolnik\, Marko Polajnar\, Tomaž Požar\, Anastasia Samodurova\, Jožic
 a Sterle\nProstor: Predavalnica IV/4
END:VEVENT
BEGIN:VEVENT
SUMMARY:Poškodbe strojev in površin (PSPP)\, Predavalniške vaje (VP)
DTSTART;TZID=Europe/Ljubljana:20241004T093000
DTEND;TZID=Europe/Ljubljana:20241004T113000
DTSTAMP:20260423T223858Z
UID:fs-AFLABS-URNIK:srecanje:10819-2024-10-04 09:30:00+02:00
DESCRIPTION:Predmet: Poškodbe strojev in površin (PSPP)\, Predavalniške
  vaje (VP)\nLetniki: Konstruiranje industrijskih sistemov (PAP-3)\nIzvajal
 ci: Lucija Čoga\, Petra Jan\, Urban Klanjšček\, Nejc Osolnik\, Marko Po
 lajnar\, Tomaž Požar\, Anastasia Samodurova\, Jožica Sterle\nProstor: P
 redavalnica IV/4
END:VEVENT
BEGIN:VEVENT
SUMMARY:Poškodbe strojev in površin (PSPP)\, Predavalniške vaje (VP)
DTSTART;TZID=Europe/Ljubljana:20241011T093000
DTEND;TZID=Europe/Ljubljana:20241011T113000
DTSTAMP:20260423T223858Z
UID:fs-AFLABS-URNIK:srecanje:10819-2024-10-11 09:30:00+02:00
DESCRIPTION:Predmet: Poškodbe strojev in površin (PSPP)\, Predavalniške
  vaje (VP)\nLetniki: Konstruiranje industrijskih sistemov (PAP-3)\nIzvajal
 ci: Lucija Čoga\, Petra Jan\, Urban Klanjšček\, Nejc Osolnik\, Marko Po
 lajnar\, Tomaž Požar\, Anastasia Samodurova\, Jožica Sterle\nProstor: P
 redavalnica IV/4
END:VEVENT
BEGIN:VEVENT
SUMMARY:Vzdrževanje letal (VZLP)\, Predavanja (P)
DTSTART;TZID=Europe/Ljubljana:20241004T100000
DTEND;TZID=Europe/Ljubljana:20241004T120000
DTSTAMP:20260423T223858Z
UID:fs-AFLABS-URNIK:srecanje:12518-2024-10-04 10:00:00+02:00
DESCRIPTION:Predmet: Vzdrževanje letal (VZLP)\, Predavanja (P)\nLetniki: 
 Prometni pilot letala/helikopterja (PAP-2)\, Snovanje in vzdrževanje leta
 l (PAP-2)\nIzvajalci: Mitjan Kalin\, Franc Majdič\, Marko Polajnar\nProst
 or: Laboratorij LAMEK\, LAPN III/5
END:VEVENT
BEGIN:VEVENT
SUMMARY:Vzdrževanje letal (VZLP)\, Predavanja (P)
DTSTART;TZID=Europe/Ljubljana:20241011T100000
DTEND;TZID=Europe/Ljubljana:20241011T120000
DTSTAMP:20260423T223858Z
UID:fs-AFLABS-URNIK:srecanje:12518-2024-10-11 10:00:00+02:00
DESCRIPTION:Predmet: Vzdrževanje letal (VZLP)\, Predavanja (P)\nLetniki: 
 Prometni pilot letala/helikopterja (PAP-2)\, Snovanje in vzdrževanje leta
 l (PAP-2)\nIzvajalci: Mitjan Kalin\, Franc Majdič\, Marko Polajnar\nProst
 or: Laboratorij LAMEK\, LAPN III/5
END:VEVENT
BEGIN:VEVENT
SUMMARY:Vzdrževanje (VZDP)\, Predavalniške vaje (VP)\, [S4]
DTSTART;TZID=Europe/Ljubljana:20241004T133000
DTEND;TZID=Europe/Ljubljana:20241004T153000
DTSTAMP:20260423T223858Z
UID:fs-AFLABS-URNIK:srecanje:7770-2024-10-04 13:30:00+02:00
DESCRIPTION:Predmet: Vzdrževanje (VZDP)\, Predavalniške vaje (VP)\, [S4]
 \nLetniki: Energetsko strojništvo (PAP-2)\, Industrijsko inženirstvo (PA
 P-2)\, Konstruiranje industrijskih sistemov (PAP-2)\, Konstruiranje stroje
 v in naprav (PAP-2)\, Mehatronika (PAP-2)\, Procesno strojništvo (PAP-2)\
 , Proizvodne tehnologije (PAP-2)\nIzvajalci: Marko Polajnar\nProstor: Pred
 avalnica IV/2
END:VEVENT
BEGIN:VEVENT
SUMMARY:Vzdrževanje (VZDP)\, Predavalniške vaje (VP)\, [S4]
DTSTART;TZID=Europe/Ljubljana:20241011T133000
DTEND;TZID=Europe/Ljubljana:20241011T153000
DTSTAMP:20260423T223858Z
UID:fs-AFLABS-URNIK:srecanje:7770-2024-10-11 13:30:00+02:00
DESCRIPTION:Predmet: Vzdrževanje (VZDP)\, Predavalniške vaje (VP)\, [S4]
 \nLetniki: Energetsko strojništvo (PAP-2)\, Industrijsko inženirstvo (PA
 P-2)\, Konstruiranje industrijskih sistemov (PAP-2)\, Konstruiranje stroje
 v in naprav (PAP-2)\, Mehatronika (PAP-2)\, Procesno strojništvo (PAP-2)\
 , Proizvodne tehnologije (PAP-2)\nIzvajalci: Marko Polajnar\nProstor: Pred
 avalnica IV/2
END:VEVENT
BEGIN:VEVENT
SUMMARY:Pogoni (PGNR)\, Laboratorijske vaje (VL)\, [S7]
DTSTART;TZID=Europe/Ljubljana:20241009T180000
DTEND;TZID=Europe/Ljubljana:20241009T200000
DTSTAMP:20260423T223858Z
UID:fs-AFLABS-URNIK:srecanje:12589-2024-10-09 18:00:00+02:00
DESCRIPTION:Predmet: Pogoni (PGNR)\, Laboratorijske vaje (VL)\, [S7]\nLetn
 iki: RRP-3 (RRP-3)\nIzvajalci: Petra Jan\, Igor Mele\, Nejc Osolnik\, Mark
 o Polajnar\nProstor: Laboratirij LICEM SK-15
END:VEVENT
BEGIN:VEVENT
SUMMARY:Pogoni (PGNR)\, Laboratorijske vaje (VL)\, [S10]
DTSTART;TZID=Europe/Ljubljana:20241010T180000
DTEND;TZID=Europe/Ljubljana:20241010T200000
DTSTAMP:20260423T223858Z
UID:fs-AFLABS-URNIK:srecanje:12595-2024-10-10 18:00:00+02:00
DESCRIPTION:Predmet: Pogoni (PGNR)\, Laboratorijske vaje (VL)\, [S10]\nLet
 niki: RRP-3 (RRP-3)\nIzvajalci: Mark Kuzman\, Marko Polajnar\, Matej Prija
 telj\nProstor: Laboratirij LICEM SK-15
END:VEVENT
BEGIN:VEVENT
SUMMARY:Tribologija (TRBR)\, Laboratorijske vaje (VL)\, [S1]
DTSTART;TZID=Europe/Ljubljana:20241014T150000
DTEND;TZID=Europe/Ljubljana:20241014T170000
DTSTAMP:20260423T223858Z
UID:fs-AFLABS-URNIK:srecanje:11055-2024-10-14 15:00:00+02:00
DESCRIPTION:Predmet: Tribologija (TRBR)\, Laboratorijske vaje (VL)\, [S1]\
 nLetniki: RRP-3 (RRP-3)\nIzvajalci: Lucija Čoga\, Urban Klanjšček\, Nej
 c Osolnik\, Marko Polajnar\, Tomaž Požar\, Anastasia Samodurova\, Jožic
 a Sterle\nProstor: Predavalnica II/4
END:VEVENT
BEGIN:VEVENT
SUMMARY:Tribologija (TRBR)\, Laboratorijske vaje (VL)\, [S5]
DTSTART;TZID=Europe/Ljubljana:20241014T080000
DTEND;TZID=Europe/Ljubljana:20241014T100000
DTSTAMP:20260423T223858Z
UID:fs-AFLABS-URNIK:srecanje:10978-2024-10-14 08:00:00+02:00
DESCRIPTION:Predmet: Tribologija (TRBR)\, Laboratorijske vaje (VL)\, [S5]\
 nLetniki: RRP-3 (RRP-3)\nIzvajalci: Lucija Čoga\, Urban Klanjšček\, Nej
 c Osolnik\, Marko Polajnar\, Tomaž Požar\, Anastasia Samodurova\, Jožic
 a Sterle\nProstor: Predavalnica II/4
END:VEVENT
END:VCALENDAR
