BEGIN:VCALENDAR
VERSION:2.0
PRODID:-//AFLabs urnik izvoz - fs//aflabs.si//SI
NAME:UL FS Urnik
X-WR-CALNAME:UL FS Urnik
DTSTAMP:20260422T094749Z
REFRESH-INTERVAL:PT1H
SOURCE:https://urnik.fs.uni-lj.si/teacher/821/?day=2024-09-30&export=1
URL:https://urnik.fs.uni-lj.si/teacher/821/?day=2024-09-30&export=1
X-PUBLISHED-TTL:PT1H
X-WR-TIMEZONE:Europe/Ljubljana
BEGIN:VTIMEZONE
TZID:Europe/Ljubljana
BEGIN:DAYLIGHT
DTSTART:20260329T020000
RDATE:20260329T020000
RDATE:20270328T020000
TZNAME:CEST
TZOFFSETFROM:+0100
TZOFFSETTO:+0200
END:DAYLIGHT
BEGIN:STANDARD
DTSTART:20261025T030000
RDATE:20261025T030000
RDATE:20271031T030000
TZNAME:CET
TZOFFSETFROM:+0200
TZOFFSETTO:+0100
END:STANDARD
END:VTIMEZONE
BEGIN:VEVENT
SUMMARY:Sistemi komprimiranih medijev in vakuuma (SKMP)\, Predavalniške v
 aje (VP)
DTSTART;TZID=Europe/Ljubljana:20241001T153000
DTEND;TZID=Europe/Ljubljana:20241001T173000
DTSTAMP:20260422T094749Z
UID:fs-AFLABS-URNIK:srecanje:10458-2024-10-01 15:30:00+02:00
DESCRIPTION:Predmet: Sistemi komprimiranih medijev in vakuuma (SKMP)\, Pre
 davalniške vaje (VP)\nLetniki: Energetsko strojništvo (PAP-3)\nIzvajalci
 : Jurij Prezelj\nProstor: Predavalnica II/3A
END:VEVENT
BEGIN:VEVENT
SUMMARY:Sistemi komprimiranih medijev in vakuuma (SKMP)\, Predavanja (P)
DTSTART;TZID=Europe/Ljubljana:20241003T113000
DTEND;TZID=Europe/Ljubljana:20241003T133000
DTSTAMP:20260422T094749Z
UID:fs-AFLABS-URNIK:srecanje:7320-2024-10-03 11:30:00+02:00
DESCRIPTION:Predmet: Sistemi komprimiranih medijev in vakuuma (SKMP)\, Pre
 davanja (P)\nLetniki: Energetsko strojništvo (PAP-3)\nIzvajalci: Jurij Pr
 ezelj\nProstor: Predavalnica II/5
END:VEVENT
BEGIN:VEVENT
SUMMARY:Sistemi komprimiranih medijev in vakuuma (SKMP)\, Predavanja (P)
DTSTART;TZID=Europe/Ljubljana:20241010T113000
DTEND;TZID=Europe/Ljubljana:20241010T133000
DTSTAMP:20260422T094749Z
UID:fs-AFLABS-URNIK:srecanje:7320-2024-10-10 11:30:00+02:00
DESCRIPTION:Predmet: Sistemi komprimiranih medijev in vakuuma (SKMP)\, Pre
 davanja (P)\nLetniki: Energetsko strojništvo (PAP-3)\nIzvajalci: Jurij Pr
 ezelj\nProstor: Predavalnica II/5
END:VEVENT
BEGIN:VEVENT
SUMMARY:Sistemi komprimiranih medijev in vakuuma (SKMP)\, Predavanja (P)
DTSTART;TZID=Europe/Ljubljana:20241017T113000
DTEND;TZID=Europe/Ljubljana:20241017T133000
DTSTAMP:20260422T094749Z
UID:fs-AFLABS-URNIK:srecanje:7320-2024-10-17 11:30:00+02:00
DESCRIPTION:Predmet: Sistemi komprimiranih medijev in vakuuma (SKMP)\, Pre
 davanja (P)\nLetniki: Energetsko strojništvo (PAP-3)\nIzvajalci: Jurij Pr
 ezelj\nProstor: Predavalnica II/5
END:VEVENT
BEGIN:VEVENT
SUMMARY:Sistemi komprimiranih medijev in vakuuma (SKMP)\, Predavanja (P)
DTSTART;TZID=Europe/Ljubljana:20241024T113000
DTEND;TZID=Europe/Ljubljana:20241024T133000
DTSTAMP:20260422T094749Z
UID:fs-AFLABS-URNIK:srecanje:7320-2024-10-24 11:30:00+02:00
DESCRIPTION:Predmet: Sistemi komprimiranih medijev in vakuuma (SKMP)\, Pre
 davanja (P)\nLetniki: Energetsko strojništvo (PAP-3)\nIzvajalci: Jurij Pr
 ezelj\nProstor: Predavalnica II/5
END:VEVENT
BEGIN:VEVENT
SUMMARY:Technical Acoustics (TCAE)\, Predavanja (P)
DTSTART;TZID=Europe/Ljubljana:20241004T140000
DTEND;TZID=Europe/Ljubljana:20241004T160000
DTSTAMP:20260422T094749Z
UID:fs-AFLABS-URNIK:srecanje:10809-2024-10-04 14:00:00+02:00
DESCRIPTION:Predmet: Technical Acoustics (TCAE)\, Predavanja (P)\nLetniki:
  Erasmus (Erasmus)\nIzvajalci: Jurij Prezelj\nProstor: Predavalnica II/3A
END:VEVENT
BEGIN:VEVENT
SUMMARY:Technical Acoustics (TCAE)\, Predavanja (P)
DTSTART;TZID=Europe/Ljubljana:20241011T140000
DTEND;TZID=Europe/Ljubljana:20241011T160000
DTSTAMP:20260422T094749Z
UID:fs-AFLABS-URNIK:srecanje:10809-2024-10-11 14:00:00+02:00
DESCRIPTION:Predmet: Technical Acoustics (TCAE)\, Predavanja (P)\nLetniki:
  Erasmus (Erasmus)\nIzvajalci: Jurij Prezelj\nProstor: Predavalnica II/3A
END:VEVENT
BEGIN:VEVENT
SUMMARY:Technical Acoustics (TCAE)\, Predavanja (P)
DTSTART;TZID=Europe/Ljubljana:20241018T140000
DTEND;TZID=Europe/Ljubljana:20241018T160000
DTSTAMP:20260422T094749Z
UID:fs-AFLABS-URNIK:srecanje:10809-2024-10-18 14:00:00+02:00
DESCRIPTION:Predmet: Technical Acoustics (TCAE)\, Predavanja (P)\nLetniki:
  Erasmus (Erasmus)\nIzvajalci: Jurij Prezelj\nProstor: Predavalnica II/3A
END:VEVENT
BEGIN:VEVENT
SUMMARY:Technical Acoustics (TCAE)\, Predavanja (P)
DTSTART;TZID=Europe/Ljubljana:20241025T140000
DTEND;TZID=Europe/Ljubljana:20241025T160000
DTSTAMP:20260422T094749Z
UID:fs-AFLABS-URNIK:srecanje:10809-2024-10-25 14:00:00+02:00
DESCRIPTION:Predmet: Technical Acoustics (TCAE)\, Predavanja (P)\nLetniki:
  Erasmus (Erasmus)\nIzvajalci: Jurij Prezelj\nProstor: Predavalnica II/3A
END:VEVENT
BEGIN:VEVENT
SUMMARY:Sistemi komprimiranih medijev in vakuuma (SKMP)\, Laboratorijske v
 aje (VL)\, [S4]
DTSTART;TZID=Europe/Ljubljana:20241007T133000
DTEND;TZID=Europe/Ljubljana:20241007T153000
DTSTAMP:20260422T094749Z
UID:fs-AFLABS-URNIK:srecanje:7324-2024-10-07 13:30:00+02:00
DESCRIPTION:Predmet: Sistemi komprimiranih medijev in vakuuma (SKMP)\, Lab
 oratorijske vaje (VL)\, [S4]\nLetniki: Energetsko strojništvo (PAP-3)\nIz
 vajalci: Jurij Prezelj\nProstor: Laboratorij LDSTA SP-72
END:VEVENT
BEGIN:VEVENT
SUMMARY:Sistemi komprimiranih medijev in vakuuma (SKMP)\, Laboratorijske v
 aje (VL)\, [S4]
DTSTART;TZID=Europe/Ljubljana:20241014T133000
DTEND;TZID=Europe/Ljubljana:20241014T153000
DTSTAMP:20260422T094749Z
UID:fs-AFLABS-URNIK:srecanje:7324-2024-10-14 13:30:00+02:00
DESCRIPTION:Predmet: Sistemi komprimiranih medijev in vakuuma (SKMP)\, Lab
 oratorijske vaje (VL)\, [S4]\nLetniki: Energetsko strojništvo (PAP-3)\nIz
 vajalci: Jurij Prezelj\nProstor: Laboratorij LDSTA SP-72
END:VEVENT
BEGIN:VEVENT
SUMMARY:Sistemi komprimiranih medijev in vakuuma (SKMP)\, Laboratorijske v
 aje (VL)\, [S4]
DTSTART;TZID=Europe/Ljubljana:20241021T133000
DTEND;TZID=Europe/Ljubljana:20241021T153000
DTSTAMP:20260422T094749Z
UID:fs-AFLABS-URNIK:srecanje:7324-2024-10-21 13:30:00+02:00
DESCRIPTION:Predmet: Sistemi komprimiranih medijev in vakuuma (SKMP)\, Lab
 oratorijske vaje (VL)\, [S4]\nLetniki: Energetsko strojništvo (PAP-3)\nIz
 vajalci: Jurij Prezelj\nProstor: Laboratorij LDSTA SP-72
END:VEVENT
BEGIN:VEVENT
SUMMARY:Sistemi komprimiranih medijev in vakuuma (SKMP)\, Laboratorijske v
 aje (VL)\, [S4]
DTSTART;TZID=Europe/Ljubljana:20241104T133000
DTEND;TZID=Europe/Ljubljana:20241104T153000
DTSTAMP:20260422T094749Z
UID:fs-AFLABS-URNIK:srecanje:7324-2024-11-04 13:30:00+01:00
DESCRIPTION:Predmet: Sistemi komprimiranih medijev in vakuuma (SKMP)\, Lab
 oratorijske vaje (VL)\, [S4]\nLetniki: Energetsko strojništvo (PAP-3)\nIz
 vajalci: Jurij Prezelj\nProstor: Laboratorij LDSTA SP-72
END:VEVENT
BEGIN:VEVENT
SUMMARY:Tehniška akustika (THAM)\, Predavanja (P)
DTSTART;TZID=Europe/Ljubljana:20241007T140000
DTEND;TZID=Europe/Ljubljana:20241007T160000
DTSTAMP:20260422T094749Z
UID:fs-AFLABS-URNIK:srecanje:10555-2024-10-07 14:00:00+02:00
DESCRIPTION:Predmet: Tehniška akustika (THAM)\, Predavanja (P)\nLetniki: 
 Energetsko strojništvo (MAG-2)\nIzvajalci: Jurij Prezelj\nProstor: Predav
 alnica III/3B
END:VEVENT
BEGIN:VEVENT
SUMMARY:Tehniška akustika (THAM)\, Predavanja (P)
DTSTART;TZID=Europe/Ljubljana:20241014T140000
DTEND;TZID=Europe/Ljubljana:20241014T160000
DTSTAMP:20260422T094749Z
UID:fs-AFLABS-URNIK:srecanje:10555-2024-10-14 14:00:00+02:00
DESCRIPTION:Predmet: Tehniška akustika (THAM)\, Predavanja (P)\nLetniki: 
 Energetsko strojništvo (MAG-2)\nIzvajalci: Jurij Prezelj\nProstor: Predav
 alnica III/3B
END:VEVENT
BEGIN:VEVENT
SUMMARY:Tehniška akustika (THAM)\, Predavanja (P)
DTSTART;TZID=Europe/Ljubljana:20241021T140000
DTEND;TZID=Europe/Ljubljana:20241021T160000
DTSTAMP:20260422T094749Z
UID:fs-AFLABS-URNIK:srecanje:10555-2024-10-21 14:00:00+02:00
DESCRIPTION:Predmet: Tehniška akustika (THAM)\, Predavanja (P)\nLetniki: 
 Energetsko strojništvo (MAG-2)\nIzvajalci: Jurij Prezelj\nProstor: Predav
 alnica III/3B
END:VEVENT
BEGIN:VEVENT
SUMMARY:Tehniška akustika (THAM)\, Predavanja (P)
DTSTART;TZID=Europe/Ljubljana:20241104T140000
DTEND;TZID=Europe/Ljubljana:20241104T160000
DTSTAMP:20260422T094749Z
UID:fs-AFLABS-URNIK:srecanje:10555-2024-11-04 14:00:00+01:00
DESCRIPTION:Predmet: Tehniška akustika (THAM)\, Predavanja (P)\nLetniki: 
 Energetsko strojništvo (MAG-2)\nIzvajalci: Jurij Prezelj\nProstor: Predav
 alnica III/3B
END:VEVENT
BEGIN:VEVENT
SUMMARY:Sistemi komprimiranih medijev in vakuuma (SKMP)\, Laboratorijske v
 aje (VL)\, [S1]
DTSTART;TZID=Europe/Ljubljana:20241008T153000
DTEND;TZID=Europe/Ljubljana:20241008T173000
DTSTAMP:20260422T094749Z
UID:fs-AFLABS-URNIK:srecanje:7321-2024-10-08 15:30:00+02:00
DESCRIPTION:Predmet: Sistemi komprimiranih medijev in vakuuma (SKMP)\, Lab
 oratorijske vaje (VL)\, [S1]\nLetniki: Energetsko strojništvo (PAP-3)\nIz
 vajalci: Jurij Prezelj\nProstor: Laboratorij LDSTA SP-72
END:VEVENT
BEGIN:VEVENT
SUMMARY:Sistemi komprimiranih medijev in vakuuma (SKMP)\, Laboratorijske v
 aje (VL)\, [S1]
DTSTART;TZID=Europe/Ljubljana:20241015T153000
DTEND;TZID=Europe/Ljubljana:20241015T173000
DTSTAMP:20260422T094749Z
UID:fs-AFLABS-URNIK:srecanje:7321-2024-10-15 15:30:00+02:00
DESCRIPTION:Predmet: Sistemi komprimiranih medijev in vakuuma (SKMP)\, Lab
 oratorijske vaje (VL)\, [S1]\nLetniki: Energetsko strojništvo (PAP-3)\nIz
 vajalci: Jurij Prezelj\nProstor: Laboratorij LDSTA SP-72
END:VEVENT
BEGIN:VEVENT
SUMMARY:Sistemi komprimiranih medijev in vakuuma (SKMP)\, Laboratorijske v
 aje (VL)\, [S1]
DTSTART;TZID=Europe/Ljubljana:20241022T153000
DTEND;TZID=Europe/Ljubljana:20241022T173000
DTSTAMP:20260422T094749Z
UID:fs-AFLABS-URNIK:srecanje:7321-2024-10-22 15:30:00+02:00
DESCRIPTION:Predmet: Sistemi komprimiranih medijev in vakuuma (SKMP)\, Lab
 oratorijske vaje (VL)\, [S1]\nLetniki: Energetsko strojništvo (PAP-3)\nIz
 vajalci: Jurij Prezelj\nProstor: Laboratorij LDSTA SP-72
END:VEVENT
BEGIN:VEVENT
SUMMARY:Sistemi komprimiranih medijev in vakuuma (SKMP)\, Laboratorijske v
 aje (VL)\, [S2]
DTSTART;TZID=Europe/Ljubljana:20241008T173000
DTEND;TZID=Europe/Ljubljana:20241008T193000
DTSTAMP:20260422T094749Z
UID:fs-AFLABS-URNIK:srecanje:7322-2024-10-08 17:30:00+02:00
DESCRIPTION:Predmet: Sistemi komprimiranih medijev in vakuuma (SKMP)\, Lab
 oratorijske vaje (VL)\, [S2]\nLetniki: Energetsko strojništvo (PAP-3)\nIz
 vajalci: Jurij Prezelj\nProstor: Laboratorij LDSTA SP-72
END:VEVENT
BEGIN:VEVENT
SUMMARY:Sistemi komprimiranih medijev in vakuuma (SKMP)\, Laboratorijske v
 aje (VL)\, [S2]
DTSTART;TZID=Europe/Ljubljana:20241015T173000
DTEND;TZID=Europe/Ljubljana:20241015T193000
DTSTAMP:20260422T094749Z
UID:fs-AFLABS-URNIK:srecanje:7322-2024-10-15 17:30:00+02:00
DESCRIPTION:Predmet: Sistemi komprimiranih medijev in vakuuma (SKMP)\, Lab
 oratorijske vaje (VL)\, [S2]\nLetniki: Energetsko strojništvo (PAP-3)\nIz
 vajalci: Jurij Prezelj\nProstor: Laboratorij LDSTA SP-72
END:VEVENT
BEGIN:VEVENT
SUMMARY:Sistemi komprimiranih medijev in vakuuma (SKMP)\, Laboratorijske v
 aje (VL)\, [S2]
DTSTART;TZID=Europe/Ljubljana:20241022T173000
DTEND;TZID=Europe/Ljubljana:20241022T193000
DTSTAMP:20260422T094749Z
UID:fs-AFLABS-URNIK:srecanje:7322-2024-10-22 17:30:00+02:00
DESCRIPTION:Predmet: Sistemi komprimiranih medijev in vakuuma (SKMP)\, Lab
 oratorijske vaje (VL)\, [S2]\nLetniki: Energetsko strojništvo (PAP-3)\nIz
 vajalci: Jurij Prezelj\nProstor: Laboratorij LDSTA SP-72
END:VEVENT
BEGIN:VEVENT
SUMMARY:Technical Acoustics (TCAE)\, Laboratorijske vaje (VL)
DTSTART;TZID=Europe/Ljubljana:20241011T160000
DTEND;TZID=Europe/Ljubljana:20241011T180000
DTSTAMP:20260422T094749Z
UID:fs-AFLABS-URNIK:srecanje:7493-2024-10-11 16:00:00+02:00
DESCRIPTION:Predmet: Technical Acoustics (TCAE)\, Laboratorijske vaje (VL)
 \nLetniki: Erasmus (Erasmus)\nIzvajalci: Jurij Prezelj\nProstor: Laborator
 ij LDSTA SP-72
END:VEVENT
BEGIN:VEVENT
SUMMARY:Technical Acoustics (TCAE)\, Laboratorijske vaje (VL)
DTSTART;TZID=Europe/Ljubljana:20241018T160000
DTEND;TZID=Europe/Ljubljana:20241018T180000
DTSTAMP:20260422T094749Z
UID:fs-AFLABS-URNIK:srecanje:7493-2024-10-18 16:00:00+02:00
DESCRIPTION:Predmet: Technical Acoustics (TCAE)\, Laboratorijske vaje (VL)
 \nLetniki: Erasmus (Erasmus)\nIzvajalci: Jurij Prezelj\nProstor: Laborator
 ij LDSTA SP-72
END:VEVENT
BEGIN:VEVENT
SUMMARY:Technical Acoustics (TCAE)\, Laboratorijske vaje (VL)
DTSTART;TZID=Europe/Ljubljana:20241025T160000
DTEND;TZID=Europe/Ljubljana:20241025T180000
DTSTAMP:20260422T094749Z
UID:fs-AFLABS-URNIK:srecanje:7493-2024-10-25 16:00:00+02:00
DESCRIPTION:Predmet: Technical Acoustics (TCAE)\, Laboratorijske vaje (VL)
 \nLetniki: Erasmus (Erasmus)\nIzvajalci: Jurij Prezelj\nProstor: Laborator
 ij LDSTA SP-72
END:VEVENT
BEGIN:VEVENT
SUMMARY:Sistemi komprimiranih medijev in vakuuma (SKMP)\, Predavanja (P)
DTSTART;TZID=Europe/Ljubljana:20241028T113000
DTEND;TZID=Europe/Ljubljana:20241028T133000
DTSTAMP:20260422T094749Z
UID:fs-AFLABS-URNIK:premaknjeno-srecanje:101868
ATTENDEE:Energetsko strojništvo (PAP-3)
CATEGORIES:Entry,Special
COLOR:forestgreen
DESCRIPTION:Predmet: Sistemi komprimiranih medijev in vakuuma (SKMP)\, Pre
 davanja (P)\nLetniki: Energetsko strojništvo (PAP-3)\nIzvajalci: Jurij Pr
 ezelj\nProstor: Predavalnica II/5
LOCATION:Predavalnica II/5
ORGANIZER:Jurij Prezelj
RELATED-TO:fs-AFLABS-URNIK:srecanje:14081
X-WR-TIMEZONE:Europe/Ljubljana
END:VEVENT
BEGIN:VEVENT
SUMMARY:Technical Acoustics (TCAE)\, Predavanja (P)
DTSTART;TZID=Europe/Ljubljana:20241029T140000
DTEND;TZID=Europe/Ljubljana:20241029T160000
DTSTAMP:20260422T094749Z
UID:fs-AFLABS-URNIK:premaknjeno-srecanje:101985
ATTENDEE:Erasmus (Erasmus)
CATEGORIES:Entry,Special
COLOR:forestgreen
DESCRIPTION:Predmet: Technical Acoustics (TCAE)\, Predavanja (P)\nLetniki:
  Erasmus (Erasmus)\nIzvajalci: Jurij Prezelj\nProstor: Predavalnica II/3A
LOCATION:Predavalnica II/3A
ORGANIZER:Jurij Prezelj
RELATED-TO:fs-AFLABS-URNIK:srecanje:14198
X-WR-TIMEZONE:Europe/Ljubljana
END:VEVENT
BEGIN:VEVENT
SUMMARY:Technical Acoustics (TCAE)\, Laboratorijske vaje (VL)
DTSTART;TZID=Europe/Ljubljana:20241029T160000
DTEND;TZID=Europe/Ljubljana:20241029T180000
DTSTAMP:20260422T094749Z
UID:fs-AFLABS-URNIK:premaknjeno-srecanje:101986
ATTENDEE:Erasmus (Erasmus)
CATEGORIES:Entry,Special
COLOR:forestgreen
DESCRIPTION:Predmet: Technical Acoustics (TCAE)\, Laboratorijske vaje (VL)
 \nLetniki: Erasmus (Erasmus)\nIzvajalci: Jurij Prezelj\nProstor: Laborator
 ij LDSTA SP-72
LOCATION:Laboratorij LDSTA SP-72
ORGANIZER:Jurij Prezelj
RELATED-TO:fs-AFLABS-URNIK:srecanje:14199
X-WR-TIMEZONE:Europe/Ljubljana
END:VEVENT
BEGIN:VEVENT
SUMMARY:Izpit: Inženirska akustika (3111)
DTSTART;TZID=Europe/Ljubljana:20240830T090000
DTEND;TZID=Europe/Ljubljana:20240830T110000
DTSTAMP:20260422T094749Z
UID:fs-AFLABS-URNIK:rezervacija:5828
CATEGORIES:Reservation
COLOR:royalblue
DESCRIPTION:Predmeti: \nLetniki: \nIzvajalci: Jurij Prezelj\nProstori: Pre
 davalnica IV/2
LOCATION:Predavalnica IV/2
ORGANIZER:Jurij Prezelj
X-WR-TIMEZONE:Europe/Ljubljana
END:VEVENT
BEGIN:VEVENT
SUMMARY:Izpit: Uvod v akustiko
DTSTART;TZID=Europe/Ljubljana:20240830T090000
DTEND;TZID=Europe/Ljubljana:20240830T110000
DTSTAMP:20260422T094749Z
UID:fs-AFLABS-URNIK:rezervacija:5829
ATTENDEE:Energetsko strojništvo (PAP-2)
CATEGORIES:Reservation
COLOR:royalblue
DESCRIPTION:Predmeti: Uvod v akustiko (UVAP)\nLetniki: Energetsko strojni
 štvo (PAP-2)\nIzvajalci: Jurij Prezelj\nProstori: Predavalnica IV/2
LOCATION:Predavalnica IV/2
ORGANIZER:Jurij Prezelj
X-WR-TIMEZONE:Europe/Ljubljana
END:VEVENT
END:VCALENDAR
