BEGIN:VCALENDAR
VERSION:2.0
PRODID:-//AFLabs urnik izvoz - fs//aflabs.si//SI
NAME:UL FS Urnik
X-WR-CALNAME:UL FS Urnik
DTSTAMP:20260422T160729Z
REFRESH-INTERVAL:PT1H
SOURCE:https://urnik.fs.uni-lj.si/teacher/821/?day=2025-09-15&export=1
URL:https://urnik.fs.uni-lj.si/teacher/821/?day=2025-09-15&export=1
X-PUBLISHED-TTL:PT1H
X-WR-TIMEZONE:Europe/Ljubljana
BEGIN:VTIMEZONE
TZID:Europe/Ljubljana
BEGIN:DAYLIGHT
DTSTART:20260329T020000
RDATE:20260329T020000
RDATE:20270328T020000
TZNAME:CEST
TZOFFSETFROM:+0100
TZOFFSETTO:+0200
END:DAYLIGHT
BEGIN:STANDARD
DTSTART:20261025T030000
RDATE:20261025T030000
RDATE:20271031T030000
TZNAME:CET
TZOFFSETFROM:+0200
TZOFFSETTO:+0100
END:STANDARD
END:VTIMEZONE
BEGIN:VEVENT
SUMMARY:Sistemi komprimiranih medijev in vakuuma (SKMP)\, Predavalniške v
 aje (VP)\, [S1]
DTSTART;TZID=Europe/Ljubljana:20250930T153000
DTEND;TZID=Europe/Ljubljana:20250930T170000
DTSTAMP:20260422T160729Z
UID:fs-AFLABS-URNIK:srecanje:16043-2025-09-30 15:30:00+02:00
DESCRIPTION:Predmet: Sistemi komprimiranih medijev in vakuuma (SKMP)\, Pre
 davalniške vaje (VP)\, [S1]\nLetniki: Energetsko strojništvo (PAP-3)\nIz
 vajalci: Jurij Prezelj\nProstor: Predavalnica III/3B
END:VEVENT
BEGIN:VEVENT
SUMMARY:Tehniška akustika (THAM)\, Predavanja (P)
DTSTART;TZID=Europe/Ljubljana:20251002T080000
DTEND;TZID=Europe/Ljubljana:20251002T100000
DTSTAMP:20260422T160729Z
UID:fs-AFLABS-URNIK:srecanje:17016-2025-10-02 08:00:00+02:00
DESCRIPTION:Predmet: Tehniška akustika (THAM)\, Predavanja (P)\nLetniki: 
 Energetsko strojništvo (MAG-2)\nIzvajalci: Jurij Prezelj\nProstor: Predav
 alnica IV/4
END:VEVENT
BEGIN:VEVENT
SUMMARY:Tehniška akustika (THAM)\, Predavanja (P)
DTSTART;TZID=Europe/Ljubljana:20251009T080000
DTEND;TZID=Europe/Ljubljana:20251009T100000
DTSTAMP:20260422T160729Z
UID:fs-AFLABS-URNIK:srecanje:17016-2025-10-09 08:00:00+02:00
DESCRIPTION:Predmet: Tehniška akustika (THAM)\, Predavanja (P)\nLetniki: 
 Energetsko strojništvo (MAG-2)\nIzvajalci: Jurij Prezelj\nProstor: Predav
 alnica IV/4
END:VEVENT
BEGIN:VEVENT
SUMMARY:Tehniška akustika (THAM)\, Predavanja (P)
DTSTART;TZID=Europe/Ljubljana:20251016T080000
DTEND;TZID=Europe/Ljubljana:20251016T100000
DTSTAMP:20260422T160729Z
UID:fs-AFLABS-URNIK:srecanje:17016-2025-10-16 08:00:00+02:00
DESCRIPTION:Predmet: Tehniška akustika (THAM)\, Predavanja (P)\nLetniki: 
 Energetsko strojništvo (MAG-2)\nIzvajalci: Jurij Prezelj\nProstor: Predav
 alnica IV/4
END:VEVENT
BEGIN:VEVENT
SUMMARY:Sistemi komprimiranih medijev in vakuuma (SKMP)\, Predavanja (P)
DTSTART;TZID=Europe/Ljubljana:20251002T113000
DTEND;TZID=Europe/Ljubljana:20251002T133000
DTSTAMP:20260422T160729Z
UID:fs-AFLABS-URNIK:srecanje:16016-2025-10-02 11:30:00+02:00
DESCRIPTION:Predmet: Sistemi komprimiranih medijev in vakuuma (SKMP)\, Pre
 davanja (P)\nLetniki: Energetsko strojništvo (PAP-3)\nIzvajalci: Jurij Pr
 ezelj\nProstor: Predavalnica IV/3B
END:VEVENT
BEGIN:VEVENT
SUMMARY:Sistemi komprimiranih medijev in vakuuma (SKMP)\, Predavanja (P)
DTSTART;TZID=Europe/Ljubljana:20251009T113000
DTEND;TZID=Europe/Ljubljana:20251009T133000
DTSTAMP:20260422T160729Z
UID:fs-AFLABS-URNIK:srecanje:16016-2025-10-09 11:30:00+02:00
DESCRIPTION:Predmet: Sistemi komprimiranih medijev in vakuuma (SKMP)\, Pre
 davanja (P)\nLetniki: Energetsko strojništvo (PAP-3)\nIzvajalci: Jurij Pr
 ezelj\nProstor: Predavalnica IV/3B
END:VEVENT
BEGIN:VEVENT
SUMMARY:Sistemi komprimiranih medijev in vakuuma (SKMP)\, Predavanja (P)
DTSTART;TZID=Europe/Ljubljana:20251016T113000
DTEND;TZID=Europe/Ljubljana:20251016T133000
DTSTAMP:20260422T160729Z
UID:fs-AFLABS-URNIK:srecanje:16016-2025-10-16 11:30:00+02:00
DESCRIPTION:Predmet: Sistemi komprimiranih medijev in vakuuma (SKMP)\, Pre
 davanja (P)\nLetniki: Energetsko strojništvo (PAP-3)\nIzvajalci: Jurij Pr
 ezelj\nProstor: Predavalnica IV/3B
END:VEVENT
BEGIN:VEVENT
SUMMARY:Noise\, Vibrations and Acoustic Engineering (NVAE)\, Predavanja (P
 )
DTSTART;TZID=Europe/Ljubljana:20251003T140000
DTEND;TZID=Europe/Ljubljana:20251003T160000
DTSTAMP:20260422T160729Z
UID:fs-AFLABS-URNIK:srecanje:17581-2025-10-03 14:00:00+02:00
DESCRIPTION:Predmet: Noise\, Vibrations and Acoustic Engineering (NVAE)\, 
 Predavanja (P)\nLetniki: Erasmus (Erasmus)\nIzvajalci: Jurij Prezelj\nPros
 tor: Predavalnica I/4A
END:VEVENT
BEGIN:VEVENT
SUMMARY:Noise\, Vibrations and Acoustic Engineering (NVAE)\, Predavanja (P
 )
DTSTART;TZID=Europe/Ljubljana:20251010T140000
DTEND;TZID=Europe/Ljubljana:20251010T160000
DTSTAMP:20260422T160729Z
UID:fs-AFLABS-URNIK:srecanje:17581-2025-10-10 14:00:00+02:00
DESCRIPTION:Predmet: Noise\, Vibrations and Acoustic Engineering (NVAE)\, 
 Predavanja (P)\nLetniki: Erasmus (Erasmus)\nIzvajalci: Jurij Prezelj\nPros
 tor: Predavalnica I/4A
END:VEVENT
BEGIN:VEVENT
SUMMARY:Noise\, Vibrations and Acoustic Engineering (NVAE)\, Predavanja (P
 )
DTSTART;TZID=Europe/Ljubljana:20251017T140000
DTEND;TZID=Europe/Ljubljana:20251017T160000
DTSTAMP:20260422T160729Z
UID:fs-AFLABS-URNIK:srecanje:17581-2025-10-17 14:00:00+02:00
DESCRIPTION:Predmet: Noise\, Vibrations and Acoustic Engineering (NVAE)\, 
 Predavanja (P)\nLetniki: Erasmus (Erasmus)\nIzvajalci: Jurij Prezelj\nPros
 tor: Predavalnica I/4A
END:VEVENT
BEGIN:VEVENT
SUMMARY:Sistemi komprimiranih medijev in vakuuma (SKMP)\, Laboratorijske v
 aje (VL)\, [S1]
DTSTART;TZID=Europe/Ljubljana:20251007T153000
DTEND;TZID=Europe/Ljubljana:20251007T170000
DTSTAMP:20260422T160729Z
UID:fs-AFLABS-URNIK:srecanje:16550-2025-10-07 15:30:00+02:00
DESCRIPTION:Predmet: Sistemi komprimiranih medijev in vakuuma (SKMP)\, Lab
 oratorijske vaje (VL)\, [S1]\nLetniki: Energetsko strojništvo (PAP-3)\nIz
 vajalci: Luka Čurović\, Jurij Prezelj\nProstor: Laboratorij LDSTA SP-72
END:VEVENT
BEGIN:VEVENT
SUMMARY:Sistemi komprimiranih medijev in vakuuma (SKMP)\, Laboratorijske v
 aje (VL)\, [S1]
DTSTART;TZID=Europe/Ljubljana:20251014T153000
DTEND;TZID=Europe/Ljubljana:20251014T170000
DTSTAMP:20260422T160729Z
UID:fs-AFLABS-URNIK:srecanje:16550-2025-10-14 15:30:00+02:00
DESCRIPTION:Predmet: Sistemi komprimiranih medijev in vakuuma (SKMP)\, Lab
 oratorijske vaje (VL)\, [S1]\nLetniki: Energetsko strojništvo (PAP-3)\nIz
 vajalci: Luka Čurović\, Jurij Prezelj\nProstor: Laboratorij LDSTA SP-72
END:VEVENT
BEGIN:VEVENT
SUMMARY:Sistemi komprimiranih medijev in vakuuma (SKMP)\, Laboratorijske v
 aje (VL)\, [S2]
DTSTART;TZID=Europe/Ljubljana:20251007T170000
DTEND;TZID=Europe/Ljubljana:20251007T183000
DTSTAMP:20260422T160729Z
UID:fs-AFLABS-URNIK:srecanje:16551-2025-10-07 17:00:00+02:00
DESCRIPTION:Predmet: Sistemi komprimiranih medijev in vakuuma (SKMP)\, Lab
 oratorijske vaje (VL)\, [S2]\nLetniki: Energetsko strojništvo (PAP-3)\nIz
 vajalci: Luka Čurović\, Jurij Prezelj\nProstor: Laboratorij LDSTA SP-72
END:VEVENT
BEGIN:VEVENT
SUMMARY:Sistemi komprimiranih medijev in vakuuma (SKMP)\, Laboratorijske v
 aje (VL)\, [S2]
DTSTART;TZID=Europe/Ljubljana:20251014T170000
DTEND;TZID=Europe/Ljubljana:20251014T183000
DTSTAMP:20260422T160729Z
UID:fs-AFLABS-URNIK:srecanje:16551-2025-10-14 17:00:00+02:00
DESCRIPTION:Predmet: Sistemi komprimiranih medijev in vakuuma (SKMP)\, Lab
 oratorijske vaje (VL)\, [S2]\nLetniki: Energetsko strojništvo (PAP-3)\nIz
 vajalci: Luka Čurović\, Jurij Prezelj\nProstor: Laboratorij LDSTA SP-72
END:VEVENT
BEGIN:VEVENT
SUMMARY:Izpit: Technical acoustics (6007-M) [dve oceni]
DTSTART;TZID=Europe/Ljubljana:20250822T080000
DTEND;TZID=Europe/Ljubljana:20250822T100000
DTSTAMP:20260422T160729Z
UID:fs-AFLABS-URNIK:rezervacija:7600
CATEGORIES:Reservation
COLOR:royalblue
DESCRIPTION:Predmeti: \nLetniki: \nIzvajalci: Jurij Prezelj\nProstori: Pre
 davalnica IV/4
LOCATION:Predavalnica IV/4
ORGANIZER:Jurij Prezelj
X-WR-TIMEZONE:Europe/Ljubljana
END:VEVENT
BEGIN:VEVENT
SUMMARY:Izpit: Inženirska akustika (3111)
DTSTART;TZID=Europe/Ljubljana:20250829T090000
DTEND;TZID=Europe/Ljubljana:20250829T110000
DTSTAMP:20260422T160729Z
UID:fs-AFLABS-URNIK:rezervacija:6718
CATEGORIES:Reservation
COLOR:royalblue
DESCRIPTION:Predmeti: \nLetniki: \nIzvajalci: Jurij Prezelj\nProstori: Pre
 davalnica IV/2
LOCATION:Predavalnica IV/2
ORGANIZER:Jurij Prezelj
X-WR-TIMEZONE:Europe/Ljubljana
END:VEVENT
BEGIN:VEVENT
SUMMARY:Izpit: Gonilniki tekočin (3051)
DTSTART;TZID=Europe/Ljubljana:20250822T080000
DTEND;TZID=Europe/Ljubljana:20250822T100000
DTSTAMP:20260422T160729Z
UID:fs-AFLABS-URNIK:rezervacija:6619
CATEGORIES:Reservation
COLOR:royalblue
DESCRIPTION:Predmeti: \nLetniki: \nIzvajalci: Jurij Prezelj\nProstori: Pre
 davalnica IV/4
LOCATION:Predavalnica IV/4
ORGANIZER:Jurij Prezelj
X-WR-TIMEZONE:Europe/Ljubljana
END:VEVENT
BEGIN:VEVENT
SUMMARY:Izpit: Uvod v akustiko (3023-V) [dve oceni]
DTSTART;TZID=Europe/Ljubljana:20250829T090000
DTEND;TZID=Europe/Ljubljana:20250829T110000
DTSTAMP:20260422T160729Z
UID:fs-AFLABS-URNIK:rezervacija:7770
CATEGORIES:Reservation
COLOR:royalblue
DESCRIPTION:Predmeti: \nLetniki: \nIzvajalci: Jurij Prezelj\nProstori: Pre
 davalnica IV/2
LOCATION:Predavalnica IV/2
ORGANIZER:Jurij Prezelj
X-WR-TIMEZONE:Europe/Ljubljana
END:VEVENT
BEGIN:VEVENT
SUMMARY:Izpit: Tehniška akustika (6007-M) [dve oceni]
DTSTART;TZID=Europe/Ljubljana:20250822T080000
DTEND;TZID=Europe/Ljubljana:20250822T100000
DTSTAMP:20260422T160729Z
UID:fs-AFLABS-URNIK:rezervacija:7631
CATEGORIES:Reservation
COLOR:royalblue
DESCRIPTION:Predmeti: \nLetniki: \nIzvajalci: Jurij Prezelj\nProstori: Pre
 davalnica IV/4
LOCATION:Predavalnica IV/4
ORGANIZER:Jurij Prezelj
X-WR-TIMEZONE:Europe/Ljubljana
END:VEVENT
BEGIN:VEVENT
SUMMARY:Izpit: Tehnična akustika (2051)
DTSTART;TZID=Europe/Ljubljana:20250813T080000
DTEND;TZID=Europe/Ljubljana:20250813T100000
DTSTAMP:20260422T160729Z
UID:fs-AFLABS-URNIK:rezervacija:7603
CATEGORIES:Reservation
COLOR:royalblue
DESCRIPTION:Predmeti: \nLetniki: \nIzvajalci: Jurij Prezelj\nProstori: Pre
 davalnica IV/3B
LOCATION:Predavalnica IV/3B
ORGANIZER:Jurij Prezelj
X-WR-TIMEZONE:Europe/Ljubljana
END:VEVENT
BEGIN:VEVENT
SUMMARY:Izpit: Volumetrični stroji (6273)
DTSTART;TZID=Europe/Ljubljana:20250820T080000
DTEND;TZID=Europe/Ljubljana:20250820T100000
DTSTAMP:20260422T160729Z
UID:fs-AFLABS-URNIK:rezervacija:7807
CATEGORIES:Reservation
COLOR:royalblue
DESCRIPTION:Predmeti: \nLetniki: \nIzvajalci: Jurij Prezelj\nProstori: Pre
 davalnica II/3A
LOCATION:Predavalnica II/3A
ORGANIZER:Jurij Prezelj
X-WR-TIMEZONE:Europe/Ljubljana
END:VEVENT
BEGIN:VEVENT
SUMMARY:Izpit: Sistemi komprimiranih medijev in vakuuma (3029-V) [dve ocen
 i]
DTSTART;TZID=Europe/Ljubljana:20250822T080000
DTEND;TZID=Europe/Ljubljana:20250822T100000
DTSTAMP:20260422T160729Z
UID:fs-AFLABS-URNIK:rezervacija:7511
CATEGORIES:Reservation
COLOR:royalblue
DESCRIPTION:Predmeti: \nLetniki: \nIzvajalci: Jurij Prezelj\nProstori: Pre
 davalnica IV/4
LOCATION:Predavalnica IV/4
ORGANIZER:Jurij Prezelj
X-WR-TIMEZONE:Europe/Ljubljana
END:VEVENT
BEGIN:VEVENT
SUMMARY:Zagovor diplom RR
DTSTART;TZID=Europe/Ljubljana:20250925T100000
DTEND;TZID=Europe/Ljubljana:20250925T120000
DTSTAMP:20260422T160729Z
UID:fs-AFLABS-URNIK:rezervacija:10878
CATEGORIES:Reservation
COLOR:royalblue
DESCRIPTION:Predmeti: \nLetniki: \nIzvajalci: Jurij Prezelj\nProstori: Pre
 davalnica III/3A
LOCATION:Predavalnica III/3A
ORGANIZER:Jurij Prezelj
X-WR-TIMEZONE:Europe/Ljubljana
END:VEVENT
END:VCALENDAR
