BEGIN:VCALENDAR
VERSION:2.0
PRODID:-//AFLabs urnik izvoz - fs//aflabs.si//SI
NAME:UL FS Urnik
X-WR-CALNAME:UL FS Urnik
DTSTAMP:20260421T003226Z
REFRESH-INTERVAL:PT1H
SOURCE:https://urnik.fs.uni-lj.si/teacher/846/?day=2025-12-22&export=1
URL:https://urnik.fs.uni-lj.si/teacher/846/?day=2025-12-22&export=1
X-PUBLISHED-TTL:PT1H
X-WR-TIMEZONE:Europe/Ljubljana
BEGIN:VTIMEZONE
TZID:Europe/Ljubljana
BEGIN:DAYLIGHT
DTSTART:20260329T020000
RDATE:20260329T020000
RDATE:20270328T020000
TZNAME:CEST
TZOFFSETFROM:+0100
TZOFFSETTO:+0200
END:DAYLIGHT
BEGIN:STANDARD
DTSTART:20261025T030000
RDATE:20261025T030000
RDATE:20271031T030000
TZNAME:CET
TZOFFSETFROM:+0200
TZOFFSETTO:+0100
END:STANDARD
END:VTIMEZONE
BEGIN:VEVENT
SUMMARY:Napredni procesi zgorevanja (NPZM)\, Predavanja (P)
DTSTART;TZID=Europe/Ljubljana:20250929T100000
DTEND;TZID=Europe/Ljubljana:20250929T120000
DTSTAMP:20260421T003226Z
UID:fs-AFLABS-URNIK:srecanje:7025-2025-09-29 10:00:00+02:00
DESCRIPTION:Predmet: Napredni procesi zgorevanja (NPZM)\, Predavanja (P)\n
 Letniki: Energetsko strojništvo (MAG-1)\nIzvajalci: Tomaž Katrašnik\, M
 itja Mori\, Tine Seljak\, Andrej Senegačnik\nProstor: Predavalnica III/4
END:VEVENT
BEGIN:VEVENT
SUMMARY:Napredni procesi zgorevanja (NPZM)\, Predavanja (P)
DTSTART;TZID=Europe/Ljubljana:20251006T100000
DTEND;TZID=Europe/Ljubljana:20251006T120000
DTSTAMP:20260421T003226Z
UID:fs-AFLABS-URNIK:srecanje:7025-2025-10-06 10:00:00+02:00
DESCRIPTION:Predmet: Napredni procesi zgorevanja (NPZM)\, Predavanja (P)\n
 Letniki: Energetsko strojništvo (MAG-1)\nIzvajalci: Tomaž Katrašnik\, M
 itja Mori\, Tine Seljak\, Andrej Senegačnik\nProstor: Predavalnica III/4
END:VEVENT
BEGIN:VEVENT
SUMMARY:Napredni procesi zgorevanja (NPZM)\, Predavanja (P)
DTSTART;TZID=Europe/Ljubljana:20251013T100000
DTEND;TZID=Europe/Ljubljana:20251013T120000
DTSTAMP:20260421T003226Z
UID:fs-AFLABS-URNIK:srecanje:7025-2025-10-13 10:00:00+02:00
DESCRIPTION:Predmet: Napredni procesi zgorevanja (NPZM)\, Predavanja (P)\n
 Letniki: Energetsko strojništvo (MAG-1)\nIzvajalci: Tomaž Katrašnik\, M
 itja Mori\, Tine Seljak\, Andrej Senegačnik\nProstor: Predavalnica III/4
END:VEVENT
BEGIN:VEVENT
SUMMARY:Napredni procesi zgorevanja (NPZM)\, Predavanja (P)
DTSTART;TZID=Europe/Ljubljana:20251020T100000
DTEND;TZID=Europe/Ljubljana:20251020T120000
DTSTAMP:20260421T003226Z
UID:fs-AFLABS-URNIK:srecanje:7025-2025-10-20 10:00:00+02:00
DESCRIPTION:Predmet: Napredni procesi zgorevanja (NPZM)\, Predavanja (P)\n
 Letniki: Energetsko strojništvo (MAG-1)\nIzvajalci: Tomaž Katrašnik\, M
 itja Mori\, Tine Seljak\, Andrej Senegačnik\nProstor: Predavalnica III/4
END:VEVENT
BEGIN:VEVENT
SUMMARY:Napredni procesi zgorevanja (NPZM)\, Predavanja (P)
DTSTART;TZID=Europe/Ljubljana:20251027T100000
DTEND;TZID=Europe/Ljubljana:20251027T120000
DTSTAMP:20260421T003226Z
UID:fs-AFLABS-URNIK:srecanje:7025-2025-10-27 10:00:00+01:00
DESCRIPTION:Predmet: Napredni procesi zgorevanja (NPZM)\, Predavanja (P)\n
 Letniki: Energetsko strojništvo (MAG-1)\nIzvajalci: Tomaž Katrašnik\, M
 itja Mori\, Tine Seljak\, Andrej Senegačnik\nProstor: Predavalnica III/4
END:VEVENT
BEGIN:VEVENT
SUMMARY:Napredni procesi zgorevanja (NPZM)\, Predavanja (P)
DTSTART;TZID=Europe/Ljubljana:20251103T100000
DTEND;TZID=Europe/Ljubljana:20251103T120000
DTSTAMP:20260421T003226Z
UID:fs-AFLABS-URNIK:srecanje:7025-2025-11-03 10:00:00+01:00
DESCRIPTION:Predmet: Napredni procesi zgorevanja (NPZM)\, Predavanja (P)\n
 Letniki: Energetsko strojništvo (MAG-1)\nIzvajalci: Tomaž Katrašnik\, M
 itja Mori\, Tine Seljak\, Andrej Senegačnik\nProstor: Predavalnica III/4
END:VEVENT
BEGIN:VEVENT
SUMMARY:Napredni procesi zgorevanja (NPZM)\, Predavanja (P)
DTSTART;TZID=Europe/Ljubljana:20251110T100000
DTEND;TZID=Europe/Ljubljana:20251110T120000
DTSTAMP:20260421T003226Z
UID:fs-AFLABS-URNIK:srecanje:7025-2025-11-10 10:00:00+01:00
DESCRIPTION:Predmet: Napredni procesi zgorevanja (NPZM)\, Predavanja (P)\n
 Letniki: Energetsko strojništvo (MAG-1)\nIzvajalci: Tomaž Katrašnik\, M
 itja Mori\, Tine Seljak\, Andrej Senegačnik\nProstor: Predavalnica III/4
END:VEVENT
BEGIN:VEVENT
SUMMARY:Napredni procesi zgorevanja (NPZM)\, Predavanja (P)
DTSTART;TZID=Europe/Ljubljana:20251117T100000
DTEND;TZID=Europe/Ljubljana:20251117T120000
DTSTAMP:20260421T003226Z
UID:fs-AFLABS-URNIK:srecanje:7025-2025-11-17 10:00:00+01:00
DESCRIPTION:Predmet: Napredni procesi zgorevanja (NPZM)\, Predavanja (P)\n
 Letniki: Energetsko strojništvo (MAG-1)\nIzvajalci: Tomaž Katrašnik\, M
 itja Mori\, Tine Seljak\, Andrej Senegačnik\nProstor: Predavalnica III/4
END:VEVENT
BEGIN:VEVENT
SUMMARY:Napredni procesi zgorevanja (NPZM)\, Predavanja (P)
DTSTART;TZID=Europe/Ljubljana:20251124T100000
DTEND;TZID=Europe/Ljubljana:20251124T120000
DTSTAMP:20260421T003226Z
UID:fs-AFLABS-URNIK:srecanje:7025-2025-11-24 10:00:00+01:00
DESCRIPTION:Predmet: Napredni procesi zgorevanja (NPZM)\, Predavanja (P)\n
 Letniki: Energetsko strojništvo (MAG-1)\nIzvajalci: Tomaž Katrašnik\, M
 itja Mori\, Tine Seljak\, Andrej Senegačnik\nProstor: Predavalnica III/4
END:VEVENT
BEGIN:VEVENT
SUMMARY:Napredni procesi zgorevanja (NPZM)\, Predavanja (P)
DTSTART;TZID=Europe/Ljubljana:20251201T100000
DTEND;TZID=Europe/Ljubljana:20251201T120000
DTSTAMP:20260421T003226Z
UID:fs-AFLABS-URNIK:srecanje:7025-2025-12-01 10:00:00+01:00
DESCRIPTION:Predmet: Napredni procesi zgorevanja (NPZM)\, Predavanja (P)\n
 Letniki: Energetsko strojništvo (MAG-1)\nIzvajalci: Tomaž Katrašnik\, M
 itja Mori\, Tine Seljak\, Andrej Senegačnik\nProstor: Predavalnica III/4
END:VEVENT
BEGIN:VEVENT
SUMMARY:Napredni procesi zgorevanja (NPZM)\, Predavanja (P)
DTSTART;TZID=Europe/Ljubljana:20251208T100000
DTEND;TZID=Europe/Ljubljana:20251208T120000
DTSTAMP:20260421T003226Z
UID:fs-AFLABS-URNIK:srecanje:7025-2025-12-08 10:00:00+01:00
DESCRIPTION:Predmet: Napredni procesi zgorevanja (NPZM)\, Predavanja (P)\n
 Letniki: Energetsko strojništvo (MAG-1)\nIzvajalci: Tomaž Katrašnik\, M
 itja Mori\, Tine Seljak\, Andrej Senegačnik\nProstor: Predavalnica III/4
END:VEVENT
BEGIN:VEVENT
SUMMARY:Napredni procesi zgorevanja (NPZM)\, Predavanja (P)
DTSTART;TZID=Europe/Ljubljana:20251215T100000
DTEND;TZID=Europe/Ljubljana:20251215T120000
DTSTAMP:20260421T003226Z
UID:fs-AFLABS-URNIK:srecanje:7025-2025-12-15 10:00:00+01:00
DESCRIPTION:Predmet: Napredni procesi zgorevanja (NPZM)\, Predavanja (P)\n
 Letniki: Energetsko strojništvo (MAG-1)\nIzvajalci: Tomaž Katrašnik\, M
 itja Mori\, Tine Seljak\, Andrej Senegačnik\nProstor: Predavalnica III/4
END:VEVENT
BEGIN:VEVENT
SUMMARY:Napredni procesi zgorevanja (NPZM)\, Predavanja (P)
DTSTART;TZID=Europe/Ljubljana:20251222T100000
DTEND;TZID=Europe/Ljubljana:20251222T120000
DTSTAMP:20260421T003226Z
UID:fs-AFLABS-URNIK:srecanje:7025-2025-12-22 10:00:00+01:00
DESCRIPTION:Predmet: Napredni procesi zgorevanja (NPZM)\, Predavanja (P)\n
 Letniki: Energetsko strojništvo (MAG-1)\nIzvajalci: Tomaž Katrašnik\, M
 itja Mori\, Tine Seljak\, Andrej Senegačnik\nProstor: Predavalnica III/4
END:VEVENT
BEGIN:VEVENT
SUMMARY:Napredni procesi zgorevanja (NPZM)\, Predavanja (P)
DTSTART;TZID=Europe/Ljubljana:20260105T100000
DTEND;TZID=Europe/Ljubljana:20260105T120000
DTSTAMP:20260421T003226Z
UID:fs-AFLABS-URNIK:srecanje:7025-2026-01-05 10:00:00+01:00
DESCRIPTION:Predmet: Napredni procesi zgorevanja (NPZM)\, Predavanja (P)\n
 Letniki: Energetsko strojništvo (MAG-1)\nIzvajalci: Tomaž Katrašnik\, M
 itja Mori\, Tine Seljak\, Andrej Senegačnik\nProstor: Predavalnica III/4
END:VEVENT
BEGIN:VEVENT
SUMMARY:Napredni procesi zgorevanja (NPZM)\, Predavanja (P)
DTSTART;TZID=Europe/Ljubljana:20260112T100000
DTEND;TZID=Europe/Ljubljana:20260112T120000
DTSTAMP:20260421T003226Z
UID:fs-AFLABS-URNIK:srecanje:7025-2026-01-12 10:00:00+01:00
DESCRIPTION:Predmet: Napredni procesi zgorevanja (NPZM)\, Predavanja (P)\n
 Letniki: Energetsko strojništvo (MAG-1)\nIzvajalci: Tomaž Katrašnik\, M
 itja Mori\, Tine Seljak\, Andrej Senegačnik\nProstor: Predavalnica III/4
END:VEVENT
BEGIN:VEVENT
SUMMARY:Energetika v krožnem gospodarstvu (EKGM)\, Predavanja (P)
DTSTART;TZID=Europe/Ljubljana:20250930T120000
DTEND;TZID=Europe/Ljubljana:20250930T140000
DTSTAMP:20260421T003226Z
UID:fs-AFLABS-URNIK:srecanje:12812-2025-09-30 12:00:00+02:00
DESCRIPTION:Predmet: Energetika v krožnem gospodarstvu (EKGM)\, Predavanj
 a (P)\nLetniki: Energetsko strojništvo (MAG-2)\nIzvajalci: Tomaž Katraš
 nik\, Mitja Mori\, Mihael Sekavčnik\, Tine Seljak\nProstor: Predavalnica 
 III/3B
END:VEVENT
BEGIN:VEVENT
SUMMARY:Energetika v krožnem gospodarstvu (EKGM)\, Predavanja (P)
DTSTART;TZID=Europe/Ljubljana:20251007T120000
DTEND;TZID=Europe/Ljubljana:20251007T140000
DTSTAMP:20260421T003226Z
UID:fs-AFLABS-URNIK:srecanje:12812-2025-10-07 12:00:00+02:00
DESCRIPTION:Predmet: Energetika v krožnem gospodarstvu (EKGM)\, Predavanj
 a (P)\nLetniki: Energetsko strojništvo (MAG-2)\nIzvajalci: Tomaž Katraš
 nik\, Mitja Mori\, Mihael Sekavčnik\, Tine Seljak\nProstor: Predavalnica 
 III/3B
END:VEVENT
BEGIN:VEVENT
SUMMARY:Energetika v krožnem gospodarstvu (EKGM)\, Predavanja (P)
DTSTART;TZID=Europe/Ljubljana:20251014T120000
DTEND;TZID=Europe/Ljubljana:20251014T140000
DTSTAMP:20260421T003226Z
UID:fs-AFLABS-URNIK:srecanje:12812-2025-10-14 12:00:00+02:00
DESCRIPTION:Predmet: Energetika v krožnem gospodarstvu (EKGM)\, Predavanj
 a (P)\nLetniki: Energetsko strojništvo (MAG-2)\nIzvajalci: Tomaž Katraš
 nik\, Mitja Mori\, Mihael Sekavčnik\, Tine Seljak\nProstor: Predavalnica 
 III/3B
END:VEVENT
BEGIN:VEVENT
SUMMARY:Energetika v krožnem gospodarstvu (EKGM)\, Predavanja (P)
DTSTART;TZID=Europe/Ljubljana:20251021T120000
DTEND;TZID=Europe/Ljubljana:20251021T140000
DTSTAMP:20260421T003226Z
UID:fs-AFLABS-URNIK:srecanje:12812-2025-10-21 12:00:00+02:00
DESCRIPTION:Predmet: Energetika v krožnem gospodarstvu (EKGM)\, Predavanj
 a (P)\nLetniki: Energetsko strojništvo (MAG-2)\nIzvajalci: Tomaž Katraš
 nik\, Mitja Mori\, Mihael Sekavčnik\, Tine Seljak\nProstor: Predavalnica 
 III/3B
END:VEVENT
BEGIN:VEVENT
SUMMARY:Energetika v krožnem gospodarstvu (EKGM)\, Predavanja (P)
DTSTART;TZID=Europe/Ljubljana:20251028T120000
DTEND;TZID=Europe/Ljubljana:20251028T140000
DTSTAMP:20260421T003226Z
UID:fs-AFLABS-URNIK:srecanje:12812-2025-10-28 12:00:00+01:00
DESCRIPTION:Predmet: Energetika v krožnem gospodarstvu (EKGM)\, Predavanj
 a (P)\nLetniki: Energetsko strojništvo (MAG-2)\nIzvajalci: Tomaž Katraš
 nik\, Mitja Mori\, Mihael Sekavčnik\, Tine Seljak\nProstor: Predavalnica 
 III/3B
END:VEVENT
BEGIN:VEVENT
SUMMARY:Energetika v krožnem gospodarstvu (EKGM)\, Predavanja (P)
DTSTART;TZID=Europe/Ljubljana:20251104T120000
DTEND;TZID=Europe/Ljubljana:20251104T140000
DTSTAMP:20260421T003226Z
UID:fs-AFLABS-URNIK:srecanje:12812-2025-11-04 12:00:00+01:00
DESCRIPTION:Predmet: Energetika v krožnem gospodarstvu (EKGM)\, Predavanj
 a (P)\nLetniki: Energetsko strojništvo (MAG-2)\nIzvajalci: Tomaž Katraš
 nik\, Mitja Mori\, Mihael Sekavčnik\, Tine Seljak\nProstor: Predavalnica 
 III/3B
END:VEVENT
BEGIN:VEVENT
SUMMARY:Energetika v krožnem gospodarstvu (EKGM)\, Predavanja (P)
DTSTART;TZID=Europe/Ljubljana:20251111T120000
DTEND;TZID=Europe/Ljubljana:20251111T140000
DTSTAMP:20260421T003226Z
UID:fs-AFLABS-URNIK:srecanje:12812-2025-11-11 12:00:00+01:00
DESCRIPTION:Predmet: Energetika v krožnem gospodarstvu (EKGM)\, Predavanj
 a (P)\nLetniki: Energetsko strojništvo (MAG-2)\nIzvajalci: Tomaž Katraš
 nik\, Mitja Mori\, Mihael Sekavčnik\, Tine Seljak\nProstor: Predavalnica 
 III/3B
END:VEVENT
BEGIN:VEVENT
SUMMARY:Energetika v krožnem gospodarstvu (EKGM)\, Predavanja (P)
DTSTART;TZID=Europe/Ljubljana:20251118T120000
DTEND;TZID=Europe/Ljubljana:20251118T140000
DTSTAMP:20260421T003226Z
UID:fs-AFLABS-URNIK:srecanje:12812-2025-11-18 12:00:00+01:00
DESCRIPTION:Predmet: Energetika v krožnem gospodarstvu (EKGM)\, Predavanj
 a (P)\nLetniki: Energetsko strojništvo (MAG-2)\nIzvajalci: Tomaž Katraš
 nik\, Mitja Mori\, Mihael Sekavčnik\, Tine Seljak\nProstor: Predavalnica 
 III/3B
END:VEVENT
BEGIN:VEVENT
SUMMARY:Energetika v krožnem gospodarstvu (EKGM)\, Predavanja (P)
DTSTART;TZID=Europe/Ljubljana:20251125T120000
DTEND;TZID=Europe/Ljubljana:20251125T140000
DTSTAMP:20260421T003226Z
UID:fs-AFLABS-URNIK:srecanje:12812-2025-11-25 12:00:00+01:00
DESCRIPTION:Predmet: Energetika v krožnem gospodarstvu (EKGM)\, Predavanj
 a (P)\nLetniki: Energetsko strojništvo (MAG-2)\nIzvajalci: Tomaž Katraš
 nik\, Mitja Mori\, Mihael Sekavčnik\, Tine Seljak\nProstor: Predavalnica 
 III/3B
END:VEVENT
BEGIN:VEVENT
SUMMARY:Energetika v krožnem gospodarstvu (EKGM)\, Predavanja (P)
DTSTART;TZID=Europe/Ljubljana:20251202T120000
DTEND;TZID=Europe/Ljubljana:20251202T140000
DTSTAMP:20260421T003226Z
UID:fs-AFLABS-URNIK:srecanje:12812-2025-12-02 12:00:00+01:00
DESCRIPTION:Predmet: Energetika v krožnem gospodarstvu (EKGM)\, Predavanj
 a (P)\nLetniki: Energetsko strojništvo (MAG-2)\nIzvajalci: Tomaž Katraš
 nik\, Mitja Mori\, Mihael Sekavčnik\, Tine Seljak\nProstor: Predavalnica 
 III/3B
END:VEVENT
BEGIN:VEVENT
SUMMARY:Energetika v krožnem gospodarstvu (EKGM)\, Predavanja (P)
DTSTART;TZID=Europe/Ljubljana:20251209T120000
DTEND;TZID=Europe/Ljubljana:20251209T140000
DTSTAMP:20260421T003226Z
UID:fs-AFLABS-URNIK:srecanje:12812-2025-12-09 12:00:00+01:00
DESCRIPTION:Predmet: Energetika v krožnem gospodarstvu (EKGM)\, Predavanj
 a (P)\nLetniki: Energetsko strojništvo (MAG-2)\nIzvajalci: Tomaž Katraš
 nik\, Mitja Mori\, Mihael Sekavčnik\, Tine Seljak\nProstor: Predavalnica 
 III/3B
END:VEVENT
BEGIN:VEVENT
SUMMARY:Energetika v krožnem gospodarstvu (EKGM)\, Predavanja (P)
DTSTART;TZID=Europe/Ljubljana:20251216T120000
DTEND;TZID=Europe/Ljubljana:20251216T140000
DTSTAMP:20260421T003226Z
UID:fs-AFLABS-URNIK:srecanje:12812-2025-12-16 12:00:00+01:00
DESCRIPTION:Predmet: Energetika v krožnem gospodarstvu (EKGM)\, Predavanj
 a (P)\nLetniki: Energetsko strojništvo (MAG-2)\nIzvajalci: Tomaž Katraš
 nik\, Mitja Mori\, Mihael Sekavčnik\, Tine Seljak\nProstor: Predavalnica 
 III/3B
END:VEVENT
BEGIN:VEVENT
SUMMARY:Energetika v krožnem gospodarstvu (EKGM)\, Predavanja (P)
DTSTART;TZID=Europe/Ljubljana:20251223T120000
DTEND;TZID=Europe/Ljubljana:20251223T140000
DTSTAMP:20260421T003226Z
UID:fs-AFLABS-URNIK:srecanje:12812-2025-12-23 12:00:00+01:00
DESCRIPTION:Predmet: Energetika v krožnem gospodarstvu (EKGM)\, Predavanj
 a (P)\nLetniki: Energetsko strojništvo (MAG-2)\nIzvajalci: Tomaž Katraš
 nik\, Mitja Mori\, Mihael Sekavčnik\, Tine Seljak\nProstor: Predavalnica 
 III/3B
END:VEVENT
BEGIN:VEVENT
SUMMARY:Energetika v krožnem gospodarstvu (EKGM)\, Predavanja (P)
DTSTART;TZID=Europe/Ljubljana:20260106T120000
DTEND;TZID=Europe/Ljubljana:20260106T140000
DTSTAMP:20260421T003226Z
UID:fs-AFLABS-URNIK:srecanje:12812-2026-01-06 12:00:00+01:00
DESCRIPTION:Predmet: Energetika v krožnem gospodarstvu (EKGM)\, Predavanj
 a (P)\nLetniki: Energetsko strojništvo (MAG-2)\nIzvajalci: Tomaž Katraš
 nik\, Mitja Mori\, Mihael Sekavčnik\, Tine Seljak\nProstor: Predavalnica 
 III/3B
END:VEVENT
BEGIN:VEVENT
SUMMARY:Energetika v krožnem gospodarstvu (EKGM)\, Predavanja (P)
DTSTART;TZID=Europe/Ljubljana:20260113T120000
DTEND;TZID=Europe/Ljubljana:20260113T140000
DTSTAMP:20260421T003226Z
UID:fs-AFLABS-URNIK:srecanje:12812-2026-01-13 12:00:00+01:00
DESCRIPTION:Predmet: Energetika v krožnem gospodarstvu (EKGM)\, Predavanj
 a (P)\nLetniki: Energetsko strojništvo (MAG-2)\nIzvajalci: Tomaž Katraš
 nik\, Mitja Mori\, Mihael Sekavčnik\, Tine Seljak\nProstor: Predavalnica 
 III/3B
END:VEVENT
BEGIN:VEVENT
SUMMARY:NPZ - 2. kolokivj
DTSTART;TZID=Europe/Ljubljana:20260116T160000
DTEND;TZID=Europe/Ljubljana:20260116T180000
DTSTAMP:20260421T003226Z
UID:fs-AFLABS-URNIK:rezervacija:12948
CATEGORIES:Reservation
COLOR:royalblue
DESCRIPTION:Predmeti: \nLetniki: \nIzvajalci: Tine Seljak\nProstori: Preda
 valnica III/4
LOCATION:Predavalnica III/4
ORGANIZER:Tine Seljak
X-WR-TIMEZONE:Europe/Ljubljana
END:VEVENT
BEGIN:VEVENT
SUMMARY:Kolokvij NPZ
DTSTART;TZID=Europe/Ljubljana:20251120T140000
DTEND;TZID=Europe/Ljubljana:20251120T160000
DTSTAMP:20260421T003226Z
UID:fs-AFLABS-URNIK:rezervacija:11409
CATEGORIES:Reservation
COLOR:royalblue
DESCRIPTION:Predmeti: \nLetniki: \nIzvajalci: Tine Seljak\nProstori: Preda
 valnica III/4
LOCATION:Predavalnica III/4
ORGANIZER:Tine Seljak
X-WR-TIMEZONE:Europe/Ljubljana
END:VEVENT
BEGIN:VEVENT
SUMMARY:2. kolokvij NPZ
DTSTART;TZID=Europe/Ljubljana:20260123T160000
DTEND;TZID=Europe/Ljubljana:20260123T180000
DTSTAMP:20260421T003226Z
UID:fs-AFLABS-URNIK:rezervacija:11143
CATEGORIES:Reservation
COLOR:royalblue
DESCRIPTION:Predmeti: \nLetniki: \nIzvajalci: Tine Seljak\nProstori: Preda
 valnica V/2
LOCATION:Predavalnica V/2
ORGANIZER:Tine Seljak
X-WR-TIMEZONE:Europe/Ljubljana
END:VEVENT
BEGIN:VEVENT
SUMMARY:UPCYCLE
DTSTART;TZID=Europe/Ljubljana:20251124T150000
DTEND;TZID=Europe/Ljubljana:20251124T160000
DTSTAMP:20260421T003226Z
UID:fs-AFLABS-URNIK:rezervacija:13208
CATEGORIES:Reservation
COLOR:royalblue
DESCRIPTION:Predmeti: \nLetniki: \nIzvajalci: Tine Seljak\nProstori: Mala 
 sejna soba
LOCATION:Mala sejna soba
ORGANIZER:Tine Seljak
X-WR-TIMEZONE:Europe/Ljubljana
END:VEVENT
END:VCALENDAR
