BEGIN:VCALENDAR
VERSION:2.0
PRODID:-//AFLabs urnik izvoz - fs//aflabs.si//SI
NAME:UL FS Urnik
X-WR-CALNAME:UL FS Urnik
DTSTAMP:20260424T080056Z
REFRESH-INTERVAL:PT1H
SOURCE:https://urnik.fs.uni-lj.si/teacher/849/?day=2024-09-09&export=1
URL:https://urnik.fs.uni-lj.si/teacher/849/?day=2024-09-09&export=1
X-PUBLISHED-TTL:PT1H
X-WR-TIMEZONE:Europe/Ljubljana
BEGIN:VTIMEZONE
TZID:Europe/Ljubljana
BEGIN:DAYLIGHT
DTSTART:20260329T020000
RDATE:20260329T020000
RDATE:20270328T020000
TZNAME:CEST
TZOFFSETFROM:+0100
TZOFFSETTO:+0200
END:DAYLIGHT
BEGIN:STANDARD
DTSTART:20261025T030000
RDATE:20261025T030000
RDATE:20271031T030000
TZNAME:CET
TZOFFSETFROM:+0200
TZOFFSETTO:+0100
END:STANDARD
END:VTIMEZONE
BEGIN:VEVENT
SUMMARY:zagovori MAG
DTSTART;TZID=Europe/Ljubljana:20240821T083000
DTEND;TZID=Europe/Ljubljana:20240821T100000
DTSTAMP:20260424T080056Z
UID:fs-AFLABS-URNIK:rezervacija:6037
CATEGORIES:Reservation
COLOR:royalblue
DESCRIPTION:Predmeti: \nLetniki: \nIzvajalci: Katja Seražin\nProstori: Pr
 edavalnica II/3B
LOCATION:Predavalnica II/3B
ORGANIZER:Katja Seražin
X-WR-TIMEZONE:Europe/Ljubljana
END:VEVENT
BEGIN:VEVENT
SUMMARY:zagovori MAG
DTSTART;TZID=Europe/Ljubljana:20240822T110000
DTEND;TZID=Europe/Ljubljana:20240822T130000
DTSTAMP:20260424T080056Z
UID:fs-AFLABS-URNIK:rezervacija:6040
CATEGORIES:Reservation
COLOR:royalblue
DESCRIPTION:Predmeti: \nLetniki: \nIzvajalci: Katja Seražin\nProstori: Pr
 edavalnica III/3B
LOCATION:Predavalnica III/3B
ORGANIZER:Katja Seražin
X-WR-TIMEZONE:Europe/Ljubljana
END:VEVENT
BEGIN:VEVENT
SUMMARY:zagovori RRP
DTSTART;TZID=Europe/Ljubljana:20240826T110000
DTEND;TZID=Europe/Ljubljana:20240826T133000
DTSTAMP:20260424T080056Z
UID:fs-AFLABS-URNIK:rezervacija:6046
CATEGORIES:Reservation
COLOR:royalblue
DESCRIPTION:Predmeti: \nLetniki: \nIzvajalci: Katja Seražin\nProstori: Pr
 edavalnica IV/3A
LOCATION:Predavalnica IV/3A
ORGANIZER:Katja Seražin
X-WR-TIMEZONE:Europe/Ljubljana
END:VEVENT
BEGIN:VEVENT
SUMMARY:zagovori MAG
DTSTART;TZID=Europe/Ljubljana:20240821T083000
DTEND;TZID=Europe/Ljubljana:20240821T110000
DTSTAMP:20260424T080056Z
UID:fs-AFLABS-URNIK:rezervacija:6047
CATEGORIES:Reservation
COLOR:royalblue
DESCRIPTION:Predmeti: \nLetniki: \nIzvajalci: Katja Seražin\nProstori: Pr
 edavalnica III/3B
LOCATION:Predavalnica III/3B
ORGANIZER:Katja Seražin
X-WR-TIMEZONE:Europe/Ljubljana
END:VEVENT
BEGIN:VEVENT
SUMMARY:Zagovori RRP
DTSTART;TZID=Europe/Ljubljana:20240822T093000
DTEND;TZID=Europe/Ljubljana:20240822T113000
DTSTAMP:20260424T080056Z
UID:fs-AFLABS-URNIK:rezervacija:6053
CATEGORIES:Reservation
COLOR:royalblue
DESCRIPTION:Predmeti: \nLetniki: \nIzvajalci: Katja Seražin\nProstori: Pr
 edavalnica IV/3A
LOCATION:Predavalnica IV/3A
ORGANIZER:Katja Seražin
X-WR-TIMEZONE:Europe/Ljubljana
END:VEVENT
BEGIN:VEVENT
SUMMARY:zagovori mag
DTSTART;TZID=Europe/Ljubljana:20240822T083000
DTEND;TZID=Europe/Ljubljana:20240822T100000
DTSTAMP:20260424T080056Z
UID:fs-AFLABS-URNIK:rezervacija:6057
CATEGORIES:Reservation
COLOR:royalblue
DESCRIPTION:Predmeti: \nLetniki: \nIzvajalci: Katja Seražin\nProstori: Pr
 edavalnica III/3B
LOCATION:Predavalnica III/3B
ORGANIZER:Katja Seražin
X-WR-TIMEZONE:Europe/Ljubljana
END:VEVENT
BEGIN:VEVENT
SUMMARY:Zagovori RRP
DTSTART;TZID=Europe/Ljubljana:20240829T090000
DTEND;TZID=Europe/Ljubljana:20240829T130000
DTSTAMP:20260424T080056Z
UID:fs-AFLABS-URNIK:rezervacija:6060
CATEGORIES:Reservation
COLOR:royalblue
DESCRIPTION:Predmeti: \nLetniki: \nIzvajalci: Valentina Hajdinjak\, Katja 
 Seražin\nProstori: Predavalnica IV/3A
LOCATION:Predavalnica IV/3A
ORGANIZER:Valentina Hajdinjak, Katja Seražin
X-WR-TIMEZONE:Europe/Ljubljana
END:VEVENT
BEGIN:VEVENT
SUMMARY:zagovori MAG
DTSTART;TZID=Europe/Ljubljana:20240827T103000
DTEND;TZID=Europe/Ljubljana:20240827T130000
DTSTAMP:20260424T080056Z
UID:fs-AFLABS-URNIK:rezervacija:6063
CATEGORIES:Reservation
COLOR:royalblue
DESCRIPTION:Predmeti: \nLetniki: \nIzvajalci: Katja Seražin\nProstori: Pr
 edavalnica III/3A
LOCATION:Predavalnica III/3A
ORGANIZER:Katja Seražin
X-WR-TIMEZONE:Europe/Ljubljana
END:VEVENT
BEGIN:VEVENT
SUMMARY:zagovori RRP
DTSTART;TZID=Europe/Ljubljana:20240827T103000
DTEND;TZID=Europe/Ljubljana:20240827T130000
DTSTAMP:20260424T080056Z
UID:fs-AFLABS-URNIK:rezervacija:6089
CATEGORIES:Reservation
COLOR:royalblue
DESCRIPTION:Predmeti: \nLetniki: \nIzvajalci: Katja Seražin\nProstori: Pr
 edavalnica IV/3A
LOCATION:Predavalnica IV/3A
ORGANIZER:Katja Seražin
X-WR-TIMEZONE:Europe/Ljubljana
END:VEVENT
BEGIN:VEVENT
SUMMARY:zagovori RRP
DTSTART;TZID=Europe/Ljubljana:20240829T103000
DTEND;TZID=Europe/Ljubljana:20240829T120000
DTSTAMP:20260424T080056Z
UID:fs-AFLABS-URNIK:rezervacija:6092
CATEGORIES:Reservation
COLOR:royalblue
DESCRIPTION:Predmeti: \nLetniki: \nIzvajalci: Katja Seražin\nProstori: Pr
 edavalnica II/3A
LOCATION:Predavalnica II/3A
ORGANIZER:Katja Seražin
X-WR-TIMEZONE:Europe/Ljubljana
END:VEVENT
BEGIN:VEVENT
SUMMARY:zagovori RRP
DTSTART;TZID=Europe/Ljubljana:20240829T103000
DTEND;TZID=Europe/Ljubljana:20240829T130000
DTSTAMP:20260424T080056Z
UID:fs-AFLABS-URNIK:rezervacija:6093
CATEGORIES:Reservation
COLOR:royalblue
DESCRIPTION:Predmeti: \nLetniki: \nIzvajalci: Katja Seražin\nProstori: Pr
 edavalnica II/3B
LOCATION:Predavalnica II/3B
ORGANIZER:Katja Seražin
X-WR-TIMEZONE:Europe/Ljubljana
END:VEVENT
BEGIN:VEVENT
SUMMARY:zagovori RRP
DTSTART;TZID=Europe/Ljubljana:20240830T083000
DTEND;TZID=Europe/Ljubljana:20240830T100000
DTSTAMP:20260424T080056Z
UID:fs-AFLABS-URNIK:rezervacija:6101
CATEGORIES:Reservation
COLOR:royalblue
DESCRIPTION:Predmeti: \nLetniki: \nIzvajalci: Katja Seražin\nProstori: Pr
 edavalnica II/3A
LOCATION:Predavalnica II/3A
ORGANIZER:Katja Seražin
X-WR-TIMEZONE:Europe/Ljubljana
END:VEVENT
BEGIN:VEVENT
SUMMARY:Zagovori RRP
DTSTART;TZID=Europe/Ljubljana:20240830T080000
DTEND;TZID=Europe/Ljubljana:20240830T100000
DTSTAMP:20260424T080056Z
UID:fs-AFLABS-URNIK:rezervacija:6119
CATEGORIES:Reservation
COLOR:royalblue
DESCRIPTION:Predmeti: \nLetniki: \nIzvajalci: Valentina Hajdinjak\, Katja 
 Seražin\nProstori: Predavalnica III/3B
LOCATION:Predavalnica III/3B
ORGANIZER:Valentina Hajdinjak, Katja Seražin
X-WR-TIMEZONE:Europe/Ljubljana
END:VEVENT
BEGIN:VEVENT
SUMMARY:Zagovori RRP
DTSTART;TZID=Europe/Ljubljana:20240902T103000
DTEND;TZID=Europe/Ljubljana:20240902T130000
DTSTAMP:20260424T080056Z
UID:fs-AFLABS-URNIK:rezervacija:6175
CATEGORIES:Reservation
COLOR:royalblue
DESCRIPTION:Predmeti: \nLetniki: \nIzvajalci: Valentina Hajdinjak\, Katja 
 Seražin\nProstori: Predavalnica II/3A
LOCATION:Predavalnica II/3A
ORGANIZER:Valentina Hajdinjak, Katja Seražin
X-WR-TIMEZONE:Europe/Ljubljana
END:VEVENT
BEGIN:VEVENT
SUMMARY:zagovori RRP
DTSTART;TZID=Europe/Ljubljana:20240906T093000
DTEND;TZID=Europe/Ljubljana:20240906T120000
DTSTAMP:20260424T080056Z
UID:fs-AFLABS-URNIK:rezervacija:6187
CATEGORIES:Reservation
COLOR:royalblue
DESCRIPTION:Predmeti: \nLetniki: \nIzvajalci: Katja Seražin\nProstori: Pr
 edavalnica II/3A
LOCATION:Predavalnica II/3A
ORGANIZER:Katja Seražin
X-WR-TIMEZONE:Europe/Ljubljana
END:VEVENT
BEGIN:VEVENT
SUMMARY:zagovori RRP
DTSTART;TZID=Europe/Ljubljana:20240909T083000
DTEND;TZID=Europe/Ljubljana:20240909T103000
DTSTAMP:20260424T080056Z
UID:fs-AFLABS-URNIK:rezervacija:6203
CATEGORIES:Reservation
COLOR:royalblue
DESCRIPTION:Predmeti: \nLetniki: \nIzvajalci: Katja Seražin\nProstori: Pr
 edavalnica II/2
LOCATION:Predavalnica II/2
ORGANIZER:Katja Seražin
X-WR-TIMEZONE:Europe/Ljubljana
END:VEVENT
BEGIN:VEVENT
SUMMARY:zagovori RRP
DTSTART;TZID=Europe/Ljubljana:20240906T080000
DTEND;TZID=Europe/Ljubljana:20240906T110000
DTSTAMP:20260424T080056Z
UID:fs-AFLABS-URNIK:rezervacija:6214
CATEGORIES:Reservation
COLOR:royalblue
DESCRIPTION:Predmeti: \nLetniki: \nIzvajalci: Katja Seražin\nProstori: Pr
 edavalnica II/3B
LOCATION:Predavalnica II/3B
ORGANIZER:Katja Seražin
X-WR-TIMEZONE:Europe/Ljubljana
END:VEVENT
BEGIN:VEVENT
SUMMARY:zagovori MAG
DTSTART;TZID=Europe/Ljubljana:20240911T113000
DTEND;TZID=Europe/Ljubljana:20240911T150000
DTSTAMP:20260424T080056Z
UID:fs-AFLABS-URNIK:rezervacija:6219
CATEGORIES:Reservation
COLOR:royalblue
DESCRIPTION:Predmeti: \nLetniki: \nIzvajalci: Katja Seražin\nProstori: Pr
 edavalnica II/2
LOCATION:Predavalnica II/2
ORGANIZER:Katja Seražin
X-WR-TIMEZONE:Europe/Ljubljana
END:VEVENT
BEGIN:VEVENT
SUMMARY:zagovori mag
DTSTART;TZID=Europe/Ljubljana:20240911T113000
DTEND;TZID=Europe/Ljubljana:20240911T143000
DTSTAMP:20260424T080056Z
UID:fs-AFLABS-URNIK:rezervacija:6220
CATEGORIES:Reservation
COLOR:royalblue
DESCRIPTION:Predmeti: \nLetniki: \nIzvajalci: Katja Seražin\nProstori: Pr
 edavalnica II/3A
LOCATION:Predavalnica II/3A
ORGANIZER:Katja Seražin
X-WR-TIMEZONE:Europe/Ljubljana
END:VEVENT
BEGIN:VEVENT
SUMMARY:zagovori MAG
DTSTART;TZID=Europe/Ljubljana:20240910T083000
DTEND;TZID=Europe/Ljubljana:20240910T120000
DTSTAMP:20260424T080056Z
UID:fs-AFLABS-URNIK:rezervacija:6222
CATEGORIES:Reservation
COLOR:royalblue
DESCRIPTION:Predmeti: \nLetniki: \nIzvajalci: Katja Seražin\nProstori: Pr
 edavalnica II/2
LOCATION:Predavalnica II/2
ORGANIZER:Katja Seražin
X-WR-TIMEZONE:Europe/Ljubljana
END:VEVENT
BEGIN:VEVENT
SUMMARY:zagovor RRP
DTSTART;TZID=Europe/Ljubljana:20240910T100000
DTEND;TZID=Europe/Ljubljana:20240910T120000
DTSTAMP:20260424T080056Z
UID:fs-AFLABS-URNIK:rezervacija:6224
CATEGORIES:Reservation
COLOR:royalblue
DESCRIPTION:Predmeti: \nLetniki: \nIzvajalci: Katja Seražin\nProstori: Pr
 edavalnica II/3A
LOCATION:Predavalnica II/3A
ORGANIZER:Katja Seražin
X-WR-TIMEZONE:Europe/Ljubljana
END:VEVENT
BEGIN:VEVENT
SUMMARY:zagovori MAG
DTSTART;TZID=Europe/Ljubljana:20240916T113000
DTEND;TZID=Europe/Ljubljana:20240916T133000
DTSTAMP:20260424T080056Z
UID:fs-AFLABS-URNIK:rezervacija:6226
CATEGORIES:Reservation
COLOR:royalblue
DESCRIPTION:Predmeti: \nLetniki: \nIzvajalci: Katja Seražin\nProstori: Pr
 edavalnica II/2
LOCATION:Predavalnica II/2
ORGANIZER:Katja Seražin
X-WR-TIMEZONE:Europe/Ljubljana
END:VEVENT
BEGIN:VEVENT
SUMMARY:zagovori MAG
DTSTART;TZID=Europe/Ljubljana:20240912T083000
DTEND;TZID=Europe/Ljubljana:20240912T123000
DTSTAMP:20260424T080056Z
UID:fs-AFLABS-URNIK:rezervacija:6228
CATEGORIES:Reservation
COLOR:royalblue
DESCRIPTION:Predmeti: \nLetniki: \nIzvajalci: Katja Seražin\nProstori: Pr
 edavalnica II/3A
LOCATION:Predavalnica II/3A
ORGANIZER:Katja Seražin
X-WR-TIMEZONE:Europe/Ljubljana
END:VEVENT
BEGIN:VEVENT
SUMMARY:zagovori MAG
DTSTART;TZID=Europe/Ljubljana:20240912T103000
DTEND;TZID=Europe/Ljubljana:20240912T133000
DTSTAMP:20260424T080056Z
UID:fs-AFLABS-URNIK:rezervacija:6230
CATEGORIES:Reservation
COLOR:royalblue
DESCRIPTION:Predmeti: \nLetniki: \nIzvajalci: Katja Seražin\nProstori: Pr
 edavalnica II/3B
LOCATION:Predavalnica II/3B
ORGANIZER:Katja Seražin
X-WR-TIMEZONE:Europe/Ljubljana
END:VEVENT
BEGIN:VEVENT
SUMMARY:zagovori MAG
DTSTART;TZID=Europe/Ljubljana:20240920T120000
DTEND;TZID=Europe/Ljubljana:20240920T143000
DTSTAMP:20260424T080056Z
UID:fs-AFLABS-URNIK:rezervacija:6253
CATEGORIES:Reservation
COLOR:royalblue
DESCRIPTION:Predmeti: \nLetniki: \nIzvajalci: Katja Seražin\nProstori: Pr
 edavalnica II/2
LOCATION:Predavalnica II/2
ORGANIZER:Katja Seražin
X-WR-TIMEZONE:Europe/Ljubljana
END:VEVENT
END:VCALENDAR
