BEGIN:VCALENDAR
VERSION:2.0
PRODID:-//AFLabs urnik izvoz - fs//aflabs.si//SI
NAME:UL FS Urnik
X-WR-CALNAME:UL FS Urnik
DTSTAMP:20260419T235221Z
REFRESH-INTERVAL:PT1H
SOURCE:https://urnik.fs.uni-lj.si/teacher/859/?day=2023-01-16&export=1
URL:https://urnik.fs.uni-lj.si/teacher/859/?day=2023-01-16&export=1
X-PUBLISHED-TTL:PT1H
X-WR-TIMEZONE:Europe/Ljubljana
BEGIN:VTIMEZONE
TZID:Europe/Ljubljana
BEGIN:DAYLIGHT
DTSTART:20260329T020000
RDATE:20260329T020000
RDATE:20270328T020000
TZNAME:CEST
TZOFFSETFROM:+0100
TZOFFSETTO:+0200
END:DAYLIGHT
BEGIN:STANDARD
DTSTART:20261025T030000
RDATE:20261025T030000
RDATE:20271031T030000
TZNAME:CET
TZOFFSETFROM:+0200
TZOFFSETTO:+0100
END:STANDARD
END:VTIMEZONE
BEGIN:VEVENT
SUMMARY:Poslovni sestanek
DTSTART;TZID=Europe/Ljubljana:20221028T100000
DTEND;TZID=Europe/Ljubljana:20221028T120000
DTSTAMP:20260419T235221Z
UID:fs-AFLABS-URNIK:rezervacija:182
CATEGORIES:Reservation
COLOR:royalblue
DESCRIPTION:Predmeti: \nLetniki: \nIzvajalci: Luka Sterle\nProstori: Mala 
 sejna soba
LOCATION:Mala sejna soba
ORGANIZER:Luka Sterle
X-WR-TIMEZONE:Europe/Ljubljana
END:VEVENT
BEGIN:VEVENT
SUMMARY:Sestanek
DTSTART;TZID=Europe/Ljubljana:20221124T110000
DTEND;TZID=Europe/Ljubljana:20221124T130000
DTSTAMP:20260419T235221Z
UID:fs-AFLABS-URNIK:rezervacija:328
CATEGORIES:Reservation
COLOR:royalblue
DESCRIPTION:Predmeti: \nLetniki: \nIzvajalci: Luka Sterle\nProstori: Mala 
 sejna soba
LOCATION:Mala sejna soba
ORGANIZER:Luka Sterle
X-WR-TIMEZONE:Europe/Ljubljana
END:VEVENT
BEGIN:VEVENT
SUMMARY:Sestanek s poslovnimi partnerji
DTSTART;TZID=Europe/Ljubljana:20221020T100000
DTEND;TZID=Europe/Ljubljana:20221020T140000
DTSTAMP:20260419T235221Z
UID:fs-AFLABS-URNIK:rezervacija:75
CATEGORIES:Reservation
COLOR:royalblue
DESCRIPTION:Predmeti: \nLetniki: \nIzvajalci: Luka Sterle\nProstori: Mala 
 sejna soba
LOCATION:Mala sejna soba
ORGANIZER:Luka Sterle
X-WR-TIMEZONE:Europe/Ljubljana
END:VEVENT
BEGIN:VEVENT
SUMMARY:Sestanek
DTSTART;TZID=Europe/Ljubljana:20230120T090000
DTEND;TZID=Europe/Ljubljana:20230120T110000
DTSTAMP:20260419T235221Z
UID:fs-AFLABS-URNIK:rezervacija:414
CATEGORIES:Reservation
COLOR:royalblue
DESCRIPTION:Predmeti: \nLetniki: \nIzvajalci: Luka Sterle\nProstori: Mala 
 sejna soba
LOCATION:Mala sejna soba
ORGANIZER:Luka Sterle
X-WR-TIMEZONE:Europe/Ljubljana
END:VEVENT
BEGIN:VEVENT
SUMMARY:SESTANEK
DTSTART;TZID=Europe/Ljubljana:20221201T090000
DTEND;TZID=Europe/Ljubljana:20221201T110000
DTSTAMP:20260419T235221Z
UID:fs-AFLABS-URNIK:rezervacija:334
CATEGORIES:Reservation
COLOR:royalblue
DESCRIPTION:Predmeti: \nLetniki: \nIzvajalci: Luka Sterle\nProstori: Mala 
 sejna soba
LOCATION:Mala sejna soba
ORGANIZER:Luka Sterle
X-WR-TIMEZONE:Europe/Ljubljana
END:VEVENT
BEGIN:VEVENT
SUMMARY:Sestanek
DTSTART;TZID=Europe/Ljubljana:20221118T090000
DTEND;TZID=Europe/Ljubljana:20221118T100000
DTSTAMP:20260419T235221Z
UID:fs-AFLABS-URNIK:rezervacija:311
CATEGORIES:Reservation
COLOR:royalblue
DESCRIPTION:Predmeti: \nLetniki: \nIzvajalci: Luka Sterle\nProstori: Mala 
 sejna soba
LOCATION:Mala sejna soba
ORGANIZER:Luka Sterle
X-WR-TIMEZONE:Europe/Ljubljana
END:VEVENT
END:VCALENDAR
