BEGIN:VCALENDAR
VERSION:2.0
PRODID:-//AFLabs urnik izvoz - fs//aflabs.si//SI
NAME:UL FS Urnik
X-WR-CALNAME:UL FS Urnik
DTSTAMP:20260425T032100Z
REFRESH-INTERVAL:PT1H
SOURCE:https://urnik.fs.uni-lj.si/teacher/864/?day=2026-07-20&export=1
URL:https://urnik.fs.uni-lj.si/teacher/864/?day=2026-07-20&export=1
X-PUBLISHED-TTL:PT1H
X-WR-TIMEZONE:Europe/Ljubljana
BEGIN:VTIMEZONE
TZID:Europe/Ljubljana
BEGIN:DAYLIGHT
DTSTART:20260329T020000
RDATE:20260329T020000
RDATE:20270328T020000
TZNAME:CEST
TZOFFSETFROM:+0100
TZOFFSETTO:+0200
END:DAYLIGHT
BEGIN:STANDARD
DTSTART:20261025T030000
RDATE:20261025T030000
RDATE:20271031T030000
TZNAME:CET
TZOFFSETFROM:+0200
TZOFFSETTO:+0100
END:STANDARD
END:VTIMEZONE
BEGIN:VEVENT
SUMMARY:Izpit: Termofluidika
DTSTART;TZID=Europe/Ljubljana:20260810T160000
DTEND;TZID=Europe/Ljubljana:20260810T180000
DTSTAMP:20260425T032100Z
UID:fs-AFLABS-URNIK:rezervacija:11547
ATTENDEE:PAP-1 (PAP-1)
CATEGORIES:Reservation
COLOR:royalblue
DESCRIPTION:Predmeti: Termofluidika (TMFP)\nLetniki: PAP-1 (PAP-1)\nIzvaja
 lci: Božidar Šarler\nProstori: Predavalnica V/2\, Predavalnica V/8
LOCATION:Predavalnica V/2\, Predavalnica V/8
ORGANIZER:Božidar Šarler
X-WR-TIMEZONE:Europe/Ljubljana
END:VEVENT
BEGIN:VEVENT
SUMMARY:Izpit: Termofluidika
DTSTART;TZID=Europe/Ljubljana:20260810T160000
DTEND;TZID=Europe/Ljubljana:20260810T180000
DTSTAMP:20260425T032100Z
UID:fs-AFLABS-URNIK:rezervacija:11548
ATTENDEE:PAP-1 (PAP-1)
CATEGORIES:Reservation
COLOR:royalblue
DESCRIPTION:Predmeti: Termofluidika (TMFP)\nLetniki: PAP-1 (PAP-1)\nIzvaja
 lci: Božidar Šarler\nProstori: Predavalnica V/2\, Predavalnica V/8
LOCATION:Predavalnica V/2\, Predavalnica V/8
ORGANIZER:Božidar Šarler
X-WR-TIMEZONE:Europe/Ljubljana
END:VEVENT
BEGIN:VEVENT
SUMMARY:Izpit: Dinamika fluidov
DTSTART;TZID=Europe/Ljubljana:20260811T080000
DTEND;TZID=Europe/Ljubljana:20260811T100000
DTSTAMP:20260425T032100Z
UID:fs-AFLABS-URNIK:rezervacija:11607
ATTENDEE:RRP-3 (RRP-3)
CATEGORIES:Reservation
COLOR:royalblue
DESCRIPTION:Predmeti: Dinamika fluidov (2045)\nLetniki: RRP-3 (RRP-3)\nIzv
 ajalci: Božidar Šarler\nProstori: Predavalnica III/3B
LOCATION:Predavalnica III/3B
ORGANIZER:Božidar Šarler
X-WR-TIMEZONE:Europe/Ljubljana
END:VEVENT
BEGIN:VEVENT
SUMMARY:Izpit: Computational Fluid Dynamics
DTSTART;TZID=Europe/Ljubljana:20260615T140000
DTEND;TZID=Europe/Ljubljana:20260615T160000
DTSTAMP:20260425T032100Z
UID:fs-AFLABS-URNIK:rezervacija:11744
ATTENDEE:Erasmus (Erasmus)
CATEGORIES:Reservation
COLOR:royalblue
DESCRIPTION:Predmeti: Computational Fluid Dynamics (CFDE)\nLetniki: Erasmu
 s (Erasmus)\nIzvajalci: Božidar Šarler\nProstori: Predavalnica IV/2\, Pr
 edavalnica V/2\, Predavalnica V/8
LOCATION:Predavalnica IV/2\, Predavalnica V/2\, Predavalnica V/8
ORGANIZER:Božidar Šarler
X-WR-TIMEZONE:Europe/Ljubljana
END:VEVENT
BEGIN:VEVENT
SUMMARY:Izpit: Računalniška dinamika tekočin
DTSTART;TZID=Europe/Ljubljana:20260615T140000
DTEND;TZID=Europe/Ljubljana:20260615T160000
DTSTAMP:20260425T032100Z
UID:fs-AFLABS-URNIK:rezervacija:11745
ATTENDEE:Procesno strojništvo (MAG-1)
CATEGORIES:Reservation
COLOR:royalblue
DESCRIPTION:Predmeti: Računalniška dinamika tekočin (RDTM)\nLetniki: Pr
 ocesno strojništvo (MAG-1)\nIzvajalci: Božidar Šarler\nProstori: Predav
 alnica IV/2\, Predavalnica V/2\, Predavalnica V/8
LOCATION:Predavalnica IV/2\, Predavalnica V/2\, Predavalnica V/8
ORGANIZER:Božidar Šarler
X-WR-TIMEZONE:Europe/Ljubljana
END:VEVENT
BEGIN:VEVENT
SUMMARY:Izpit: Računalniška dinamika tekočin
DTSTART;TZID=Europe/Ljubljana:20260615T140000
DTEND;TZID=Europe/Ljubljana:20260615T160000
DTSTAMP:20260425T032100Z
UID:fs-AFLABS-URNIK:rezervacija:11746
ATTENDEE:Procesno strojništvo (MAG-1)
CATEGORIES:Reservation
COLOR:royalblue
DESCRIPTION:Predmeti: Računalniška dinamika tekočin (RDTM)\nLetniki: Pr
 ocesno strojništvo (MAG-1)\nIzvajalci: Božidar Šarler\nProstori: Predav
 alnica IV/2\, Predavalnica V/2\, Predavalnica V/8
LOCATION:Predavalnica IV/2\, Predavalnica V/2\, Predavalnica V/8
ORGANIZER:Božidar Šarler
X-WR-TIMEZONE:Europe/Ljubljana
END:VEVENT
BEGIN:VEVENT
SUMMARY:Izpit: Termofluidika
DTSTART;TZID=Europe/Ljubljana:20260615T140000
DTEND;TZID=Europe/Ljubljana:20260615T160000
DTSTAMP:20260425T032100Z
UID:fs-AFLABS-URNIK:rezervacija:11747
ATTENDEE:PAP-1 (PAP-1)
CATEGORIES:Reservation
COLOR:royalblue
DESCRIPTION:Predmeti: Termofluidika (TMFP)\nLetniki: PAP-1 (PAP-1)\nIzvaja
 lci: Božidar Šarler\nProstori: Predavalnica IV/2\, Predavalnica V/2\, Pr
 edavalnica V/8
LOCATION:Predavalnica IV/2\, Predavalnica V/2\, Predavalnica V/8
ORGANIZER:Božidar Šarler
X-WR-TIMEZONE:Europe/Ljubljana
END:VEVENT
BEGIN:VEVENT
SUMMARY:Izpit: Termofluidika
DTSTART;TZID=Europe/Ljubljana:20260615T140000
DTEND;TZID=Europe/Ljubljana:20260615T160000
DTSTAMP:20260425T032100Z
UID:fs-AFLABS-URNIK:rezervacija:11748
ATTENDEE:PAP-1 (PAP-1)
CATEGORIES:Reservation
COLOR:royalblue
DESCRIPTION:Predmeti: Termofluidika (TMFP)\nLetniki: PAP-1 (PAP-1)\nIzvaja
 lci: Božidar Šarler\nProstori: Predavalnica IV/2\, Predavalnica V/2\, Pr
 edavalnica V/8
LOCATION:Predavalnica IV/2\, Predavalnica V/2\, Predavalnica V/8
ORGANIZER:Božidar Šarler
X-WR-TIMEZONE:Europe/Ljubljana
END:VEVENT
BEGIN:VEVENT
SUMMARY:Izpit: Termodinamika
DTSTART;TZID=Europe/Ljubljana:20260617T090000
DTEND;TZID=Europe/Ljubljana:20260617T110000
DTSTAMP:20260425T032100Z
UID:fs-AFLABS-URNIK:rezervacija:11783
ATTENDEE:RRP-1 (RRP-1)
CATEGORIES:Reservation
COLOR:royalblue
DESCRIPTION:Predmeti: Termodinamika (TMDR)\nLetniki: RRP-1 (RRP-1)\nIzvaja
 lci: Božidar Šarler\nProstori: Predavalnica IV/2\, Predavalnica IV/4\, P
 redavalnica V/2\, Predavalnica V/8
LOCATION:Predavalnica IV/2\, Predavalnica IV/4\, Predavalnica V/2\, Predav
 alnica V/8
ORGANIZER:Božidar Šarler
X-WR-TIMEZONE:Europe/Ljubljana
END:VEVENT
BEGIN:VEVENT
SUMMARY:Izpit: Termodinamika
DTSTART;TZID=Europe/Ljubljana:20260617T090000
DTEND;TZID=Europe/Ljubljana:20260617T110000
DTSTAMP:20260425T032100Z
UID:fs-AFLABS-URNIK:rezervacija:11784
ATTENDEE:RRP-1 (RRP-1)
CATEGORIES:Reservation
COLOR:royalblue
DESCRIPTION:Predmeti: Termodinamika (TMDR)\nLetniki: RRP-1 (RRP-1)\nIzvaja
 lci: Božidar Šarler\nProstori: Predavalnica IV/2\, Predavalnica IV/4\, P
 redavalnica V/2\, Predavalnica V/8
LOCATION:Predavalnica IV/2\, Predavalnica IV/4\, Predavalnica V/2\, Predav
 alnica V/8
ORGANIZER:Božidar Šarler
X-WR-TIMEZONE:Europe/Ljubljana
END:VEVENT
BEGIN:VEVENT
SUMMARY:Izpit: Computational Fluid Dynamics
DTSTART;TZID=Europe/Ljubljana:20260817T160000
DTEND;TZID=Europe/Ljubljana:20260817T180000
DTSTAMP:20260425T032100Z
UID:fs-AFLABS-URNIK:rezervacija:11816
ATTENDEE:Erasmus (Erasmus)
CATEGORIES:Reservation
COLOR:royalblue
DESCRIPTION:Predmeti: Computational Fluid Dynamics (CFDE)\nLetniki: Erasmu
 s (Erasmus)\nIzvajalci: Božidar Šarler\nProstori: Predavalnica V/8
LOCATION:Predavalnica V/8
ORGANIZER:Božidar Šarler
X-WR-TIMEZONE:Europe/Ljubljana
END:VEVENT
BEGIN:VEVENT
SUMMARY:Izpit: Računalniška dinamika tekočin
DTSTART;TZID=Europe/Ljubljana:20260817T160000
DTEND;TZID=Europe/Ljubljana:20260817T180000
DTSTAMP:20260425T032100Z
UID:fs-AFLABS-URNIK:rezervacija:11817
ATTENDEE:Procesno strojništvo (MAG-1)
CATEGORIES:Reservation
COLOR:royalblue
DESCRIPTION:Predmeti: Računalniška dinamika tekočin (RDTM)\nLetniki: Pr
 ocesno strojništvo (MAG-1)\nIzvajalci: Božidar Šarler\nProstori: Predav
 alnica V/8
LOCATION:Predavalnica V/8
ORGANIZER:Božidar Šarler
X-WR-TIMEZONE:Europe/Ljubljana
END:VEVENT
BEGIN:VEVENT
SUMMARY:Izpit: Računalniška dinamika tekočin
DTSTART;TZID=Europe/Ljubljana:20260817T160000
DTEND;TZID=Europe/Ljubljana:20260817T180000
DTSTAMP:20260425T032100Z
UID:fs-AFLABS-URNIK:rezervacija:11818
ATTENDEE:Procesno strojništvo (MAG-1)
CATEGORIES:Reservation
COLOR:royalblue
DESCRIPTION:Predmeti: Računalniška dinamika tekočin (RDTM)\nLetniki: Pr
 ocesno strojništvo (MAG-1)\nIzvajalci: Božidar Šarler\nProstori: Predav
 alnica V/8
LOCATION:Predavalnica V/8
ORGANIZER:Božidar Šarler
X-WR-TIMEZONE:Europe/Ljubljana
END:VEVENT
BEGIN:VEVENT
SUMMARY:Izpit: Statika in dinamika tekočin
DTSTART;TZID=Europe/Ljubljana:20260818T140000
DTEND;TZID=Europe/Ljubljana:20260818T160000
DTSTAMP:20260425T032100Z
UID:fs-AFLABS-URNIK:rezervacija:11867
ATTENDEE:RRP-2 (RRP-2)
CATEGORIES:Reservation
COLOR:royalblue
DESCRIPTION:Predmeti: Statika in dinamika tekočin (SDTR)\nLetniki: RRP-2 
 (RRP-2)\nIzvajalci: Božidar Šarler\nProstori: Predavalnica V/2
LOCATION:Predavalnica V/2
ORGANIZER:Božidar Šarler
X-WR-TIMEZONE:Europe/Ljubljana
END:VEVENT
BEGIN:VEVENT
SUMMARY:Izpit: Computational Fluid Dynamics
DTSTART;TZID=Europe/Ljubljana:20260629T100000
DTEND;TZID=Europe/Ljubljana:20260629T120000
DTSTAMP:20260425T032100Z
UID:fs-AFLABS-URNIK:rezervacija:11885
ATTENDEE:Erasmus (Erasmus)
CATEGORIES:Reservation
COLOR:royalblue
DESCRIPTION:Predmeti: Computational Fluid Dynamics (CFDE)\nLetniki: Erasmu
 s (Erasmus)\nIzvajalci: Božidar Šarler\nProstori: Predavalnica V/2
LOCATION:Predavalnica V/2
ORGANIZER:Božidar Šarler
X-WR-TIMEZONE:Europe/Ljubljana
END:VEVENT
BEGIN:VEVENT
SUMMARY:Izpit: Računalniška dinamika tekočin
DTSTART;TZID=Europe/Ljubljana:20260629T100000
DTEND;TZID=Europe/Ljubljana:20260629T120000
DTSTAMP:20260425T032100Z
UID:fs-AFLABS-URNIK:rezervacija:11886
ATTENDEE:Procesno strojništvo (MAG-1)
CATEGORIES:Reservation
COLOR:royalblue
DESCRIPTION:Predmeti: Računalniška dinamika tekočin (RDTM)\nLetniki: Pr
 ocesno strojništvo (MAG-1)\nIzvajalci: Božidar Šarler\nProstori: Predav
 alnica V/2
LOCATION:Predavalnica V/2
ORGANIZER:Božidar Šarler
X-WR-TIMEZONE:Europe/Ljubljana
END:VEVENT
BEGIN:VEVENT
SUMMARY:Izpit: Računalniška dinamika tekočin
DTSTART;TZID=Europe/Ljubljana:20260629T100000
DTEND;TZID=Europe/Ljubljana:20260629T120000
DTSTAMP:20260425T032100Z
UID:fs-AFLABS-URNIK:rezervacija:11887
ATTENDEE:Procesno strojništvo (MAG-1)
CATEGORIES:Reservation
COLOR:royalblue
DESCRIPTION:Predmeti: Računalniška dinamika tekočin (RDTM)\nLetniki: Pr
 ocesno strojništvo (MAG-1)\nIzvajalci: Božidar Šarler\nProstori: Predav
 alnica V/2
LOCATION:Predavalnica V/2
ORGANIZER:Božidar Šarler
X-WR-TIMEZONE:Europe/Ljubljana
END:VEVENT
BEGIN:VEVENT
SUMMARY:Izpit: Termofluidika
DTSTART;TZID=Europe/Ljubljana:20260629T140000
DTEND;TZID=Europe/Ljubljana:20260629T160000
DTSTAMP:20260425T032100Z
UID:fs-AFLABS-URNIK:rezervacija:11892
ATTENDEE:PAP-1 (PAP-1)
CATEGORIES:Reservation
COLOR:royalblue
DESCRIPTION:Predmeti: Termofluidika (TMFP)\nLetniki: PAP-1 (PAP-1)\nIzvaja
 lci: Božidar Šarler\nProstori: Predavalnica IV/4\, Predavalnica V/2\, Pr
 edavalnica V/8
LOCATION:Predavalnica IV/4\, Predavalnica V/2\, Predavalnica V/8
ORGANIZER:Božidar Šarler
X-WR-TIMEZONE:Europe/Ljubljana
END:VEVENT
BEGIN:VEVENT
SUMMARY:Izpit: Termofluidika
DTSTART;TZID=Europe/Ljubljana:20260629T140000
DTEND;TZID=Europe/Ljubljana:20260629T160000
DTSTAMP:20260425T032100Z
UID:fs-AFLABS-URNIK:rezervacija:11893
ATTENDEE:PAP-1 (PAP-1)
CATEGORIES:Reservation
COLOR:royalblue
DESCRIPTION:Predmeti: Termofluidika (TMFP)\nLetniki: PAP-1 (PAP-1)\nIzvaja
 lci: Božidar Šarler\nProstori: Predavalnica IV/4\, Predavalnica V/2\, Pr
 edavalnica V/8
LOCATION:Predavalnica IV/4\, Predavalnica V/2\, Predavalnica V/8
ORGANIZER:Božidar Šarler
X-WR-TIMEZONE:Europe/Ljubljana
END:VEVENT
BEGIN:VEVENT
SUMMARY:Izpit: Večfazni sistemi
DTSTART;TZID=Europe/Ljubljana:20260622T130000
DTEND;TZID=Europe/Ljubljana:20260622T150000
DTSTAMP:20260425T032100Z
UID:fs-AFLABS-URNIK:rezervacija:12067
ATTENDEE:Procesno strojništvo (MAG-2)
CATEGORIES:Reservation
COLOR:royalblue
DESCRIPTION:Predmeti: Večfazni sistemi (VFSM)\nLetniki: Procesno strojni
 štvo (MAG-2)\nIzvajalci: Božidar Šarler\nProstori: Predavalnica III/2
LOCATION:Predavalnica III/2
ORGANIZER:Božidar Šarler
X-WR-TIMEZONE:Europe/Ljubljana
END:VEVENT
BEGIN:VEVENT
SUMMARY:Izpit: Statika in dinamika tekočin
DTSTART;TZID=Europe/Ljubljana:20260818T140000
DTEND;TZID=Europe/Ljubljana:20260818T160000
DTSTAMP:20260425T032100Z
UID:fs-AFLABS-URNIK:rezervacija:12650
ATTENDEE:RRP-2 (RRP-2)
CATEGORIES:Reservation
COLOR:royalblue
DESCRIPTION:Predmeti: Statika in dinamika tekočin (SDTR)\nLetniki: RRP-2 
 (RRP-2)\nIzvajalci: Božidar Šarler\nProstori: Predavalnica V/2
LOCATION:Predavalnica V/2
ORGANIZER:Božidar Šarler
X-WR-TIMEZONE:Europe/Ljubljana
END:VEVENT
BEGIN:VEVENT
SUMMARY:Izpit: Večfazni sistemi
DTSTART;TZID=Europe/Ljubljana:20260622T130000
DTEND;TZID=Europe/Ljubljana:20260622T150000
DTSTAMP:20260425T032100Z
UID:fs-AFLABS-URNIK:rezervacija:12825
ATTENDEE:Procesno strojništvo (MAG-2)
CATEGORIES:Reservation
COLOR:royalblue
DESCRIPTION:Predmeti: Večfazni sistemi (VFSM)\nLetniki: Procesno strojni
 štvo (MAG-2)\nIzvajalci: Božidar Šarler\nProstori: Predavalnica III/2
LOCATION:Predavalnica III/2
ORGANIZER:Božidar Šarler
X-WR-TIMEZONE:Europe/Ljubljana
END:VEVENT
END:VCALENDAR
