BEGIN:VCALENDAR
VERSION:2.0
PRODID:-//AFLabs urnik izvoz - fs//aflabs.si//SI
NAME:UL FS Urnik
X-WR-CALNAME:UL FS Urnik
DTSTAMP:20260419T121836Z
REFRESH-INTERVAL:PT1H
SOURCE:https://urnik.fs.uni-lj.si/teacher/870/?day=2026-06-01&export=1
URL:https://urnik.fs.uni-lj.si/teacher/870/?day=2026-06-01&export=1
X-PUBLISHED-TTL:PT1H
X-WR-TIMEZONE:Europe/Ljubljana
BEGIN:VTIMEZONE
TZID:Europe/Ljubljana
BEGIN:DAYLIGHT
DTSTART:20260329T020000
RDATE:20260329T020000
RDATE:20270328T020000
TZNAME:CEST
TZOFFSETFROM:+0100
TZOFFSETTO:+0200
END:DAYLIGHT
BEGIN:STANDARD
DTSTART:20261025T030000
RDATE:20261025T030000
RDATE:20271031T030000
TZNAME:CET
TZOFFSETFROM:+0200
TZOFFSETTO:+0100
END:STANDARD
END:VTIMEZONE
BEGIN:VEVENT
SUMMARY:Strojni elementi 2 - RRP (SE2R)\, Laboratorijske vaje (VL)\, [S10]
DTSTART;TZID=Europe/Ljubljana:20260429T160000
DTEND;TZID=Europe/Ljubljana:20260429T173000
DTSTAMP:20260419T121836Z
UID:fs-AFLABS-URNIK:srecanje:16290-2026-04-29 16:00:00+02:00
DESCRIPTION:Predmet: Strojni elementi 2 - RRP (SE2R)\, Laboratorijske vaje
  (VL)\, [S10]\nLetniki: RRP-2 (RRP-2)\nIzvajalci: Andrej Škrlec\nProstor:
  Laboratorij LASEM K-15B
END:VEVENT
BEGIN:VEVENT
SUMMARY:Strojni elementi 2 - RRP (SE2R)\, Laboratorijske vaje (VL)\, [S10]
DTSTART;TZID=Europe/Ljubljana:20260513T160000
DTEND;TZID=Europe/Ljubljana:20260513T173000
DTSTAMP:20260419T121836Z
UID:fs-AFLABS-URNIK:srecanje:16290-2026-05-13 16:00:00+02:00
DESCRIPTION:Predmet: Strojni elementi 2 - RRP (SE2R)\, Laboratorijske vaje
  (VL)\, [S10]\nLetniki: RRP-2 (RRP-2)\nIzvajalci: Andrej Škrlec\nProstor:
  Laboratorij LASEM K-15B
END:VEVENT
BEGIN:VEVENT
SUMMARY:Strojni elementi 2 - RRP (SE2R)\, Laboratorijske vaje (VL)\, [S10]
DTSTART;TZID=Europe/Ljubljana:20260527T160000
DTEND;TZID=Europe/Ljubljana:20260527T173000
DTSTAMP:20260419T121836Z
UID:fs-AFLABS-URNIK:srecanje:16290-2026-05-27 16:00:00+02:00
DESCRIPTION:Predmet: Strojni elementi 2 - RRP (SE2R)\, Laboratorijske vaje
  (VL)\, [S10]\nLetniki: RRP-2 (RRP-2)\nIzvajalci: Andrej Škrlec\nProstor:
  Laboratorij LASEM K-15B
END:VEVENT
BEGIN:VEVENT
SUMMARY:Strojni elementi 2 - RRP (SE2R)\, Laboratorijske vaje (VL)\, [S6]
DTSTART;TZID=Europe/Ljubljana:20260430T110000
DTEND;TZID=Europe/Ljubljana:20260430T130000
DTSTAMP:20260419T121836Z
UID:fs-AFLABS-URNIK:srecanje:16294-2026-04-30 11:00:00+02:00
DESCRIPTION:Predmet: Strojni elementi 2 - RRP (SE2R)\, Laboratorijske vaje
  (VL)\, [S6]\nLetniki: RRP-2 (RRP-2)\nIzvajalci: Andrej Škrlec\nProstor: 
 Laboratorij LASEM K-15B
END:VEVENT
BEGIN:VEVENT
SUMMARY:Strojni elementi 2 - RRP (SE2R)\, Laboratorijske vaje (VL)\, [S6]
DTSTART;TZID=Europe/Ljubljana:20260514T110000
DTEND;TZID=Europe/Ljubljana:20260514T130000
DTSTAMP:20260419T121836Z
UID:fs-AFLABS-URNIK:srecanje:16294-2026-05-14 11:00:00+02:00
DESCRIPTION:Predmet: Strojni elementi 2 - RRP (SE2R)\, Laboratorijske vaje
  (VL)\, [S6]\nLetniki: RRP-2 (RRP-2)\nIzvajalci: Andrej Škrlec\nProstor: 
 Laboratorij LASEM K-15B
END:VEVENT
BEGIN:VEVENT
SUMMARY:Strojni elementi 2 - RRP (SE2R)\, Laboratorijske vaje (VL)\, [S6]
DTSTART;TZID=Europe/Ljubljana:20260528T110000
DTEND;TZID=Europe/Ljubljana:20260528T130000
DTSTAMP:20260419T121836Z
UID:fs-AFLABS-URNIK:srecanje:16294-2026-05-28 11:00:00+02:00
DESCRIPTION:Predmet: Strojni elementi 2 - RRP (SE2R)\, Laboratorijske vaje
  (VL)\, [S6]\nLetniki: RRP-2 (RRP-2)\nIzvajalci: Andrej Škrlec\nProstor: 
 Laboratorij LASEM K-15B
END:VEVENT
BEGIN:VEVENT
SUMMARY:Strojni elementi 2 - RRP (SE2R)\, Laboratorijske vaje (VL)\, [S12]
DTSTART;TZID=Europe/Ljubljana:20260501T120000
DTEND;TZID=Europe/Ljubljana:20260501T140000
DTSTAMP:20260419T121836Z
UID:fs-AFLABS-URNIK:srecanje:16300-2026-05-01 12:00:00+02:00
DESCRIPTION:Predmet: Strojni elementi 2 - RRP (SE2R)\, Laboratorijske vaje
  (VL)\, [S12]\nLetniki: RRP-2 (RRP-2)\nIzvajalci: Andrej Škrlec\nProstor:
  Laboratorij LASEM K-15B
END:VEVENT
BEGIN:VEVENT
SUMMARY:Strojni elementi 2 - RRP (SE2R)\, Laboratorijske vaje (VL)\, [S12]
DTSTART;TZID=Europe/Ljubljana:20260515T120000
DTEND;TZID=Europe/Ljubljana:20260515T140000
DTSTAMP:20260419T121836Z
UID:fs-AFLABS-URNIK:srecanje:16300-2026-05-15 12:00:00+02:00
DESCRIPTION:Predmet: Strojni elementi 2 - RRP (SE2R)\, Laboratorijske vaje
  (VL)\, [S12]\nLetniki: RRP-2 (RRP-2)\nIzvajalci: Andrej Škrlec\nProstor:
  Laboratorij LASEM K-15B
END:VEVENT
BEGIN:VEVENT
SUMMARY:Strojni elementi 2 - RRP (SE2R)\, Laboratorijske vaje (VL)\, [S12]
DTSTART;TZID=Europe/Ljubljana:20260529T120000
DTEND;TZID=Europe/Ljubljana:20260529T140000
DTSTAMP:20260419T121836Z
UID:fs-AFLABS-URNIK:srecanje:16300-2026-05-29 12:00:00+02:00
DESCRIPTION:Predmet: Strojni elementi 2 - RRP (SE2R)\, Laboratorijske vaje
  (VL)\, [S12]\nLetniki: RRP-2 (RRP-2)\nIzvajalci: Andrej Škrlec\nProstor:
  Laboratorij LASEM K-15B
END:VEVENT
BEGIN:VEVENT
SUMMARY:Strojni elementi 2 - RRP (SE2R)\, Laboratorijske vaje (VL)\, [S4]
DTSTART;TZID=Europe/Ljubljana:20260501T140000
DTEND;TZID=Europe/Ljubljana:20260501T153000
DTSTAMP:20260419T121836Z
UID:fs-AFLABS-URNIK:srecanje:16302-2026-05-01 14:00:00+02:00
DESCRIPTION:Predmet: Strojni elementi 2 - RRP (SE2R)\, Laboratorijske vaje
  (VL)\, [S4]\nLetniki: RRP-2 (RRP-2)\nIzvajalci: Andrej Škrlec\nProstor: 
 Laboratorij LASEM K-15B
END:VEVENT
BEGIN:VEVENT
SUMMARY:Strojni elementi 2 - RRP (SE2R)\, Laboratorijske vaje (VL)\, [S4]
DTSTART;TZID=Europe/Ljubljana:20260515T140000
DTEND;TZID=Europe/Ljubljana:20260515T153000
DTSTAMP:20260419T121836Z
UID:fs-AFLABS-URNIK:srecanje:16302-2026-05-15 14:00:00+02:00
DESCRIPTION:Predmet: Strojni elementi 2 - RRP (SE2R)\, Laboratorijske vaje
  (VL)\, [S4]\nLetniki: RRP-2 (RRP-2)\nIzvajalci: Andrej Škrlec\nProstor: 
 Laboratorij LASEM K-15B
END:VEVENT
BEGIN:VEVENT
SUMMARY:Strojni elementi 2 - RRP (SE2R)\, Laboratorijske vaje (VL)\, [S4]
DTSTART;TZID=Europe/Ljubljana:20260529T140000
DTEND;TZID=Europe/Ljubljana:20260529T153000
DTSTAMP:20260419T121836Z
UID:fs-AFLABS-URNIK:srecanje:16302-2026-05-29 14:00:00+02:00
DESCRIPTION:Predmet: Strojni elementi 2 - RRP (SE2R)\, Laboratorijske vaje
  (VL)\, [S4]\nLetniki: RRP-2 (RRP-2)\nIzvajalci: Andrej Škrlec\nProstor: 
 Laboratorij LASEM K-15B
END:VEVENT
BEGIN:VEVENT
SUMMARY:Strojni elementi 2 - RRP (SE2R)\, Predavalniške vaje (VP)\, [S1]
DTSTART;TZID=Europe/Ljubljana:20260507T080000
DTEND;TZID=Europe/Ljubljana:20260507T093000
DTSTAMP:20260419T121836Z
UID:fs-AFLABS-URNIK:srecanje:16249-2026-05-07 08:00:00+02:00
DESCRIPTION:Predmet: Strojni elementi 2 - RRP (SE2R)\, Predavalniške vaje
  (VP)\, [S1]\nLetniki: RRP-2 (RRP-2)\nIzvajalci: Andrej Škrlec\nProstor: 
 Predavalnica III/2
END:VEVENT
BEGIN:VEVENT
SUMMARY:Strojni elementi 2 - RRP (SE2R)\, Predavalniške vaje (VP)\, [S1]
DTSTART;TZID=Europe/Ljubljana:20260521T080000
DTEND;TZID=Europe/Ljubljana:20260521T093000
DTSTAMP:20260419T121836Z
UID:fs-AFLABS-URNIK:srecanje:16249-2026-05-21 08:00:00+02:00
DESCRIPTION:Predmet: Strojni elementi 2 - RRP (SE2R)\, Predavalniške vaje
  (VP)\, [S1]\nLetniki: RRP-2 (RRP-2)\nIzvajalci: Andrej Škrlec\nProstor: 
 Predavalnica III/2
END:VEVENT
BEGIN:VEVENT
SUMMARY:Strojni elementi 2 - RRP (SE2R)\, Predavalniške vaje (VP)\, [S3]
DTSTART;TZID=Europe/Ljubljana:20260508T120000
DTEND;TZID=Europe/Ljubljana:20260508T140000
DTSTAMP:20260419T121836Z
UID:fs-AFLABS-URNIK:srecanje:16251-2026-05-08 12:00:00+02:00
DESCRIPTION:Predmet: Strojni elementi 2 - RRP (SE2R)\, Predavalniške vaje
  (VP)\, [S3]\nLetniki: RRP-2 (RRP-2)\nIzvajalci: Andrej Škrlec\nProstor: 
 Predavalnica IV/2
END:VEVENT
BEGIN:VEVENT
SUMMARY:Strojni elementi 2 - RRP (SE2R)\, Predavalniške vaje (VP)\, [S3]
DTSTART;TZID=Europe/Ljubljana:20260522T120000
DTEND;TZID=Europe/Ljubljana:20260522T140000
DTSTAMP:20260419T121836Z
UID:fs-AFLABS-URNIK:srecanje:16251-2026-05-22 12:00:00+02:00
DESCRIPTION:Predmet: Strojni elementi 2 - RRP (SE2R)\, Predavalniške vaje
  (VP)\, [S3]\nLetniki: RRP-2 (RRP-2)\nIzvajalci: Andrej Škrlec\nProstor: 
 Predavalnica IV/2
END:VEVENT
BEGIN:VEVENT
SUMMARY:Konstruiranje v industriji (KVIP)\, Laboratorijske vaje (VL)\, [S1
 ]
DTSTART;TZID=Europe/Ljubljana:20260508T073000
DTEND;TZID=Europe/Ljubljana:20260508T093000
DTSTAMP:20260419T121836Z
UID:fs-AFLABS-URNIK:srecanje:17035-2026-05-08 07:30:00+02:00
DESCRIPTION:Predmet: Konstruiranje v industriji (KVIP)\, Laboratorijske va
 je (VL)\, [S1]\nLetniki: Konstruiranje industrijskih sistemov (PAP-2)\nIzv
 ajalci: Aleš Gosar\, Ivan Okorn\, Simon Oman\, Branislav Panić\, Domen 
 Šeruga\, Andrej Škrlec\nProstor: Laboratorij LAVEK IV/6
END:VEVENT
BEGIN:VEVENT
SUMMARY:Konstruiranje v industriji (KVIP)\, Laboratorijske vaje (VL)\, [S1
 ]
DTSTART;TZID=Europe/Ljubljana:20260529T073000
DTEND;TZID=Europe/Ljubljana:20260529T093000
DTSTAMP:20260419T121836Z
UID:fs-AFLABS-URNIK:srecanje:17035-2026-05-29 07:30:00+02:00
DESCRIPTION:Predmet: Konstruiranje v industriji (KVIP)\, Laboratorijske va
 je (VL)\, [S1]\nLetniki: Konstruiranje industrijskih sistemov (PAP-2)\nIzv
 ajalci: Aleš Gosar\, Ivan Okorn\, Simon Oman\, Branislav Panić\, Domen 
 Šeruga\, Andrej Škrlec\nProstor: Laboratorij LAVEK IV/6
END:VEVENT
BEGIN:VEVENT
SUMMARY:Konstruiranje v industriji (KVIP)\, Laboratorijske vaje (VL)\, [S2
 ]
DTSTART;TZID=Europe/Ljubljana:20260508T153000
DTEND;TZID=Europe/Ljubljana:20260508T173000
DTSTAMP:20260419T121836Z
UID:fs-AFLABS-URNIK:srecanje:17037-2026-05-08 15:30:00+02:00
DESCRIPTION:Predmet: Konstruiranje v industriji (KVIP)\, Laboratorijske va
 je (VL)\, [S2]\nLetniki: Konstruiranje industrijskih sistemov (PAP-2)\nIzv
 ajalci: Aleš Gosar\, Ivan Okorn\, Simon Oman\, Branislav Panić\, Domen 
 Šeruga\, Andrej Škrlec\nProstor: Laboratorij LAVEK IV/6
END:VEVENT
BEGIN:VEVENT
SUMMARY:Konstruiranje v industriji (KVIP)\, Laboratorijske vaje (VL)\, [S2
 ]
DTSTART;TZID=Europe/Ljubljana:20260529T153000
DTEND;TZID=Europe/Ljubljana:20260529T173000
DTSTAMP:20260419T121836Z
UID:fs-AFLABS-URNIK:srecanje:17037-2026-05-29 15:30:00+02:00
DESCRIPTION:Predmet: Konstruiranje v industriji (KVIP)\, Laboratorijske va
 je (VL)\, [S2]\nLetniki: Konstruiranje industrijskih sistemov (PAP-2)\nIzv
 ajalci: Aleš Gosar\, Ivan Okorn\, Simon Oman\, Branislav Panić\, Domen 
 Šeruga\, Andrej Škrlec\nProstor: Laboratorij LAVEK IV/6
END:VEVENT
END:VCALENDAR
