BEGIN:VCALENDAR
VERSION:2.0
PRODID:-//AFLabs urnik izvoz - fs//aflabs.si//SI
NAME:UL FS Urnik
X-WR-CALNAME:UL FS Urnik
DTSTAMP:20260420T023504Z
REFRESH-INTERVAL:PT1H
SOURCE:https://urnik.fs.uni-lj.si/teacher/872/?day=2025-02-10&export=1
URL:https://urnik.fs.uni-lj.si/teacher/872/?day=2025-02-10&export=1
X-PUBLISHED-TTL:PT1H
X-WR-TIMEZONE:Europe/Ljubljana
BEGIN:VTIMEZONE
TZID:Europe/Ljubljana
BEGIN:DAYLIGHT
DTSTART:20260329T020000
RDATE:20260329T020000
RDATE:20270328T020000
TZNAME:CEST
TZOFFSETFROM:+0100
TZOFFSETTO:+0200
END:DAYLIGHT
BEGIN:STANDARD
DTSTART:20261025T030000
RDATE:20261025T030000
RDATE:20271031T030000
TZNAME:CET
TZOFFSETFROM:+0200
TZOFFSETTO:+0100
END:STANDARD
END:VTIMEZONE
BEGIN:VEVENT
SUMMARY:Mehatronika in laserske tehnologije (MLTR)\, Predavalniške vaje (
 VP)
DTSTART;TZID=Europe/Ljubljana:20250218T080000
DTEND;TZID=Europe/Ljubljana:20250218T100000
DTSTAMP:20260420T023504Z
UID:fs-AFLABS-URNIK:srecanje:9709-2025-02-18 08:00:00+01:00
DESCRIPTION:Predmet: Mehatronika in laserske tehnologije (MLTR)\, Predaval
 niške vaje (VP)\nLetniki: RRP-3 (RRP-3)\nIzvajalci: Aleš Babnik\, Luka H
 ribar\, Gašper Škulj\nProstor: Predavalnica IV/4
END:VEVENT
BEGIN:VEVENT
SUMMARY:Mehatronika in laserske tehnologije (MLTR)\, Predavanja (P)
DTSTART;TZID=Europe/Ljubljana:20250219T073000
DTEND;TZID=Europe/Ljubljana:20250219T100000
DTSTAMP:20260420T023504Z
UID:fs-AFLABS-URNIK:srecanje:14474-2025-02-19 07:30:00+01:00
DESCRIPTION:Predmet: Mehatronika in laserske tehnologije (MLTR)\, Predavan
 ja (P)\nLetniki: RRP-3 (RRP-3)\nIzvajalci: Matija Jezeršek\, Gašper Šku
 lj\nProstor: Predavalnica III/2
END:VEVENT
BEGIN:VEVENT
SUMMARY:Mehatronika in laserske tehnologije (MLTR)\, Predavanja (P)
DTSTART;TZID=Europe/Ljubljana:20250226T073000
DTEND;TZID=Europe/Ljubljana:20250226T100000
DTSTAMP:20260420T023504Z
UID:fs-AFLABS-URNIK:srecanje:14474-2025-02-26 07:30:00+01:00
DESCRIPTION:Predmet: Mehatronika in laserske tehnologije (MLTR)\, Predavan
 ja (P)\nLetniki: RRP-3 (RRP-3)\nIzvajalci: Matija Jezeršek\, Gašper Šku
 lj\nProstor: Predavalnica III/2
END:VEVENT
BEGIN:VEVENT
SUMMARY:Mehatronika in laserske tehnologije (MLTR)\, Predavanja (P)
DTSTART;TZID=Europe/Ljubljana:20250305T073000
DTEND;TZID=Europe/Ljubljana:20250305T100000
DTSTAMP:20260420T023504Z
UID:fs-AFLABS-URNIK:srecanje:14474-2025-03-05 07:30:00+01:00
DESCRIPTION:Predmet: Mehatronika in laserske tehnologije (MLTR)\, Predavan
 ja (P)\nLetniki: RRP-3 (RRP-3)\nIzvajalci: Matija Jezeršek\, Gašper Šku
 lj\nProstor: Predavalnica III/2
END:VEVENT
BEGIN:VEVENT
SUMMARY:Mehatronika in laserske tehnologije (MLTR)\, Predavanja (P)
DTSTART;TZID=Europe/Ljubljana:20250312T073000
DTEND;TZID=Europe/Ljubljana:20250312T100000
DTSTAMP:20260420T023504Z
UID:fs-AFLABS-URNIK:srecanje:14474-2025-03-12 07:30:00+01:00
DESCRIPTION:Predmet: Mehatronika in laserske tehnologije (MLTR)\, Predavan
 ja (P)\nLetniki: RRP-3 (RRP-3)\nIzvajalci: Matija Jezeršek\, Gašper Šku
 lj\nProstor: Predavalnica III/2
END:VEVENT
BEGIN:VEVENT
SUMMARY:Mehatronika in laserske tehnologije (MLTR)\, Laboratorijske vaje (
 VL)\, [S1]
DTSTART;TZID=Europe/Ljubljana:20250225T080000
DTEND;TZID=Europe/Ljubljana:20250225T100000
DTSTAMP:20260420T023504Z
UID:fs-AFLABS-URNIK:srecanje:14387-2025-02-25 08:00:00+01:00
DESCRIPTION:Predmet: Mehatronika in laserske tehnologije (MLTR)\, Laborato
 rijske vaje (VL)\, [S1]\nLetniki: RRP-3 (RRP-3)\nIzvajalci: Aleš Babnik\,
  Luka Hribar\, Gašper Škulj\nProstor: Laboratorij LAMPA SII-82A
END:VEVENT
BEGIN:VEVENT
SUMMARY:Mehatronika in laserske tehnologije (MLTR)\, Laboratorijske vaje (
 VL)\, [S1]
DTSTART;TZID=Europe/Ljubljana:20250304T080000
DTEND;TZID=Europe/Ljubljana:20250304T100000
DTSTAMP:20260420T023504Z
UID:fs-AFLABS-URNIK:srecanje:14387-2025-03-04 08:00:00+01:00
DESCRIPTION:Predmet: Mehatronika in laserske tehnologije (MLTR)\, Laborato
 rijske vaje (VL)\, [S1]\nLetniki: RRP-3 (RRP-3)\nIzvajalci: Aleš Babnik\,
  Luka Hribar\, Gašper Škulj\nProstor: Laboratorij LAMPA SII-82A
END:VEVENT
BEGIN:VEVENT
SUMMARY:Mehatronika in laserske tehnologije (MLTR)\, Laboratorijske vaje (
 VL)\, [S2]
DTSTART;TZID=Europe/Ljubljana:20250225T160000
DTEND;TZID=Europe/Ljubljana:20250225T180000
DTSTAMP:20260420T023504Z
UID:fs-AFLABS-URNIK:srecanje:14388-2025-02-25 16:00:00+01:00
DESCRIPTION:Predmet: Mehatronika in laserske tehnologije (MLTR)\, Laborato
 rijske vaje (VL)\, [S2]\nLetniki: RRP-3 (RRP-3)\nIzvajalci: Aleš Babnik\,
  Luka Hribar\, Gašper Škulj\nProstor: Laboratorij LAMPA SII-82A
END:VEVENT
BEGIN:VEVENT
SUMMARY:Mehatronika in laserske tehnologije (MLTR)\, Laboratorijske vaje (
 VL)\, [S2]
DTSTART;TZID=Europe/Ljubljana:20250304T160000
DTEND;TZID=Europe/Ljubljana:20250304T180000
DTSTAMP:20260420T023504Z
UID:fs-AFLABS-URNIK:srecanje:14388-2025-03-04 16:00:00+01:00
DESCRIPTION:Predmet: Mehatronika in laserske tehnologije (MLTR)\, Laborato
 rijske vaje (VL)\, [S2]\nLetniki: RRP-3 (RRP-3)\nIzvajalci: Aleš Babnik\,
  Luka Hribar\, Gašper Škulj\nProstor: Laboratorij LAMPA SII-82A
END:VEVENT
BEGIN:VEVENT
SUMMARY:Mehatronika in laserske tehnologije (MLTR)\, Laboratorijske vaje (
 VL)\, [S2]
DTSTART;TZID=Europe/Ljubljana:20250311T160000
DTEND;TZID=Europe/Ljubljana:20250311T180000
DTSTAMP:20260420T023504Z
UID:fs-AFLABS-URNIK:srecanje:14388-2025-03-11 16:00:00+01:00
DESCRIPTION:Predmet: Mehatronika in laserske tehnologije (MLTR)\, Laborato
 rijske vaje (VL)\, [S2]\nLetniki: RRP-3 (RRP-3)\nIzvajalci: Aleš Babnik\,
  Luka Hribar\, Gašper Škulj\nProstor: Laboratorij LAMPA SII-82A
END:VEVENT
BEGIN:VEVENT
SUMMARY:Mehatronika in laserske tehnologije (MLTR)\, Laboratorijske vaje (
 VL)\, [S3]
DTSTART;TZID=Europe/Ljubljana:20250225T140000
DTEND;TZID=Europe/Ljubljana:20250225T160000
DTSTAMP:20260420T023504Z
UID:fs-AFLABS-URNIK:srecanje:14386-2025-02-25 14:00:00+01:00
DESCRIPTION:Predmet: Mehatronika in laserske tehnologije (MLTR)\, Laborato
 rijske vaje (VL)\, [S3]\nLetniki: RRP-3 (RRP-3)\nIzvajalci: Aleš Babnik\,
  Luka Hribar\, Gašper Škulj\nProstor: Laboratorij LAMPA SII-82A
END:VEVENT
BEGIN:VEVENT
SUMMARY:Mehatronika in laserske tehnologije (MLTR)\, Laboratorijske vaje (
 VL)\, [S3]
DTSTART;TZID=Europe/Ljubljana:20250304T140000
DTEND;TZID=Europe/Ljubljana:20250304T160000
DTSTAMP:20260420T023504Z
UID:fs-AFLABS-URNIK:srecanje:14386-2025-03-04 14:00:00+01:00
DESCRIPTION:Predmet: Mehatronika in laserske tehnologije (MLTR)\, Laborato
 rijske vaje (VL)\, [S3]\nLetniki: RRP-3 (RRP-3)\nIzvajalci: Aleš Babnik\,
  Luka Hribar\, Gašper Škulj\nProstor: Laboratorij LAMPA SII-82A
END:VEVENT
BEGIN:VEVENT
SUMMARY:Mehatronika in laserske tehnologije (MLTR)\, Laboratorijske vaje (
 VL)\, [S3]
DTSTART;TZID=Europe/Ljubljana:20250311T140000
DTEND;TZID=Europe/Ljubljana:20250311T160000
DTSTAMP:20260420T023504Z
UID:fs-AFLABS-URNIK:srecanje:14386-2025-03-11 14:00:00+01:00
DESCRIPTION:Predmet: Mehatronika in laserske tehnologije (MLTR)\, Laborato
 rijske vaje (VL)\, [S3]\nLetniki: RRP-3 (RRP-3)\nIzvajalci: Aleš Babnik\,
  Luka Hribar\, Gašper Škulj\nProstor: Laboratorij LAMPA SII-82A
END:VEVENT
BEGIN:VEVENT
SUMMARY:Mehatronika in laserske tehnologije (MLTR)\, Laboratorijske vaje (
 VL)\, [S6]
DTSTART;TZID=Europe/Ljubljana:20250225T120000
DTEND;TZID=Europe/Ljubljana:20250225T140000
DTSTAMP:20260420T023504Z
UID:fs-AFLABS-URNIK:srecanje:14385-2025-02-25 12:00:00+01:00
DESCRIPTION:Predmet: Mehatronika in laserske tehnologije (MLTR)\, Laborato
 rijske vaje (VL)\, [S6]\nLetniki: RRP-3 (RRP-3)\nIzvajalci: Aleš Babnik\,
  Luka Hribar\, Gašper Škulj\nProstor: Laboratorij LAMPA SII-82A
END:VEVENT
BEGIN:VEVENT
SUMMARY:Mehatronika in laserske tehnologije (MLTR)\, Laboratorijske vaje (
 VL)\, [S6]
DTSTART;TZID=Europe/Ljubljana:20250304T120000
DTEND;TZID=Europe/Ljubljana:20250304T140000
DTSTAMP:20260420T023504Z
UID:fs-AFLABS-URNIK:srecanje:14385-2025-03-04 12:00:00+01:00
DESCRIPTION:Predmet: Mehatronika in laserske tehnologije (MLTR)\, Laborato
 rijske vaje (VL)\, [S6]\nLetniki: RRP-3 (RRP-3)\nIzvajalci: Aleš Babnik\,
  Luka Hribar\, Gašper Škulj\nProstor: Laboratorij LAMPA SII-82A
END:VEVENT
BEGIN:VEVENT
SUMMARY:Mehatronika in laserske tehnologije (MLTR)\, Laboratorijske vaje (
 VL)\, [S7]
DTSTART;TZID=Europe/Ljubljana:20250227T100000
DTEND;TZID=Europe/Ljubljana:20250227T120000
DTSTAMP:20260420T023504Z
UID:fs-AFLABS-URNIK:srecanje:14390-2025-02-27 10:00:00+01:00
DESCRIPTION:Predmet: Mehatronika in laserske tehnologije (MLTR)\, Laborato
 rijske vaje (VL)\, [S7]\nLetniki: RRP-3 (RRP-3)\nIzvajalci: Aleš Babnik\,
  Luka Hribar\, Gašper Škulj\nProstor: Laboratorij LAMPA SII-82A
END:VEVENT
BEGIN:VEVENT
SUMMARY:Mehatronika in laserske tehnologije (MLTR)\, Laboratorijske vaje (
 VL)\, [S7]
DTSTART;TZID=Europe/Ljubljana:20250306T100000
DTEND;TZID=Europe/Ljubljana:20250306T120000
DTSTAMP:20260420T023504Z
UID:fs-AFLABS-URNIK:srecanje:14390-2025-03-06 10:00:00+01:00
DESCRIPTION:Predmet: Mehatronika in laserske tehnologije (MLTR)\, Laborato
 rijske vaje (VL)\, [S7]\nLetniki: RRP-3 (RRP-3)\nIzvajalci: Aleš Babnik\,
  Luka Hribar\, Gašper Škulj\nProstor: Laboratorij LAMPA SII-82A
END:VEVENT
BEGIN:VEVENT
SUMMARY:Mehatronika in laserske tehnologije (MLTR)\, Laboratorijske vaje (
 VL)\, [S4]
DTSTART;TZID=Europe/Ljubljana:20250227T080000
DTEND;TZID=Europe/Ljubljana:20250227T100000
DTSTAMP:20260420T023504Z
UID:fs-AFLABS-URNIK:srecanje:14389-2025-02-27 08:00:00+01:00
DESCRIPTION:Predmet: Mehatronika in laserske tehnologije (MLTR)\, Laborato
 rijske vaje (VL)\, [S4]\nLetniki: RRP-3 (RRP-3)\nIzvajalci: Aleš Babnik\,
  Luka Hribar\, Gašper Škulj\nProstor: Laboratorij LAMPA SII-82A
END:VEVENT
BEGIN:VEVENT
SUMMARY:Mehatronika in laserske tehnologije (MLTR)\, Laboratorijske vaje (
 VL)\, [S4]
DTSTART;TZID=Europe/Ljubljana:20250306T080000
DTEND;TZID=Europe/Ljubljana:20250306T100000
DTSTAMP:20260420T023504Z
UID:fs-AFLABS-URNIK:srecanje:14389-2025-03-06 08:00:00+01:00
DESCRIPTION:Predmet: Mehatronika in laserske tehnologije (MLTR)\, Laborato
 rijske vaje (VL)\, [S4]\nLetniki: RRP-3 (RRP-3)\nIzvajalci: Aleš Babnik\,
  Luka Hribar\, Gašper Škulj\nProstor: Laboratorij LAMPA SII-82A
END:VEVENT
BEGIN:VEVENT
SUMMARY:Mehatronika in laserske tehnologije (MLTR)\, Laboratorijske vaje (
 VL)\, [S4]
DTSTART;TZID=Europe/Ljubljana:20250313T080000
DTEND;TZID=Europe/Ljubljana:20250313T100000
DTSTAMP:20260420T023504Z
UID:fs-AFLABS-URNIK:srecanje:14389-2025-03-13 08:00:00+01:00
DESCRIPTION:Predmet: Mehatronika in laserske tehnologije (MLTR)\, Laborato
 rijske vaje (VL)\, [S4]\nLetniki: RRP-3 (RRP-3)\nIzvajalci: Aleš Babnik\,
  Luka Hribar\, Gašper Škulj\nProstor: Laboratorij LAMPA SII-82A
END:VEVENT
BEGIN:VEVENT
SUMMARY:Mehatronika in laserske tehnologije (MLTR)\, Laboratorijske vaje (
 VL)\, [S8]
DTSTART;TZID=Europe/Ljubljana:20250227T160000
DTEND;TZID=Europe/Ljubljana:20250227T180000
DTSTAMP:20260420T023504Z
UID:fs-AFLABS-URNIK:srecanje:14392-2025-02-27 16:00:00+01:00
DESCRIPTION:Predmet: Mehatronika in laserske tehnologije (MLTR)\, Laborato
 rijske vaje (VL)\, [S8]\nLetniki: RRP-3 (RRP-3)\nIzvajalci: Aleš Babnik\,
  Luka Hribar\, Gašper Škulj\nProstor: Laboratorij LAMPA SII-82A
END:VEVENT
BEGIN:VEVENT
SUMMARY:Mehatronika in laserske tehnologije (MLTR)\, Laboratorijske vaje (
 VL)\, [S8]
DTSTART;TZID=Europe/Ljubljana:20250306T160000
DTEND;TZID=Europe/Ljubljana:20250306T180000
DTSTAMP:20260420T023504Z
UID:fs-AFLABS-URNIK:srecanje:14392-2025-03-06 16:00:00+01:00
DESCRIPTION:Predmet: Mehatronika in laserske tehnologije (MLTR)\, Laborato
 rijske vaje (VL)\, [S8]\nLetniki: RRP-3 (RRP-3)\nIzvajalci: Aleš Babnik\,
  Luka Hribar\, Gašper Škulj\nProstor: Laboratorij LAMPA SII-82A
END:VEVENT
BEGIN:VEVENT
SUMMARY:Mehatronika in laserske tehnologije (MLTR)\, Laboratorijske vaje (
 VL)\, [S8]
DTSTART;TZID=Europe/Ljubljana:20250313T160000
DTEND;TZID=Europe/Ljubljana:20250313T180000
DTSTAMP:20260420T023504Z
UID:fs-AFLABS-URNIK:srecanje:14392-2025-03-13 16:00:00+01:00
DESCRIPTION:Predmet: Mehatronika in laserske tehnologije (MLTR)\, Laborato
 rijske vaje (VL)\, [S8]\nLetniki: RRP-3 (RRP-3)\nIzvajalci: Aleš Babnik\,
  Luka Hribar\, Gašper Škulj\nProstor: Laboratorij LAMPA SII-82A
END:VEVENT
BEGIN:VEVENT
SUMMARY:Mehatronika in laserske tehnologije (MLTR)\, Laboratorijske vaje (
 VL)\, [S5]
DTSTART;TZID=Europe/Ljubljana:20250227T120000
DTEND;TZID=Europe/Ljubljana:20250227T140000
DTSTAMP:20260420T023504Z
UID:fs-AFLABS-URNIK:srecanje:14391-2025-02-27 12:00:00+01:00
DESCRIPTION:Predmet: Mehatronika in laserske tehnologije (MLTR)\, Laborato
 rijske vaje (VL)\, [S5]\nLetniki: RRP-3 (RRP-3)\nIzvajalci: Aleš Babnik\,
  Luka Hribar\, Gašper Škulj\nProstor: Laboratorij LAMPA SII-82A
END:VEVENT
BEGIN:VEVENT
SUMMARY:Mehatronika in laserske tehnologije (MLTR)\, Laboratorijske vaje (
 VL)\, [S5]
DTSTART;TZID=Europe/Ljubljana:20250306T120000
DTEND;TZID=Europe/Ljubljana:20250306T140000
DTSTAMP:20260420T023504Z
UID:fs-AFLABS-URNIK:srecanje:14391-2025-03-06 12:00:00+01:00
DESCRIPTION:Predmet: Mehatronika in laserske tehnologije (MLTR)\, Laborato
 rijske vaje (VL)\, [S5]\nLetniki: RRP-3 (RRP-3)\nIzvajalci: Aleš Babnik\,
  Luka Hribar\, Gašper Škulj\nProstor: Laboratorij LAMPA SII-82A
END:VEVENT
BEGIN:VEVENT
SUMMARY:Mehatronika in laserske tehnologije (MLTR)\, Laboratorijske vaje (
 VL)\, [S1]
DTSTART;TZID=Europe/Ljubljana:20250311T080000
DTEND;TZID=Europe/Ljubljana:20250311T100000
DTSTAMP:20260420T023504Z
UID:fs-AFLABS-URNIK:srecanje:14393-2025-03-11 08:00:00+01:00
DESCRIPTION:Predmet: Mehatronika in laserske tehnologije (MLTR)\, Laborato
 rijske vaje (VL)\, [S1]\nLetniki: RRP-3 (RRP-3)\nIzvajalci: Aleš Babnik\,
  Luka Hribar\, Gašper Škulj\nProstor: Laboratorij LAMPA SII-82A
END:VEVENT
BEGIN:VEVENT
SUMMARY:Mehatronika in laserske tehnologije (MLTR)\, Laboratorijske vaje (
 VL)\, [S6]
DTSTART;TZID=Europe/Ljubljana:20250311T120000
DTEND;TZID=Europe/Ljubljana:20250311T140000
DTSTAMP:20260420T023504Z
UID:fs-AFLABS-URNIK:srecanje:14394-2025-03-11 12:00:00+01:00
DESCRIPTION:Predmet: Mehatronika in laserske tehnologije (MLTR)\, Laborato
 rijske vaje (VL)\, [S6]\nLetniki: RRP-3 (RRP-3)\nIzvajalci: Aleš Babnik\,
  Luka Hribar\, Gašper Škulj\nProstor: Laboratorij LAMPA SII-82A
END:VEVENT
BEGIN:VEVENT
SUMMARY:Mehatronika in laserske tehnologije (MLTR)\, Laboratorijske vaje (
 VL)\, [S7]
DTSTART;TZID=Europe/Ljubljana:20250313T100000
DTEND;TZID=Europe/Ljubljana:20250313T120000
DTSTAMP:20260420T023504Z
UID:fs-AFLABS-URNIK:srecanje:14406-2025-03-13 10:00:00+01:00
DESCRIPTION:Predmet: Mehatronika in laserske tehnologije (MLTR)\, Laborato
 rijske vaje (VL)\, [S7]\nLetniki: RRP-3 (RRP-3)\nIzvajalci: Aleš Babnik\,
  Luka Hribar\, Gašper Škulj\nProstor: Laboratorij LAMPA SII-82A
END:VEVENT
BEGIN:VEVENT
SUMMARY:Mehatronika in laserske tehnologije (MLTR)\, Laboratorijske vaje (
 VL)\, [S5]
DTSTART;TZID=Europe/Ljubljana:20250313T120000
DTEND;TZID=Europe/Ljubljana:20250313T140000
DTSTAMP:20260420T023504Z
UID:fs-AFLABS-URNIK:srecanje:14396-2025-03-13 12:00:00+01:00
DESCRIPTION:Predmet: Mehatronika in laserske tehnologije (MLTR)\, Laborato
 rijske vaje (VL)\, [S5]\nLetniki: RRP-3 (RRP-3)\nIzvajalci: Aleš Babnik\,
  Luka Hribar\, Gašper Škulj\nProstor: Laboratorij LAMPA SII-82A
END:VEVENT
END:VCALENDAR
