BEGIN:VCALENDAR
VERSION:2.0
PRODID:-//AFLabs urnik izvoz - fs//aflabs.si//SI
NAME:UL FS Urnik
X-WR-CALNAME:UL FS Urnik
DTSTAMP:20260421T023507Z
REFRESH-INTERVAL:PT1H
SOURCE:https://urnik.fs.uni-lj.si/teacher/873/?day=2025-09-29&export=1
URL:https://urnik.fs.uni-lj.si/teacher/873/?day=2025-09-29&export=1
X-PUBLISHED-TTL:PT1H
X-WR-TIMEZONE:Europe/Ljubljana
BEGIN:VTIMEZONE
TZID:Europe/Ljubljana
BEGIN:DAYLIGHT
DTSTART:20260329T020000
RDATE:20260329T020000
RDATE:20270328T020000
TZNAME:CEST
TZOFFSETFROM:+0100
TZOFFSETTO:+0200
END:DAYLIGHT
BEGIN:STANDARD
DTSTART:20261025T030000
RDATE:20261025T030000
RDATE:20271031T030000
TZNAME:CET
TZOFFSETFROM:+0200
TZOFFSETTO:+0100
END:STANDARD
END:VTIMEZONE
BEGIN:VEVENT
SUMMARY:Reologija polimerov (RLPM)\, Laboratorijske vaje (VL)\, [S1]
DTSTART;TZID=Europe/Ljubljana:20251016T080000
DTEND;TZID=Europe/Ljubljana:20251016T100000
DTSTAMP:20260421T023507Z
UID:fs-AFLABS-URNIK:srecanje:16939-2025-10-16 08:00:00+02:00
DESCRIPTION:Predmet: Reologija polimerov (RLPM)\, Laboratorijske vaje (VL)
 \, [S1]\nLetniki: Mehanika (MAG-2)\nIzvajalci: Alen Oseli\, Matic Šobak\n
 Prostor: Laboratorij CEM F13-3/K1.4.2
END:VEVENT
BEGIN:VEVENT
SUMMARY:Reologija polimerov (RLPM)\, Laboratorijske vaje (VL)\, [S1]
DTSTART;TZID=Europe/Ljubljana:20251023T080000
DTEND;TZID=Europe/Ljubljana:20251023T100000
DTSTAMP:20260421T023507Z
UID:fs-AFLABS-URNIK:srecanje:16939-2025-10-23 08:00:00+02:00
DESCRIPTION:Predmet: Reologija polimerov (RLPM)\, Laboratorijske vaje (VL)
 \, [S1]\nLetniki: Mehanika (MAG-2)\nIzvajalci: Alen Oseli\, Matic Šobak\n
 Prostor: Laboratorij CEM F13-3/K1.4.2
END:VEVENT
BEGIN:VEVENT
SUMMARY:Reologija polimerov (RLPM)\, Laboratorijske vaje (VL)\, [S1]
DTSTART;TZID=Europe/Ljubljana:20251106T080000
DTEND;TZID=Europe/Ljubljana:20251106T100000
DTSTAMP:20260421T023507Z
UID:fs-AFLABS-URNIK:srecanje:16939-2025-11-06 08:00:00+01:00
DESCRIPTION:Predmet: Reologija polimerov (RLPM)\, Laboratorijske vaje (VL)
 \, [S1]\nLetniki: Mehanika (MAG-2)\nIzvajalci: Alen Oseli\, Matic Šobak\n
 Prostor: Laboratorij CEM F13-3/K1.4.2
END:VEVENT
BEGIN:VEVENT
SUMMARY:Reologija polimerov (RLPM)\, Laboratorijske vaje (VL)\, [S1]
DTSTART;TZID=Europe/Ljubljana:20251127T080000
DTEND;TZID=Europe/Ljubljana:20251127T100000
DTSTAMP:20260421T023507Z
UID:fs-AFLABS-URNIK:srecanje:16939-2025-11-27 08:00:00+01:00
DESCRIPTION:Predmet: Reologija polimerov (RLPM)\, Laboratorijske vaje (VL)
 \, [S1]\nLetniki: Mehanika (MAG-2)\nIzvajalci: Alen Oseli\, Matic Šobak\n
 Prostor: Laboratorij CEM F13-3/K1.4.2
END:VEVENT
BEGIN:VEVENT
SUMMARY:Reologija polimerov (RLPM)\, Laboratorijske vaje (VL)\, [S1]
DTSTART;TZID=Europe/Ljubljana:20251204T080000
DTEND;TZID=Europe/Ljubljana:20251204T100000
DTSTAMP:20260421T023507Z
UID:fs-AFLABS-URNIK:srecanje:16939-2025-12-04 08:00:00+01:00
DESCRIPTION:Predmet: Reologija polimerov (RLPM)\, Laboratorijske vaje (VL)
 \, [S1]\nLetniki: Mehanika (MAG-2)\nIzvajalci: Alen Oseli\, Matic Šobak\n
 Prostor: Laboratorij CEM F13-3/K1.4.2
END:VEVENT
BEGIN:VEVENT
SUMMARY:Reologija polimerov (RLPM)\, Laboratorijske vaje (VL)\, [S1]
DTSTART;TZID=Europe/Ljubljana:20251218T080000
DTEND;TZID=Europe/Ljubljana:20251218T100000
DTSTAMP:20260421T023507Z
UID:fs-AFLABS-URNIK:srecanje:16939-2025-12-18 08:00:00+01:00
DESCRIPTION:Predmet: Reologija polimerov (RLPM)\, Laboratorijske vaje (VL)
 \, [S1]\nLetniki: Mehanika (MAG-2)\nIzvajalci: Alen Oseli\, Matic Šobak\n
 Prostor: Laboratorij CEM F13-3/K1.4.2
END:VEVENT
BEGIN:VEVENT
SUMMARY:Reologija polimerov (RLPM)\, Laboratorijske vaje (VL)\, [S1]
DTSTART;TZID=Europe/Ljubljana:20251225T080000
DTEND;TZID=Europe/Ljubljana:20251225T100000
DTSTAMP:20260421T023507Z
UID:fs-AFLABS-URNIK:srecanje:16939-2025-12-25 08:00:00+01:00
DESCRIPTION:Predmet: Reologija polimerov (RLPM)\, Laboratorijske vaje (VL)
 \, [S1]\nLetniki: Mehanika (MAG-2)\nIzvajalci: Alen Oseli\, Matic Šobak\n
 Prostor: Laboratorij CEM F13-3/K1.4.2
END:VEVENT
BEGIN:VEVENT
SUMMARY:Reologija polimerov (RLPM)\, Laboratorijske vaje (VL)\, [S2]
DTSTART;TZID=Europe/Ljubljana:20251016T100000
DTEND;TZID=Europe/Ljubljana:20251016T120000
DTSTAMP:20260421T023507Z
UID:fs-AFLABS-URNIK:srecanje:16941-2025-10-16 10:00:00+02:00
DESCRIPTION:Predmet: Reologija polimerov (RLPM)\, Laboratorijske vaje (VL)
 \, [S2]\nLetniki: Mehanika (MAG-2)\nIzvajalci: Alen Oseli\, Matic Šobak\n
 Prostor: Laboratorij CEM F13-3/K1.4.2
END:VEVENT
BEGIN:VEVENT
SUMMARY:Reologija polimerov (RLPM)\, Laboratorijske vaje (VL)\, [S2]
DTSTART;TZID=Europe/Ljubljana:20251023T100000
DTEND;TZID=Europe/Ljubljana:20251023T120000
DTSTAMP:20260421T023507Z
UID:fs-AFLABS-URNIK:srecanje:16941-2025-10-23 10:00:00+02:00
DESCRIPTION:Predmet: Reologija polimerov (RLPM)\, Laboratorijske vaje (VL)
 \, [S2]\nLetniki: Mehanika (MAG-2)\nIzvajalci: Alen Oseli\, Matic Šobak\n
 Prostor: Laboratorij CEM F13-3/K1.4.2
END:VEVENT
BEGIN:VEVENT
SUMMARY:Reologija polimerov (RLPM)\, Laboratorijske vaje (VL)\, [S2]
DTSTART;TZID=Europe/Ljubljana:20251106T100000
DTEND;TZID=Europe/Ljubljana:20251106T120000
DTSTAMP:20260421T023507Z
UID:fs-AFLABS-URNIK:srecanje:16941-2025-11-06 10:00:00+01:00
DESCRIPTION:Predmet: Reologija polimerov (RLPM)\, Laboratorijske vaje (VL)
 \, [S2]\nLetniki: Mehanika (MAG-2)\nIzvajalci: Alen Oseli\, Matic Šobak\n
 Prostor: Laboratorij CEM F13-3/K1.4.2
END:VEVENT
BEGIN:VEVENT
SUMMARY:Reologija polimerov (RLPM)\, Laboratorijske vaje (VL)\, [S2]
DTSTART;TZID=Europe/Ljubljana:20251127T100000
DTEND;TZID=Europe/Ljubljana:20251127T120000
DTSTAMP:20260421T023507Z
UID:fs-AFLABS-URNIK:srecanje:16941-2025-11-27 10:00:00+01:00
DESCRIPTION:Predmet: Reologija polimerov (RLPM)\, Laboratorijske vaje (VL)
 \, [S2]\nLetniki: Mehanika (MAG-2)\nIzvajalci: Alen Oseli\, Matic Šobak\n
 Prostor: Laboratorij CEM F13-3/K1.4.2
END:VEVENT
BEGIN:VEVENT
SUMMARY:Reologija polimerov (RLPM)\, Laboratorijske vaje (VL)\, [S2]
DTSTART;TZID=Europe/Ljubljana:20251204T100000
DTEND;TZID=Europe/Ljubljana:20251204T120000
DTSTAMP:20260421T023507Z
UID:fs-AFLABS-URNIK:srecanje:16941-2025-12-04 10:00:00+01:00
DESCRIPTION:Predmet: Reologija polimerov (RLPM)\, Laboratorijske vaje (VL)
 \, [S2]\nLetniki: Mehanika (MAG-2)\nIzvajalci: Alen Oseli\, Matic Šobak\n
 Prostor: Laboratorij CEM F13-3/K1.4.2
END:VEVENT
BEGIN:VEVENT
SUMMARY:Reologija polimerov (RLPM)\, Laboratorijske vaje (VL)\, [S2]
DTSTART;TZID=Europe/Ljubljana:20251218T100000
DTEND;TZID=Europe/Ljubljana:20251218T120000
DTSTAMP:20260421T023507Z
UID:fs-AFLABS-URNIK:srecanje:16941-2025-12-18 10:00:00+01:00
DESCRIPTION:Predmet: Reologija polimerov (RLPM)\, Laboratorijske vaje (VL)
 \, [S2]\nLetniki: Mehanika (MAG-2)\nIzvajalci: Alen Oseli\, Matic Šobak\n
 Prostor: Laboratorij CEM F13-3/K1.4.2
END:VEVENT
BEGIN:VEVENT
SUMMARY:Reologija polimerov (RLPM)\, Laboratorijske vaje (VL)\, [S2]
DTSTART;TZID=Europe/Ljubljana:20251225T100000
DTEND;TZID=Europe/Ljubljana:20251225T120000
DTSTAMP:20260421T023507Z
UID:fs-AFLABS-URNIK:srecanje:16941-2025-12-25 10:00:00+01:00
DESCRIPTION:Predmet: Reologija polimerov (RLPM)\, Laboratorijske vaje (VL)
 \, [S2]\nLetniki: Mehanika (MAG-2)\nIzvajalci: Alen Oseli\, Matic Šobak\n
 Prostor: Laboratorij CEM F13-3/K1.4.2
END:VEVENT
BEGIN:VEVENT
SUMMARY:Reologija polimerov (RLPM)\, Laboratorijske vaje (VL)\, [S3]
DTSTART;TZID=Europe/Ljubljana:20251016T120000
DTEND;TZID=Europe/Ljubljana:20251016T140000
DTSTAMP:20260421T023507Z
UID:fs-AFLABS-URNIK:srecanje:16942-2025-10-16 12:00:00+02:00
DESCRIPTION:Predmet: Reologija polimerov (RLPM)\, Laboratorijske vaje (VL)
 \, [S3]\nLetniki: Mehanika (MAG-2)\nIzvajalci: Alen Oseli\, Matic Šobak\n
 Prostor: Laboratorij CEM F13-3/K1.4.2
END:VEVENT
BEGIN:VEVENT
SUMMARY:Reologija polimerov (RLPM)\, Laboratorijske vaje (VL)\, [S3]
DTSTART;TZID=Europe/Ljubljana:20251023T120000
DTEND;TZID=Europe/Ljubljana:20251023T140000
DTSTAMP:20260421T023507Z
UID:fs-AFLABS-URNIK:srecanje:16942-2025-10-23 12:00:00+02:00
DESCRIPTION:Predmet: Reologija polimerov (RLPM)\, Laboratorijske vaje (VL)
 \, [S3]\nLetniki: Mehanika (MAG-2)\nIzvajalci: Alen Oseli\, Matic Šobak\n
 Prostor: Laboratorij CEM F13-3/K1.4.2
END:VEVENT
BEGIN:VEVENT
SUMMARY:Reologija polimerov (RLPM)\, Laboratorijske vaje (VL)\, [S3]
DTSTART;TZID=Europe/Ljubljana:20251106T120000
DTEND;TZID=Europe/Ljubljana:20251106T140000
DTSTAMP:20260421T023507Z
UID:fs-AFLABS-URNIK:srecanje:16942-2025-11-06 12:00:00+01:00
DESCRIPTION:Predmet: Reologija polimerov (RLPM)\, Laboratorijske vaje (VL)
 \, [S3]\nLetniki: Mehanika (MAG-2)\nIzvajalci: Alen Oseli\, Matic Šobak\n
 Prostor: Laboratorij CEM F13-3/K1.4.2
END:VEVENT
BEGIN:VEVENT
SUMMARY:Reologija polimerov (RLPM)\, Laboratorijske vaje (VL)\, [S3]
DTSTART;TZID=Europe/Ljubljana:20251127T120000
DTEND;TZID=Europe/Ljubljana:20251127T140000
DTSTAMP:20260421T023507Z
UID:fs-AFLABS-URNIK:srecanje:16942-2025-11-27 12:00:00+01:00
DESCRIPTION:Predmet: Reologija polimerov (RLPM)\, Laboratorijske vaje (VL)
 \, [S3]\nLetniki: Mehanika (MAG-2)\nIzvajalci: Alen Oseli\, Matic Šobak\n
 Prostor: Laboratorij CEM F13-3/K1.4.2
END:VEVENT
BEGIN:VEVENT
SUMMARY:Reologija polimerov (RLPM)\, Laboratorijske vaje (VL)\, [S3]
DTSTART;TZID=Europe/Ljubljana:20251204T120000
DTEND;TZID=Europe/Ljubljana:20251204T140000
DTSTAMP:20260421T023507Z
UID:fs-AFLABS-URNIK:srecanje:16942-2025-12-04 12:00:00+01:00
DESCRIPTION:Predmet: Reologija polimerov (RLPM)\, Laboratorijske vaje (VL)
 \, [S3]\nLetniki: Mehanika (MAG-2)\nIzvajalci: Alen Oseli\, Matic Šobak\n
 Prostor: Laboratorij CEM F13-3/K1.4.2
END:VEVENT
BEGIN:VEVENT
SUMMARY:Reologija polimerov (RLPM)\, Laboratorijske vaje (VL)\, [S3]
DTSTART;TZID=Europe/Ljubljana:20251218T120000
DTEND;TZID=Europe/Ljubljana:20251218T140000
DTSTAMP:20260421T023507Z
UID:fs-AFLABS-URNIK:srecanje:16942-2025-12-18 12:00:00+01:00
DESCRIPTION:Predmet: Reologija polimerov (RLPM)\, Laboratorijske vaje (VL)
 \, [S3]\nLetniki: Mehanika (MAG-2)\nIzvajalci: Alen Oseli\, Matic Šobak\n
 Prostor: Laboratorij CEM F13-3/K1.4.2
END:VEVENT
BEGIN:VEVENT
SUMMARY:Reologija polimerov (RLPM)\, Laboratorijske vaje (VL)\, [S3]
DTSTART;TZID=Europe/Ljubljana:20251225T120000
DTEND;TZID=Europe/Ljubljana:20251225T140000
DTSTAMP:20260421T023507Z
UID:fs-AFLABS-URNIK:srecanje:16942-2025-12-25 12:00:00+01:00
DESCRIPTION:Predmet: Reologija polimerov (RLPM)\, Laboratorijske vaje (VL)
 \, [S3]\nLetniki: Mehanika (MAG-2)\nIzvajalci: Alen Oseli\, Matic Šobak\n
 Prostor: Laboratorij CEM F13-3/K1.4.2
END:VEVENT
BEGIN:VEVENT
SUMMARY:Reologija polimerov (RLPM)\, Laboratorijske vaje (VL)\, [S4]
DTSTART;TZID=Europe/Ljubljana:20251017T100000
DTEND;TZID=Europe/Ljubljana:20251017T120000
DTSTAMP:20260421T023507Z
UID:fs-AFLABS-URNIK:srecanje:16943-2025-10-17 10:00:00+02:00
DESCRIPTION:Predmet: Reologija polimerov (RLPM)\, Laboratorijske vaje (VL)
 \, [S4]\nLetniki: Mehanika (MAG-2)\nIzvajalci: Alen Oseli\, Matic Šobak\n
 Prostor: Laboratorij CEM F13-3/K1.4.2
END:VEVENT
BEGIN:VEVENT
SUMMARY:Reologija polimerov (RLPM)\, Laboratorijske vaje (VL)\, [S4]
DTSTART;TZID=Europe/Ljubljana:20251024T100000
DTEND;TZID=Europe/Ljubljana:20251024T120000
DTSTAMP:20260421T023507Z
UID:fs-AFLABS-URNIK:srecanje:16943-2025-10-24 10:00:00+02:00
DESCRIPTION:Predmet: Reologija polimerov (RLPM)\, Laboratorijske vaje (VL)
 \, [S4]\nLetniki: Mehanika (MAG-2)\nIzvajalci: Alen Oseli\, Matic Šobak\n
 Prostor: Laboratorij CEM F13-3/K1.4.2
END:VEVENT
BEGIN:VEVENT
SUMMARY:Reologija polimerov (RLPM)\, Laboratorijske vaje (VL)\, [S4]
DTSTART;TZID=Europe/Ljubljana:20251107T100000
DTEND;TZID=Europe/Ljubljana:20251107T120000
DTSTAMP:20260421T023507Z
UID:fs-AFLABS-URNIK:srecanje:16943-2025-11-07 10:00:00+01:00
DESCRIPTION:Predmet: Reologija polimerov (RLPM)\, Laboratorijske vaje (VL)
 \, [S4]\nLetniki: Mehanika (MAG-2)\nIzvajalci: Alen Oseli\, Matic Šobak\n
 Prostor: Laboratorij CEM F13-3/K1.4.2
END:VEVENT
BEGIN:VEVENT
SUMMARY:Reologija polimerov (RLPM)\, Laboratorijske vaje (VL)\, [S4]
DTSTART;TZID=Europe/Ljubljana:20251128T100000
DTEND;TZID=Europe/Ljubljana:20251128T120000
DTSTAMP:20260421T023507Z
UID:fs-AFLABS-URNIK:srecanje:16943-2025-11-28 10:00:00+01:00
DESCRIPTION:Predmet: Reologija polimerov (RLPM)\, Laboratorijske vaje (VL)
 \, [S4]\nLetniki: Mehanika (MAG-2)\nIzvajalci: Alen Oseli\, Matic Šobak\n
 Prostor: Laboratorij CEM F13-3/K1.4.2
END:VEVENT
BEGIN:VEVENT
SUMMARY:Reologija polimerov (RLPM)\, Laboratorijske vaje (VL)\, [S4]
DTSTART;TZID=Europe/Ljubljana:20251205T100000
DTEND;TZID=Europe/Ljubljana:20251205T120000
DTSTAMP:20260421T023507Z
UID:fs-AFLABS-URNIK:srecanje:16943-2025-12-05 10:00:00+01:00
DESCRIPTION:Predmet: Reologija polimerov (RLPM)\, Laboratorijske vaje (VL)
 \, [S4]\nLetniki: Mehanika (MAG-2)\nIzvajalci: Alen Oseli\, Matic Šobak\n
 Prostor: Laboratorij CEM F13-3/K1.4.2
END:VEVENT
BEGIN:VEVENT
SUMMARY:Reologija polimerov (RLPM)\, Laboratorijske vaje (VL)\, [S4]
DTSTART;TZID=Europe/Ljubljana:20251219T100000
DTEND;TZID=Europe/Ljubljana:20251219T120000
DTSTAMP:20260421T023507Z
UID:fs-AFLABS-URNIK:srecanje:16943-2025-12-19 10:00:00+01:00
DESCRIPTION:Predmet: Reologija polimerov (RLPM)\, Laboratorijske vaje (VL)
 \, [S4]\nLetniki: Mehanika (MAG-2)\nIzvajalci: Alen Oseli\, Matic Šobak\n
 Prostor: Laboratorij CEM F13-3/K1.4.2
END:VEVENT
BEGIN:VEVENT
SUMMARY:Reologija polimerov (RLPM)\, Laboratorijske vaje (VL)\, [S4]
DTSTART;TZID=Europe/Ljubljana:20251226T100000
DTEND;TZID=Europe/Ljubljana:20251226T120000
DTSTAMP:20260421T023507Z
UID:fs-AFLABS-URNIK:srecanje:16943-2025-12-26 10:00:00+01:00
DESCRIPTION:Predmet: Reologija polimerov (RLPM)\, Laboratorijske vaje (VL)
 \, [S4]\nLetniki: Mehanika (MAG-2)\nIzvajalci: Alen Oseli\, Matic Šobak\n
 Prostor: Laboratorij CEM F13-3/K1.4.2
END:VEVENT
BEGIN:VEVENT
SUMMARY:Reologija polimerov (RLPM)\, Laboratorijske vaje (VL)\, [S5]
DTSTART;TZID=Europe/Ljubljana:20251017T120000
DTEND;TZID=Europe/Ljubljana:20251017T140000
DTSTAMP:20260421T023507Z
UID:fs-AFLABS-URNIK:srecanje:16944-2025-10-17 12:00:00+02:00
DESCRIPTION:Predmet: Reologija polimerov (RLPM)\, Laboratorijske vaje (VL)
 \, [S5]\nLetniki: Mehanika (MAG-2)\nIzvajalci: Alen Oseli\, Matic Šobak\n
 Prostor: Laboratorij CEM F13-3/K1.4.2
END:VEVENT
BEGIN:VEVENT
SUMMARY:Reologija polimerov (RLPM)\, Laboratorijske vaje (VL)\, [S5]
DTSTART;TZID=Europe/Ljubljana:20251024T120000
DTEND;TZID=Europe/Ljubljana:20251024T140000
DTSTAMP:20260421T023507Z
UID:fs-AFLABS-URNIK:srecanje:16944-2025-10-24 12:00:00+02:00
DESCRIPTION:Predmet: Reologija polimerov (RLPM)\, Laboratorijske vaje (VL)
 \, [S5]\nLetniki: Mehanika (MAG-2)\nIzvajalci: Alen Oseli\, Matic Šobak\n
 Prostor: Laboratorij CEM F13-3/K1.4.2
END:VEVENT
BEGIN:VEVENT
SUMMARY:Reologija polimerov (RLPM)\, Laboratorijske vaje (VL)\, [S5]
DTSTART;TZID=Europe/Ljubljana:20251107T120000
DTEND;TZID=Europe/Ljubljana:20251107T140000
DTSTAMP:20260421T023507Z
UID:fs-AFLABS-URNIK:srecanje:16944-2025-11-07 12:00:00+01:00
DESCRIPTION:Predmet: Reologija polimerov (RLPM)\, Laboratorijske vaje (VL)
 \, [S5]\nLetniki: Mehanika (MAG-2)\nIzvajalci: Alen Oseli\, Matic Šobak\n
 Prostor: Laboratorij CEM F13-3/K1.4.2
END:VEVENT
BEGIN:VEVENT
SUMMARY:Reologija polimerov (RLPM)\, Laboratorijske vaje (VL)\, [S5]
DTSTART;TZID=Europe/Ljubljana:20251128T120000
DTEND;TZID=Europe/Ljubljana:20251128T140000
DTSTAMP:20260421T023507Z
UID:fs-AFLABS-URNIK:srecanje:16944-2025-11-28 12:00:00+01:00
DESCRIPTION:Predmet: Reologija polimerov (RLPM)\, Laboratorijske vaje (VL)
 \, [S5]\nLetniki: Mehanika (MAG-2)\nIzvajalci: Alen Oseli\, Matic Šobak\n
 Prostor: Laboratorij CEM F13-3/K1.4.2
END:VEVENT
BEGIN:VEVENT
SUMMARY:Reologija polimerov (RLPM)\, Laboratorijske vaje (VL)\, [S5]
DTSTART;TZID=Europe/Ljubljana:20251205T120000
DTEND;TZID=Europe/Ljubljana:20251205T140000
DTSTAMP:20260421T023507Z
UID:fs-AFLABS-URNIK:srecanje:16944-2025-12-05 12:00:00+01:00
DESCRIPTION:Predmet: Reologija polimerov (RLPM)\, Laboratorijske vaje (VL)
 \, [S5]\nLetniki: Mehanika (MAG-2)\nIzvajalci: Alen Oseli\, Matic Šobak\n
 Prostor: Laboratorij CEM F13-3/K1.4.2
END:VEVENT
BEGIN:VEVENT
SUMMARY:Reologija polimerov (RLPM)\, Laboratorijske vaje (VL)\, [S5]
DTSTART;TZID=Europe/Ljubljana:20251219T120000
DTEND;TZID=Europe/Ljubljana:20251219T140000
DTSTAMP:20260421T023507Z
UID:fs-AFLABS-URNIK:srecanje:16944-2025-12-19 12:00:00+01:00
DESCRIPTION:Predmet: Reologija polimerov (RLPM)\, Laboratorijske vaje (VL)
 \, [S5]\nLetniki: Mehanika (MAG-2)\nIzvajalci: Alen Oseli\, Matic Šobak\n
 Prostor: Laboratorij CEM F13-3/K1.4.2
END:VEVENT
BEGIN:VEVENT
SUMMARY:Reologija polimerov (RLPM)\, Laboratorijske vaje (VL)\, [S5]
DTSTART;TZID=Europe/Ljubljana:20251226T120000
DTEND;TZID=Europe/Ljubljana:20251226T140000
DTSTAMP:20260421T023507Z
UID:fs-AFLABS-URNIK:srecanje:16944-2025-12-26 12:00:00+01:00
DESCRIPTION:Predmet: Reologija polimerov (RLPM)\, Laboratorijske vaje (VL)
 \, [S5]\nLetniki: Mehanika (MAG-2)\nIzvajalci: Alen Oseli\, Matic Šobak\n
 Prostor: Laboratorij CEM F13-3/K1.4.2
END:VEVENT
BEGIN:VEVENT
SUMMARY:Reologija polimerov (RLPM)\, Laboratorijske vaje (VL)\, [S6]
DTSTART;TZID=Europe/Ljubljana:20251017T140000
DTEND;TZID=Europe/Ljubljana:20251017T160000
DTSTAMP:20260421T023507Z
UID:fs-AFLABS-URNIK:srecanje:16945-2025-10-17 14:00:00+02:00
DESCRIPTION:Predmet: Reologija polimerov (RLPM)\, Laboratorijske vaje (VL)
 \, [S6]\nLetniki: Mehanika (MAG-2)\nIzvajalci: Alen Oseli\, Matic Šobak\n
 Prostor: Laboratorij CEM F13-3/K1.4.2
END:VEVENT
BEGIN:VEVENT
SUMMARY:Reologija polimerov (RLPM)\, Laboratorijske vaje (VL)\, [S6]
DTSTART;TZID=Europe/Ljubljana:20251024T140000
DTEND;TZID=Europe/Ljubljana:20251024T160000
DTSTAMP:20260421T023507Z
UID:fs-AFLABS-URNIK:srecanje:16945-2025-10-24 14:00:00+02:00
DESCRIPTION:Predmet: Reologija polimerov (RLPM)\, Laboratorijske vaje (VL)
 \, [S6]\nLetniki: Mehanika (MAG-2)\nIzvajalci: Alen Oseli\, Matic Šobak\n
 Prostor: Laboratorij CEM F13-3/K1.4.2
END:VEVENT
BEGIN:VEVENT
SUMMARY:Reologija polimerov (RLPM)\, Laboratorijske vaje (VL)\, [S6]
DTSTART;TZID=Europe/Ljubljana:20251107T140000
DTEND;TZID=Europe/Ljubljana:20251107T160000
DTSTAMP:20260421T023507Z
UID:fs-AFLABS-URNIK:srecanje:16945-2025-11-07 14:00:00+01:00
DESCRIPTION:Predmet: Reologija polimerov (RLPM)\, Laboratorijske vaje (VL)
 \, [S6]\nLetniki: Mehanika (MAG-2)\nIzvajalci: Alen Oseli\, Matic Šobak\n
 Prostor: Laboratorij CEM F13-3/K1.4.2
END:VEVENT
BEGIN:VEVENT
SUMMARY:Reologija polimerov (RLPM)\, Laboratorijske vaje (VL)\, [S6]
DTSTART;TZID=Europe/Ljubljana:20251128T140000
DTEND;TZID=Europe/Ljubljana:20251128T160000
DTSTAMP:20260421T023507Z
UID:fs-AFLABS-URNIK:srecanje:16945-2025-11-28 14:00:00+01:00
DESCRIPTION:Predmet: Reologija polimerov (RLPM)\, Laboratorijske vaje (VL)
 \, [S6]\nLetniki: Mehanika (MAG-2)\nIzvajalci: Alen Oseli\, Matic Šobak\n
 Prostor: Laboratorij CEM F13-3/K1.4.2
END:VEVENT
BEGIN:VEVENT
SUMMARY:Reologija polimerov (RLPM)\, Laboratorijske vaje (VL)\, [S6]
DTSTART;TZID=Europe/Ljubljana:20251205T140000
DTEND;TZID=Europe/Ljubljana:20251205T160000
DTSTAMP:20260421T023507Z
UID:fs-AFLABS-URNIK:srecanje:16945-2025-12-05 14:00:00+01:00
DESCRIPTION:Predmet: Reologija polimerov (RLPM)\, Laboratorijske vaje (VL)
 \, [S6]\nLetniki: Mehanika (MAG-2)\nIzvajalci: Alen Oseli\, Matic Šobak\n
 Prostor: Laboratorij CEM F13-3/K1.4.2
END:VEVENT
BEGIN:VEVENT
SUMMARY:Reologija polimerov (RLPM)\, Laboratorijske vaje (VL)\, [S6]
DTSTART;TZID=Europe/Ljubljana:20251219T140000
DTEND;TZID=Europe/Ljubljana:20251219T160000
DTSTAMP:20260421T023507Z
UID:fs-AFLABS-URNIK:srecanje:16945-2025-12-19 14:00:00+01:00
DESCRIPTION:Predmet: Reologija polimerov (RLPM)\, Laboratorijske vaje (VL)
 \, [S6]\nLetniki: Mehanika (MAG-2)\nIzvajalci: Alen Oseli\, Matic Šobak\n
 Prostor: Laboratorij CEM F13-3/K1.4.2
END:VEVENT
BEGIN:VEVENT
SUMMARY:Reologija polimerov (RLPM)\, Laboratorijske vaje (VL)\, [S6]
DTSTART;TZID=Europe/Ljubljana:20251226T140000
DTEND;TZID=Europe/Ljubljana:20251226T160000
DTSTAMP:20260421T023507Z
UID:fs-AFLABS-URNIK:srecanje:16945-2025-12-26 14:00:00+01:00
DESCRIPTION:Predmet: Reologija polimerov (RLPM)\, Laboratorijske vaje (VL)
 \, [S6]\nLetniki: Mehanika (MAG-2)\nIzvajalci: Alen Oseli\, Matic Šobak\n
 Prostor: Laboratorij CEM F13-3/K1.4.2
END:VEVENT
END:VCALENDAR
