BEGIN:VCALENDAR
VERSION:2.0
PRODID:-//AFLabs urnik izvoz - fs//aflabs.si//SI
NAME:UL FS Urnik
X-WR-CALNAME:UL FS Urnik
DTSTAMP:20260419T140713Z
REFRESH-INTERVAL:PT1H
SOURCE:https://urnik.fs.uni-lj.si/teacher/888/?day=2023-08-28&export=1
URL:https://urnik.fs.uni-lj.si/teacher/888/?day=2023-08-28&export=1
X-PUBLISHED-TTL:PT1H
X-WR-TIMEZONE:Europe/Ljubljana
BEGIN:VTIMEZONE
TZID:Europe/Ljubljana
BEGIN:DAYLIGHT
DTSTART:20260329T020000
RDATE:20260329T020000
RDATE:20270328T020000
TZNAME:CEST
TZOFFSETFROM:+0100
TZOFFSETTO:+0200
END:DAYLIGHT
BEGIN:STANDARD
DTSTART:20261025T030000
RDATE:20261025T030000
RDATE:20271031T030000
TZNAME:CET
TZOFFSETFROM:+0200
TZOFFSETTO:+0100
END:STANDARD
END:VTIMEZONE
BEGIN:VEVENT
SUMMARY:Additive Technologies (ADTE)\, Predavalniške vaje (VP)
DTSTART;TZID=Europe/Ljubljana:20231002T100000
DTEND;TZID=Europe/Ljubljana:20231002T120000
DTSTAMP:20260419T140713Z
UID:fs-AFLABS-URNIK:srecanje:6039-2023-10-02 10:00:00+02:00
DESCRIPTION:Predmet: Additive Technologies (ADTE)\, Predavalniške vaje (V
 P)\nLetniki: Erasmus (Erasmus)\nIzvajalci: Andrej Jeromen\, Uroš Trdan\nP
 rostor: Predavalnica I/4A
END:VEVENT
BEGIN:VEVENT
SUMMARY:Izdelovalne tehnologije 2 (IT2R)\, Predavanja (P)
DTSTART;TZID=Europe/Ljubljana:20231002T120000
DTEND;TZID=Europe/Ljubljana:20231002T143000
DTSTAMP:20260419T140713Z
UID:fs-AFLABS-URNIK:srecanje:6282-2023-10-02 12:00:00+02:00
DESCRIPTION:Predmet: Izdelovalne tehnologije 2 (IT2R)\, Predavanja (P)\nLe
 tniki: RRP-3 (RRP-3)\nIzvajalci: Damjan Klobčar\, Uroš Trdan\, Joško Va
 lentinčič\nProstor: Predavalnica IV/4
END:VEVENT
END:VCALENDAR
