BEGIN:VCALENDAR
VERSION:2.0
PRODID:-//AFLabs urnik izvoz - fs//aflabs.si//SI
NAME:UL FS Urnik
X-WR-CALNAME:UL FS Urnik
DTSTAMP:20260422T205357Z
REFRESH-INTERVAL:PT1H
SOURCE:https://urnik.fs.uni-lj.si/teacher/891/?day=2023-09-11&export=1
URL:https://urnik.fs.uni-lj.si/teacher/891/?day=2023-09-11&export=1
X-PUBLISHED-TTL:PT1H
X-WR-TIMEZONE:Europe/Ljubljana
BEGIN:VTIMEZONE
TZID:Europe/Ljubljana
BEGIN:DAYLIGHT
DTSTART:20260329T020000
RDATE:20260329T020000
RDATE:20270328T020000
TZNAME:CEST
TZOFFSETFROM:+0100
TZOFFSETTO:+0200
END:DAYLIGHT
BEGIN:STANDARD
DTSTART:20261025T030000
RDATE:20261025T030000
RDATE:20271031T030000
TZNAME:CET
TZOFFSETFROM:+0200
TZOFFSETTO:+0100
END:STANDARD
END:VTIMEZONE
BEGIN:VEVENT
SUMMARY:Višja trdnost (VSTM)\, Predavanja (P)
DTSTART;TZID=Europe/Ljubljana:20231002T080000
DTEND;TZID=Europe/Ljubljana:20231002T100000
DTSTAMP:20260422T205357Z
UID:fs-AFLABS-URNIK:srecanje:2648-2023-10-02 08:00:00+02:00
DESCRIPTION:Predmet: Višja trdnost (VSTM)\, Predavanja (P)\nLetniki: Meha
 nika (MAG-1)\nIzvajalci: Miha Brojan\, Jaka Tušek\nProstor: Predavalnica 
 II/5
END:VEVENT
BEGIN:VEVENT
SUMMARY:Višja trdnost (VSTM)\, Predavanja (P)
DTSTART;TZID=Europe/Ljubljana:20231009T080000
DTEND;TZID=Europe/Ljubljana:20231009T100000
DTSTAMP:20260422T205357Z
UID:fs-AFLABS-URNIK:srecanje:2648-2023-10-09 08:00:00+02:00
DESCRIPTION:Predmet: Višja trdnost (VSTM)\, Predavanja (P)\nLetniki: Meha
 nika (MAG-1)\nIzvajalci: Miha Brojan\, Jaka Tušek\nProstor: Predavalnica 
 II/5
END:VEVENT
BEGIN:VEVENT
SUMMARY:Višja trdnost (VSTM)\, Predavanja (P)
DTSTART;TZID=Europe/Ljubljana:20231016T080000
DTEND;TZID=Europe/Ljubljana:20231016T100000
DTSTAMP:20260422T205357Z
UID:fs-AFLABS-URNIK:srecanje:2648-2023-10-16 08:00:00+02:00
DESCRIPTION:Predmet: Višja trdnost (VSTM)\, Predavanja (P)\nLetniki: Meha
 nika (MAG-1)\nIzvajalci: Miha Brojan\, Jaka Tušek\nProstor: Predavalnica 
 II/5
END:VEVENT
BEGIN:VEVENT
SUMMARY:Prenosniki toplote (PRTM)\, Predavanja (P)
DTSTART;TZID=Europe/Ljubljana:20231004T080000
DTEND;TZID=Europe/Ljubljana:20231004T100000
DTSTAMP:20260422T205357Z
UID:fs-AFLABS-URNIK:srecanje:2459-2023-10-04 08:00:00+02:00
DESCRIPTION:Predmet: Prenosniki toplote (PRTM)\, Predavanja (P)\nLetniki: 
 Procesno strojništvo (MAG-2)\nIzvajalci: Iztok Golobič\, Andrej Kitanovs
 ki\, Jože Kutin\, Jaka Tušek\nProstor: Predavalnica III/3B
END:VEVENT
BEGIN:VEVENT
SUMMARY:Prenosniki toplote (PRTM)\, Predavanja (P)
DTSTART;TZID=Europe/Ljubljana:20231011T080000
DTEND;TZID=Europe/Ljubljana:20231011T100000
DTSTAMP:20260422T205357Z
UID:fs-AFLABS-URNIK:srecanje:2459-2023-10-11 08:00:00+02:00
DESCRIPTION:Predmet: Prenosniki toplote (PRTM)\, Predavanja (P)\nLetniki: 
 Procesno strojništvo (MAG-2)\nIzvajalci: Iztok Golobič\, Andrej Kitanovs
 ki\, Jože Kutin\, Jaka Tušek\nProstor: Predavalnica III/3B
END:VEVENT
BEGIN:VEVENT
SUMMARY:Heat Exchangers (HTEE)\, Predavanja (P)
DTSTART;TZID=Europe/Ljubljana:20231006T073000
DTEND;TZID=Europe/Ljubljana:20231006T093000
DTSTAMP:20260422T205357Z
UID:fs-AFLABS-URNIK:srecanje:6059-2023-10-06 07:30:00+02:00
DESCRIPTION:Predmet: Heat Exchangers (HTEE)\, Predavanja (P)\nLetniki: Era
 smus (Erasmus)\nIzvajalci: Iztok Golobič\, Andrej Kitanovski\, Jože Kuti
 n\, Jaka Tušek\nProstor: Predavalnica III/3A
END:VEVENT
BEGIN:VEVENT
SUMMARY:Heat Exchangers (HTEE)\, Predavanja (P)
DTSTART;TZID=Europe/Ljubljana:20231013T073000
DTEND;TZID=Europe/Ljubljana:20231013T093000
DTSTAMP:20260422T205357Z
UID:fs-AFLABS-URNIK:srecanje:6059-2023-10-13 07:30:00+02:00
DESCRIPTION:Predmet: Heat Exchangers (HTEE)\, Predavanja (P)\nLetniki: Era
 smus (Erasmus)\nIzvajalci: Iztok Golobič\, Andrej Kitanovski\, Jože Kuti
 n\, Jaka Tušek\nProstor: Predavalnica III/3A
END:VEVENT
BEGIN:VEVENT
SUMMARY:Prenosniki toplote (PRTM)\, Laboratorijske vaje (VL)\, [S3]
DTSTART;TZID=Europe/Ljubljana:20231009T080000
DTEND;TZID=Europe/Ljubljana:20231009T100000
DTSTAMP:20260422T205357Z
UID:fs-AFLABS-URNIK:srecanje:5335-2023-10-09 08:00:00+02:00
DESCRIPTION:Predmet: Prenosniki toplote (PRTM)\, Laboratorijske vaje (VL)\
 , [S3]\nLetniki: Procesno strojništvo (MAG-2)\nIzvajalci: Gregor Bobovnik
 \, Andrej Svete\, Jaka Tušek\nProstor: Laboratorij LAHDE K-1A-I
END:VEVENT
BEGIN:VEVENT
SUMMARY:Prenosniki toplote (PRTM)\, Laboratorijske vaje (VL)\, [S3]
DTSTART;TZID=Europe/Ljubljana:20231016T080000
DTEND;TZID=Europe/Ljubljana:20231016T100000
DTSTAMP:20260422T205357Z
UID:fs-AFLABS-URNIK:srecanje:5335-2023-10-16 08:00:00+02:00
DESCRIPTION:Predmet: Prenosniki toplote (PRTM)\, Laboratorijske vaje (VL)\
 , [S3]\nLetniki: Procesno strojništvo (MAG-2)\nIzvajalci: Gregor Bobovnik
 \, Andrej Svete\, Jaka Tušek\nProstor: Laboratorij LAHDE K-1A-I
END:VEVENT
BEGIN:VEVENT
SUMMARY:Prenosniki toplote (PRTM)\, Laboratorijske vaje (VL)\, [S4]
DTSTART;TZID=Europe/Ljubljana:20231009T160000
DTEND;TZID=Europe/Ljubljana:20231009T180000
DTSTAMP:20260422T205357Z
UID:fs-AFLABS-URNIK:srecanje:5485-2023-10-09 16:00:00+02:00
DESCRIPTION:Predmet: Prenosniki toplote (PRTM)\, Laboratorijske vaje (VL)\
 , [S4]\nLetniki: Procesno strojništvo (MAG-2)\nIzvajalci: Samo Jereb\, Ma
 tic Može\, Andrej Svete\, Jaka Tušek\, Matevž Zupančič\nProstor: Labo
 ratorij LAHDE K-1A-I
END:VEVENT
BEGIN:VEVENT
SUMMARY:Prenosniki toplote (PRTM)\, Laboratorijske vaje (VL)\, [S2]
DTSTART;TZID=Europe/Ljubljana:20231011T180000
DTEND;TZID=Europe/Ljubljana:20231011T200000
DTSTAMP:20260422T205357Z
UID:fs-AFLABS-URNIK:srecanje:5487-2023-10-11 18:00:00+02:00
DESCRIPTION:Predmet: Prenosniki toplote (PRTM)\, Laboratorijske vaje (VL)\
 , [S2]\nLetniki: Procesno strojništvo (MAG-2)\nIzvajalci: Gregor Bobovnik
 \, Samo Jereb\, Matic Može\, Andrej Svete\, Jaka Tušek\, Matevž Zupanč
 ič\nProstor: Laboratorij LAHDE K-1A-I
END:VEVENT
BEGIN:VEVENT
SUMMARY:Prenosniki toplote (PRTM)\, Laboratorijske vaje (VL)\, [S5]
DTSTART;TZID=Europe/Ljubljana:20231012T180000
DTEND;TZID=Europe/Ljubljana:20231012T200000
DTSTAMP:20260422T205357Z
UID:fs-AFLABS-URNIK:srecanje:5488-2023-10-12 18:00:00+02:00
DESCRIPTION:Predmet: Prenosniki toplote (PRTM)\, Laboratorijske vaje (VL)\
 , [S5]\nLetniki: Procesno strojništvo (MAG-2)\nIzvajalci: Gregor Bobovnik
 \, Samo Jereb\, Matic Može\, Andrej Svete\, Jaka Tušek\, Matevž Zupanč
 ič\nProstor: Laboratorij LAHDE K-1A-I
END:VEVENT
BEGIN:VEVENT
SUMMARY:Prenosniki toplote (PRTM)\, Laboratorijske vaje (VL)\, [S4]
DTSTART;TZID=Europe/Ljubljana:20231016T160000
DTEND;TZID=Europe/Ljubljana:20231016T180000
DTSTAMP:20260422T205357Z
UID:fs-AFLABS-URNIK:srecanje:5489-2023-10-16 16:00:00+02:00
DESCRIPTION:Predmet: Prenosniki toplote (PRTM)\, Laboratorijske vaje (VL)\
 , [S4]\nLetniki: Procesno strojništvo (MAG-2)\nIzvajalci: Samo Jereb\, Ma
 tic Može\, Andrej Svete\, Jaka Tušek\, Matevž Zupančič\nProstor: Labo
 ratorij LAHDE K-1A-I
END:VEVENT
BEGIN:VEVENT
SUMMARY:Rezervacija doc. dr. Tušek
DTSTART;TZID=Europe/Ljubljana:20231016T160000
DTEND;TZID=Europe/Ljubljana:20231016T180000
DTSTAMP:20260422T205357Z
UID:fs-AFLABS-URNIK:rezervacija:476
CATEGORIES:Reservation
COLOR:royalblue
DESCRIPTION:Predmeti: \nLetniki: \nIzvajalci: Jaka Tušek\nProstori: Preda
 valnica III/3B
LOCATION:Predavalnica III/3B
ORGANIZER:Jaka Tušek
X-WR-TIMEZONE:Europe/Ljubljana
END:VEVENT
BEGIN:VEVENT
SUMMARY:Sestanek
DTSTART;TZID=Europe/Ljubljana:20231012T160000
DTEND;TZID=Europe/Ljubljana:20231012T180000
DTSTAMP:20260422T205357Z
UID:fs-AFLABS-URNIK:rezervacija:872
CATEGORIES:Reservation
COLOR:royalblue
DESCRIPTION:Predmeti: \nLetniki: \nIzvajalci: Jaka Tušek\nProstori: Preda
 valnica II/3A
LOCATION:Predavalnica II/3A
ORGANIZER:Jaka Tušek
X-WR-TIMEZONE:Europe/Ljubljana
END:VEVENT
BEGIN:VEVENT
SUMMARY:Rezervacija doc. dr. Tušek
DTSTART;TZID=Europe/Ljubljana:20231016T080000
DTEND;TZID=Europe/Ljubljana:20231016T093000
DTSTAMP:20260422T205357Z
UID:fs-AFLABS-URNIK:rezervacija:1800
CATEGORIES:Reservation
COLOR:royalblue
DESCRIPTION:Predmeti: \nLetniki: \nIzvajalci: Jaka Tušek\nProstori: Preda
 valnica II/3A
LOCATION:Predavalnica II/3A
ORGANIZER:Jaka Tušek
X-WR-TIMEZONE:Europe/Ljubljana
END:VEVENT
END:VCALENDAR
