BEGIN:VCALENDAR
VERSION:2.0
PRODID:-//AFLabs urnik izvoz - fs//aflabs.si//SI
NAME:UL FS Urnik
X-WR-CALNAME:UL FS Urnik
DTSTAMP:20260423T075400Z
REFRESH-INTERVAL:PT1H
SOURCE:https://urnik.fs.uni-lj.si/teacher/905/?day=2024-09-16&export=1
URL:https://urnik.fs.uni-lj.si/teacher/905/?day=2024-09-16&export=1
X-PUBLISHED-TTL:PT1H
X-WR-TIMEZONE:Europe/Ljubljana
BEGIN:VTIMEZONE
TZID:Europe/Ljubljana
BEGIN:DAYLIGHT
DTSTART:20260329T020000
RDATE:20260329T020000
RDATE:20270328T020000
TZNAME:CEST
TZOFFSETFROM:+0100
TZOFFSETTO:+0200
END:DAYLIGHT
BEGIN:STANDARD
DTSTART:20261025T030000
RDATE:20261025T030000
RDATE:20271031T030000
TZNAME:CET
TZOFFSETFROM:+0200
TZOFFSETTO:+0100
END:STANDARD
END:VTIMEZONE
BEGIN:VEVENT
SUMMARY:Poročanje v strojništvu - RRP (PVSR)\, Predavanja (P)
DTSTART;TZID=Europe/Ljubljana:20241002T140000
DTEND;TZID=Europe/Ljubljana:20241002T150000
DTSTAMP:20260423T075400Z
UID:fs-AFLABS-URNIK:srecanje:7186-2024-10-02 14:00:00+02:00
DESCRIPTION:Predmet: Poročanje v strojništvu - RRP (PVSR)\, Predavanja (
 P)\nLetniki: RRP-2 (RRP-2)\nIzvajalci: Miha Brojan\, Dominik Kozjek\, Fran
 c Majdič\, Rok Vrabič\, Nikola Vukašinović\nProstor: Predavalnica V/2
END:VEVENT
BEGIN:VEVENT
SUMMARY:Poročanje v strojništvu - RRP (PVSR)\, Predavanja (P)
DTSTART;TZID=Europe/Ljubljana:20241009T140000
DTEND;TZID=Europe/Ljubljana:20241009T150000
DTSTAMP:20260423T075400Z
UID:fs-AFLABS-URNIK:srecanje:7186-2024-10-09 14:00:00+02:00
DESCRIPTION:Predmet: Poročanje v strojništvu - RRP (PVSR)\, Predavanja (
 P)\nLetniki: RRP-2 (RRP-2)\nIzvajalci: Miha Brojan\, Dominik Kozjek\, Fran
 c Majdič\, Rok Vrabič\, Nikola Vukašinović\nProstor: Predavalnica V/2
END:VEVENT
BEGIN:VEVENT
SUMMARY:Poročanje v strojništvu - RRP (PVSR)\, Predavanja (P)
DTSTART;TZID=Europe/Ljubljana:20241016T140000
DTEND;TZID=Europe/Ljubljana:20241016T150000
DTSTAMP:20260423T075400Z
UID:fs-AFLABS-URNIK:srecanje:7186-2024-10-16 14:00:00+02:00
DESCRIPTION:Predmet: Poročanje v strojništvu - RRP (PVSR)\, Predavanja (
 P)\nLetniki: RRP-2 (RRP-2)\nIzvajalci: Miha Brojan\, Dominik Kozjek\, Fran
 c Majdič\, Rok Vrabič\, Nikola Vukašinović\nProstor: Predavalnica V/2
END:VEVENT
BEGIN:VEVENT
SUMMARY:Robotic Systems - MAG (RBSE)\, Predavanja (P)
DTSTART;TZID=Europe/Ljubljana:20241002T120000
DTEND;TZID=Europe/Ljubljana:20241002T140000
DTSTAMP:20260423T075400Z
UID:fs-AFLABS-URNIK:srecanje:7294-2024-10-02 12:00:00+02:00
DESCRIPTION:Predmet: Robotic Systems - MAG (RBSE)\, Predavanja (P)\nLetnik
 i: Erasmus (Erasmus)\nIzvajalci: Rok Vrabič\nProstor: Predavalnica I/4A
END:VEVENT
BEGIN:VEVENT
SUMMARY:Robotic Systems - MAG (RBSE)\, Predavanja (P)
DTSTART;TZID=Europe/Ljubljana:20241009T120000
DTEND;TZID=Europe/Ljubljana:20241009T140000
DTSTAMP:20260423T075400Z
UID:fs-AFLABS-URNIK:srecanje:7294-2024-10-09 12:00:00+02:00
DESCRIPTION:Predmet: Robotic Systems - MAG (RBSE)\, Predavanja (P)\nLetnik
 i: Erasmus (Erasmus)\nIzvajalci: Rok Vrabič\nProstor: Predavalnica I/4A
END:VEVENT
BEGIN:VEVENT
SUMMARY:Robotic Systems - MAG (RBSE)\, Predavanja (P)
DTSTART;TZID=Europe/Ljubljana:20241016T120000
DTEND;TZID=Europe/Ljubljana:20241016T140000
DTSTAMP:20260423T075400Z
UID:fs-AFLABS-URNIK:srecanje:7294-2024-10-16 12:00:00+02:00
DESCRIPTION:Predmet: Robotic Systems - MAG (RBSE)\, Predavanja (P)\nLetnik
 i: Erasmus (Erasmus)\nIzvajalci: Rok Vrabič\nProstor: Predavalnica I/4A
END:VEVENT
BEGIN:VEVENT
SUMMARY:Robotski sistemi - MAG (RBSM)\, Predavanja (P)
DTSTART;TZID=Europe/Ljubljana:20241002T080000
DTEND;TZID=Europe/Ljubljana:20241002T100000
DTSTAMP:20260423T075400Z
UID:fs-AFLABS-URNIK:srecanje:7303-2024-10-02 08:00:00+02:00
DESCRIPTION:Predmet: Robotski sistemi - MAG (RBSM)\, Predavanja (P)\nLetni
 ki: Mehatronika in laserska tehnika (MAG-1)\nIzvajalci: Rok Vrabič\nProst
 or: Predavalnica III/4
END:VEVENT
BEGIN:VEVENT
SUMMARY:Robotski sistemi - MAG (RBSM)\, Predavanja (P)
DTSTART;TZID=Europe/Ljubljana:20241009T080000
DTEND;TZID=Europe/Ljubljana:20241009T100000
DTSTAMP:20260423T075400Z
UID:fs-AFLABS-URNIK:srecanje:7303-2024-10-09 08:00:00+02:00
DESCRIPTION:Predmet: Robotski sistemi - MAG (RBSM)\, Predavanja (P)\nLetni
 ki: Mehatronika in laserska tehnika (MAG-1)\nIzvajalci: Rok Vrabič\nProst
 or: Predavalnica III/4
END:VEVENT
BEGIN:VEVENT
SUMMARY:Robotski sistemi - MAG (RBSM)\, Predavanja (P)
DTSTART;TZID=Europe/Ljubljana:20241016T080000
DTEND;TZID=Europe/Ljubljana:20241016T100000
DTSTAMP:20260423T075400Z
UID:fs-AFLABS-URNIK:srecanje:7303-2024-10-16 08:00:00+02:00
DESCRIPTION:Predmet: Robotski sistemi - MAG (RBSM)\, Predavanja (P)\nLetni
 ki: Mehatronika in laserska tehnika (MAG-1)\nIzvajalci: Rok Vrabič\nProst
 or: Predavalnica III/4
END:VEVENT
BEGIN:VEVENT
SUMMARY:Robotski sistemi - PAP (RBSP)\, Predavanja (P)
DTSTART;TZID=Europe/Ljubljana:20241007T133000
DTEND;TZID=Europe/Ljubljana:20241007T153000
DTSTAMP:20260423T075400Z
UID:fs-AFLABS-URNIK:srecanje:10808-2024-10-07 13:30:00+02:00
DESCRIPTION:Predmet: Robotski sistemi - PAP (RBSP)\, Predavanja (P)\nLetni
 ki: Mehatronika (PAP-3)\nIzvajalci: Rok Vrabič\nProstor: Predavalnica II/
 3B
END:VEVENT
BEGIN:VEVENT
SUMMARY:Robotski sistemi - PAP (RBSP)\, Predavanja (P)
DTSTART;TZID=Europe/Ljubljana:20241014T133000
DTEND;TZID=Europe/Ljubljana:20241014T153000
DTSTAMP:20260423T075400Z
UID:fs-AFLABS-URNIK:srecanje:10808-2024-10-14 13:30:00+02:00
DESCRIPTION:Predmet: Robotski sistemi - PAP (RBSP)\, Predavanja (P)\nLetni
 ki: Mehatronika (PAP-3)\nIzvajalci: Rok Vrabič\nProstor: Predavalnica II/
 3B
END:VEVENT
BEGIN:VEVENT
SUMMARY:Robotski sistemi - PAP (RBSP)\, Predavanja (P)
DTSTART;TZID=Europe/Ljubljana:20241021T133000
DTEND;TZID=Europe/Ljubljana:20241021T153000
DTSTAMP:20260423T075400Z
UID:fs-AFLABS-URNIK:srecanje:10808-2024-10-21 13:30:00+02:00
DESCRIPTION:Predmet: Robotski sistemi - PAP (RBSP)\, Predavanja (P)\nLetni
 ki: Mehatronika (PAP-3)\nIzvajalci: Rok Vrabič\nProstor: Predavalnica II/
 3B
END:VEVENT
BEGIN:VEVENT
SUMMARY:Izpit: Fleksibilni proizvodni sistemi (6250)
DTSTART;TZID=Europe/Ljubljana:20240814T080000
DTEND;TZID=Europe/Ljubljana:20240814T100000
DTSTAMP:20260423T075400Z
UID:fs-AFLABS-URNIK:rezervacija:5466
CATEGORIES:Reservation
COLOR:royalblue
DESCRIPTION:Predmeti: \nLetniki: \nIzvajalci: Rok Vrabič\nProstori: Preda
 valnica II/2
LOCATION:Predavalnica II/2
ORGANIZER:Rok Vrabič
X-WR-TIMEZONE:Europe/Ljubljana
END:VEVENT
BEGIN:VEVENT
SUMMARY:Izpit: Osnove mehatronskih sistemov (3080)
DTSTART;TZID=Europe/Ljubljana:20240814T080000
DTEND;TZID=Europe/Ljubljana:20240814T100000
DTSTAMP:20260423T075400Z
UID:fs-AFLABS-URNIK:rezervacija:5467
CATEGORIES:Reservation
COLOR:royalblue
DESCRIPTION:Predmeti: \nLetniki: \nIzvajalci: Rok Vrabič\nProstori: Preda
 valnica II/2
LOCATION:Predavalnica II/2
ORGANIZER:Rok Vrabič
X-WR-TIMEZONE:Europe/Ljubljana
END:VEVENT
BEGIN:VEVENT
SUMMARY:Izpit: Porazdeljeni sistemi (6231)
DTSTART;TZID=Europe/Ljubljana:20240814T080000
DTEND;TZID=Europe/Ljubljana:20240814T100000
DTSTAMP:20260423T075400Z
UID:fs-AFLABS-URNIK:rezervacija:5468
CATEGORIES:Reservation
COLOR:royalblue
DESCRIPTION:Predmeti: \nLetniki: \nIzvajalci: Rok Vrabič\nProstori: Preda
 valnica II/2
LOCATION:Predavalnica II/2
ORGANIZER:Rok Vrabič
X-WR-TIMEZONE:Europe/Ljubljana
END:VEVENT
BEGIN:VEVENT
SUMMARY:Izpit: Robotski sistemi - PAP
DTSTART;TZID=Europe/Ljubljana:20240820T110000
DTEND;TZID=Europe/Ljubljana:20240820T130000
DTSTAMP:20260423T075400Z
UID:fs-AFLABS-URNIK:rezervacija:5588
ATTENDEE:Mehatronika (PAP-3)
CATEGORIES:Reservation
COLOR:royalblue
DESCRIPTION:Predmeti: Robotski sistemi - PAP (RBSP)\nLetniki: Mehatronika 
 (PAP-3)\nIzvajalci: Rok Vrabič\nProstori: Predavalnica III/2
LOCATION:Predavalnica III/2
ORGANIZER:Rok Vrabič
X-WR-TIMEZONE:Europe/Ljubljana
END:VEVENT
BEGIN:VEVENT
SUMMARY:Izpit: Mehatronski sistemi (6260)
DTSTART;TZID=Europe/Ljubljana:20240826T090000
DTEND;TZID=Europe/Ljubljana:20240826T110000
DTSTAMP:20260423T075400Z
UID:fs-AFLABS-URNIK:rezervacija:5731
CATEGORIES:Reservation
COLOR:royalblue
DESCRIPTION:Predmeti: \nLetniki: \nIzvajalci: Rok Vrabič\nProstori: Preda
 valnica III/3A
LOCATION:Predavalnica III/3A
ORGANIZER:Rok Vrabič
X-WR-TIMEZONE:Europe/Ljubljana
END:VEVENT
BEGIN:VEVENT
SUMMARY:Izpit: Mehatronika in laserske tehnologije
DTSTART;TZID=Europe/Ljubljana:20240827T120000
DTEND;TZID=Europe/Ljubljana:20240827T140000
DTSTAMP:20260423T075400Z
UID:fs-AFLABS-URNIK:rezervacija:5756
ATTENDEE:RRP-3 (RRP-3)
CATEGORIES:Reservation
COLOR:royalblue
DESCRIPTION:Predmeti: Mehatronika in laserske tehnologije (MLTR)\nLetniki:
  RRP-3 (RRP-3)\nIzvajalci: Rok Vrabič\nProstori: Predavalnica III/4
LOCATION:Predavalnica III/4
ORGANIZER:Rok Vrabič
X-WR-TIMEZONE:Europe/Ljubljana
END:VEVENT
BEGIN:VEVENT
SUMMARY:Izpit: Osnove mehatronike (2050)
DTSTART;TZID=Europe/Ljubljana:20240827T120000
DTEND;TZID=Europe/Ljubljana:20240827T140000
DTSTAMP:20260423T075400Z
UID:fs-AFLABS-URNIK:rezervacija:5757
CATEGORIES:Reservation
COLOR:royalblue
DESCRIPTION:Predmeti: \nLetniki: \nIzvajalci: Rok Vrabič\nProstori: Preda
 valnica III/4
LOCATION:Predavalnica III/4
ORGANIZER:Rok Vrabič
X-WR-TIMEZONE:Europe/Ljubljana
END:VEVENT
BEGIN:VEVENT
SUMMARY:Izpit: Osnove računalniške obdelave podatkov (3131)
DTSTART;TZID=Europe/Ljubljana:20240830T100000
DTEND;TZID=Europe/Ljubljana:20240830T120000
DTSTAMP:20260423T075400Z
UID:fs-AFLABS-URNIK:rezervacija:5836
CATEGORIES:Reservation
COLOR:royalblue
DESCRIPTION:Predmeti: \nLetniki: \nIzvajalci: Rok Vrabič\nProstori: Preda
 valnica III/3B
LOCATION:Predavalnica III/3B
ORGANIZER:Rok Vrabič
X-WR-TIMEZONE:Europe/Ljubljana
END:VEVENT
BEGIN:VEVENT
SUMMARY:Izpit: Robotic Systems - MAG (6055-M)
DTSTART;TZID=Europe/Ljubljana:20240827T090000
DTEND;TZID=Europe/Ljubljana:20240827T110000
DTSTAMP:20260423T075400Z
UID:fs-AFLABS-URNIK:rezervacija:5991
CATEGORIES:Reservation
COLOR:royalblue
DESCRIPTION:Predmeti: \nLetniki: \nIzvajalci: Rok Vrabič\nProstori: Preda
 valnica II/5
LOCATION:Predavalnica II/5
ORGANIZER:Rok Vrabič
X-WR-TIMEZONE:Europe/Ljubljana
END:VEVENT
BEGIN:VEVENT
SUMMARY:Izpit: Robotski sistemi - MAG
DTSTART;TZID=Europe/Ljubljana:20240827T090000
DTEND;TZID=Europe/Ljubljana:20240827T110000
DTSTAMP:20260423T075400Z
UID:fs-AFLABS-URNIK:rezervacija:5992
ATTENDEE:Mehatronika in laserska tehnika (MAG-1)
CATEGORIES:Reservation
COLOR:royalblue
DESCRIPTION:Predmeti: Robotski sistemi - MAG (RBSM)\nLetniki: Mehatronika 
 in laserska tehnika (MAG-1)\nIzvajalci: Rok Vrabič\nProstori: Predavalnic
 a II/5
LOCATION:Predavalnica II/5
ORGANIZER:Rok Vrabič
X-WR-TIMEZONE:Europe/Ljubljana
END:VEVENT
END:VCALENDAR
