BEGIN:VCALENDAR
VERSION:2.0
PRODID:-//AFLabs urnik izvoz - fs//aflabs.si//SI
NAME:UL FS Urnik
X-WR-CALNAME:UL FS Urnik
DTSTAMP:20260419T204301Z
REFRESH-INTERVAL:PT1H
SOURCE:https://urnik.fs.uni-lj.si/teacher/908/?day=2023-09-04&export=1
URL:https://urnik.fs.uni-lj.si/teacher/908/?day=2023-09-04&export=1
X-PUBLISHED-TTL:PT1H
X-WR-TIMEZONE:Europe/Ljubljana
BEGIN:VTIMEZONE
TZID:Europe/Ljubljana
BEGIN:DAYLIGHT
DTSTART:20260329T020000
RDATE:20260329T020000
RDATE:20270328T020000
TZNAME:CEST
TZOFFSETFROM:+0100
TZOFFSETTO:+0200
END:DAYLIGHT
BEGIN:STANDARD
DTSTART:20261025T030000
RDATE:20261025T030000
RDATE:20271031T030000
TZNAME:CET
TZOFFSETFROM:+0200
TZOFFSETTO:+0100
END:STANDARD
END:VTIMEZONE
BEGIN:VEVENT
SUMMARY:Tehnično risanje in računalniško modeliranje geometrije (TRRR)\
 , Predavanja (P)
DTSTART;TZID=Europe/Ljubljana:20231002T120000
DTEND;TZID=Europe/Ljubljana:20231002T150000
DTSTAMP:20260419T204301Z
UID:fs-AFLABS-URNIK:srecanje:2576-2023-10-02 12:00:00+02:00
DESCRIPTION:Predmet: Tehnično risanje in računalniško modeliranje geome
 trije (TRRR)\, Predavanja (P)\nLetniki: RRP-1 (RRP-1)\nIzvajalci: Robert K
 unc\, Nikola Vukašinović\, Damijan Zorko\, Samo Zupan\nProstor: Predaval
 nica V/8
END:VEVENT
BEGIN:VEVENT
SUMMARY:Tehnično risanje in računalniško modeliranje geometrije (TRRR)\
 , Predavanja (P)
DTSTART;TZID=Europe/Ljubljana:20231009T120000
DTEND;TZID=Europe/Ljubljana:20231009T150000
DTSTAMP:20260419T204301Z
UID:fs-AFLABS-URNIK:srecanje:2576-2023-10-09 12:00:00+02:00
DESCRIPTION:Predmet: Tehnično risanje in računalniško modeliranje geome
 trije (TRRR)\, Predavanja (P)\nLetniki: RRP-1 (RRP-1)\nIzvajalci: Robert K
 unc\, Nikola Vukašinović\, Damijan Zorko\, Samo Zupan\nProstor: Predaval
 nica V/8
END:VEVENT
BEGIN:VEVENT
SUMMARY:Engineering Design Techniques (EDTE)\, Predavanja (P)
DTSTART;TZID=Europe/Ljubljana:20231002T160000
DTEND;TZID=Europe/Ljubljana:20231002T180000
DTSTAMP:20260419T204301Z
UID:fs-AFLABS-URNIK:srecanje:6187-2023-10-02 16:00:00+02:00
DESCRIPTION:Predmet: Engineering Design Techniques (EDTE)\, Predavanja (P)
 \nLetniki: Erasmus (Erasmus)\nIzvajalci: Leon Kos\, Nikola Vukašinović\n
 Prostor: Predavalnica II/3B
END:VEVENT
BEGIN:VEVENT
SUMMARY:Engineering Design Techniques (EDTE)\, Predavanja (P)
DTSTART;TZID=Europe/Ljubljana:20231009T160000
DTEND;TZID=Europe/Ljubljana:20231009T180000
DTSTAMP:20260419T204301Z
UID:fs-AFLABS-URNIK:srecanje:6187-2023-10-09 16:00:00+02:00
DESCRIPTION:Predmet: Engineering Design Techniques (EDTE)\, Predavanja (P)
 \nLetniki: Erasmus (Erasmus)\nIzvajalci: Leon Kos\, Nikola Vukašinović\n
 Prostor: Predavalnica II/3B
END:VEVENT
BEGIN:VEVENT
SUMMARY:Konstrukcijske tehnike (KNTM)\, Predavanja (P)
DTSTART;TZID=Europe/Ljubljana:20231003T140000
DTEND;TZID=Europe/Ljubljana:20231003T160000
DTSTAMP:20260419T204301Z
UID:fs-AFLABS-URNIK:srecanje:2255-2023-10-03 14:00:00+02:00
DESCRIPTION:Predmet: Konstrukcijske tehnike (KNTM)\, Predavanja (P)\nLetni
 ki: Konstruiranje (MAG-1)\nIzvajalci: Leon Kos\, Nikola Vukašinović\, Da
 mijan Zorko\nProstor: Predavalnica III/2
END:VEVENT
BEGIN:VEVENT
SUMMARY:Metodika konstruiranja - PAP (MTKP)\, Predavanja (P)
DTSTART;TZID=Europe/Ljubljana:20231003T073000
DTEND;TZID=Europe/Ljubljana:20231003T093000
DTSTAMP:20260419T204301Z
UID:fs-AFLABS-URNIK:srecanje:2361-2023-10-03 07:30:00+02:00
DESCRIPTION:Predmet: Metodika konstruiranja - PAP (MTKP)\, Predavanja (P)\
 nLetniki: Energetsko strojništvo (PAP-2)\, Industrijsko inženirstvo (PAP
 -2)\, Konstruiranje industrijskih sistemov (PAP-2)\, Konstruiranje strojev
  in naprav (PAP-2)\, Mehatronika (PAP-2)\, Procesno strojništvo (PAP-2)\,
  Proizvodne tehnologije (PAP-2)\, Prometni pilot letala/helikopterja (PAP-
 2)\, Snovanje in vzdrževanje letal (PAP-2)\nIzvajalci: Janez Benedičič\
 , Nikola Vukašinović\nProstor: Predavalnica V/2
END:VEVENT
BEGIN:VEVENT
SUMMARY:Poročanje v strojništvu - RRP (PVSR)\, Predavanja (P)
DTSTART;TZID=Europe/Ljubljana:20231004T140000
DTEND;TZID=Europe/Ljubljana:20231004T150000
DTSTAMP:20260419T204301Z
UID:fs-AFLABS-URNIK:srecanje:2456-2023-10-04 14:00:00+02:00
DESCRIPTION:Predmet: Poročanje v strojništvu - RRP (PVSR)\, Predavanja (
 P)\nLetniki: RRP-2 (RRP-2)\nIzvajalci: Miha Brojan\, Franc Majdič\, Rok V
 rabič\, Nikola Vukašinović\nProstor: Predavalnica V/2
END:VEVENT
BEGIN:VEVENT
SUMMARY:Napredne tehnologije in materiali - ALUO (NTMA)\, Predavanja (P)
DTSTART;TZID=Europe/Ljubljana:20231004T103000
DTEND;TZID=Europe/Ljubljana:20231004T130000
DTSTAMP:20260419T204301Z
UID:fs-AFLABS-URNIK:srecanje:6240-2023-10-04 10:30:00+02:00
DESCRIPTION:Predmet: Napredne tehnologije in materiali - ALUO (NTMA)\, Pre
 davanja (P)\nLetniki: \nIzvajalci: Tomaž Pepelnjak\, Nikola Vukašinović
 \nProstor: Predavalnica III/3B
END:VEVENT
BEGIN:VEVENT
SUMMARY:Izpit: Modeliranje prostora (2009)
DTSTART;TZID=Europe/Ljubljana:20230824T110000
DTEND;TZID=Europe/Ljubljana:20230824T130000
DTSTAMP:20260419T204301Z
UID:fs-AFLABS-URNIK:rezervacija:1820
CATEGORIES:Reservation
COLOR:royalblue
DESCRIPTION:Predmeti: \nLetniki: \nIzvajalci: Nikola Vukašinović\nProsto
 ri: Predavalnica III/4
LOCATION:Predavalnica III/4
ORGANIZER:Nikola Vukašinović
X-WR-TIMEZONE:Europe/Ljubljana
END:VEVENT
BEGIN:VEVENT
SUMMARY:Izpit: Konstruiranje z nekovinskimi gradivi (6203)
DTSTART;TZID=Europe/Ljubljana:20230824T110000
DTEND;TZID=Europe/Ljubljana:20230824T130000
DTSTAMP:20260419T204301Z
UID:fs-AFLABS-URNIK:rezervacija:1872
CATEGORIES:Reservation
COLOR:royalblue
DESCRIPTION:Predmeti: \nLetniki: \nIzvajalci: Nikola Vukašinović\nProsto
 ri: Predavalnica II/5
LOCATION:Predavalnica II/5
ORGANIZER:Nikola Vukašinović
X-WR-TIMEZONE:Europe/Ljubljana
END:VEVENT
BEGIN:VEVENT
SUMMARY:Izpit: Konstrukcije iz nekovinskih gradiv (3105)
DTSTART;TZID=Europe/Ljubljana:20230823T080000
DTEND;TZID=Europe/Ljubljana:20230823T100000
DTSTAMP:20260419T204301Z
UID:fs-AFLABS-URNIK:rezervacija:1873
CATEGORIES:Reservation
COLOR:royalblue
DESCRIPTION:Predmeti: \nLetniki: \nIzvajalci: Nikola Vukašinović\nProsto
 ri: Predavalnica V/2
LOCATION:Predavalnica V/2
ORGANIZER:Nikola Vukašinović
X-WR-TIMEZONE:Europe/Ljubljana
END:VEVENT
BEGIN:VEVENT
SUMMARY:Izpit: Snovanje in razvoj izdelka
DTSTART;TZID=Europe/Ljubljana:20230823T080000
DTEND;TZID=Europe/Ljubljana:20230823T100000
DTSTAMP:20260419T204301Z
UID:fs-AFLABS-URNIK:rezervacija:1874
ATTENDEE:RRP-3 (RRP-3)
CATEGORIES:Reservation
COLOR:royalblue
DESCRIPTION:Predmeti: Snovanje in razvoj izdelka (2046)\nLetniki: RRP-3 (R
 RP-3)\nIzvajalci: Nikola Vukašinović\nProstori: Predavalnica V/2
LOCATION:Predavalnica V/2
ORGANIZER:Nikola Vukašinović
X-WR-TIMEZONE:Europe/Ljubljana
END:VEVENT
BEGIN:VEVENT
SUMMARY:Izpit: Snovanje izdelkov in projektiranje (3009)
DTSTART;TZID=Europe/Ljubljana:20230829T150000
DTEND;TZID=Europe/Ljubljana:20230829T170000
DTSTAMP:20260419T204301Z
UID:fs-AFLABS-URNIK:rezervacija:1875
CATEGORIES:Reservation
COLOR:royalblue
DESCRIPTION:Predmeti: \nLetniki: \nIzvajalci: Nikola Vukašinović\nProsto
 ri: Predavalnica V/2
LOCATION:Predavalnica V/2
ORGANIZER:Nikola Vukašinović
X-WR-TIMEZONE:Europe/Ljubljana
END:VEVENT
BEGIN:VEVENT
SUMMARY:Izpit: Računalniško modeliranje geometrije
DTSTART;TZID=Europe/Ljubljana:20230829T150000
DTEND;TZID=Europe/Ljubljana:20230829T170000
DTSTAMP:20260419T204301Z
UID:fs-AFLABS-URNIK:rezervacija:1876
ATTENDEE:PAP-1 (PAP-1)
CATEGORIES:Reservation
COLOR:royalblue
DESCRIPTION:Predmeti: Računalniško modeliranje geometrije (RMGP)\nLetnik
 i: PAP-1 (PAP-1)\nIzvajalci: Nikola Vukašinović\nProstori: Predavalnica 
 V/2
LOCATION:Predavalnica V/2
ORGANIZER:Nikola Vukašinović
X-WR-TIMEZONE:Europe/Ljubljana
END:VEVENT
END:VCALENDAR
