BEGIN:VCALENDAR
VERSION:2.0
PRODID:-//AFLabs urnik izvoz - fs//aflabs.si//SI
NAME:UL FS Urnik
X-WR-CALNAME:UL FS Urnik
DTSTAMP:20260422T064245Z
REFRESH-INTERVAL:PT1H
SOURCE:https://urnik.fs.uni-lj.si/teacher/910/?day=2023-09-25&export=1
URL:https://urnik.fs.uni-lj.si/teacher/910/?day=2023-09-25&export=1
X-PUBLISHED-TTL:PT1H
X-WR-TIMEZONE:Europe/Ljubljana
BEGIN:VTIMEZONE
TZID:Europe/Ljubljana
BEGIN:DAYLIGHT
DTSTART:20260329T020000
RDATE:20260329T020000
RDATE:20270328T020000
TZNAME:CEST
TZOFFSETFROM:+0100
TZOFFSETTO:+0200
END:DAYLIGHT
BEGIN:STANDARD
DTSTART:20261025T030000
RDATE:20261025T030000
RDATE:20271031T030000
TZNAME:CET
TZOFFSETFROM:+0200
TZOFFSETTO:+0100
END:STANDARD
END:VTIMEZONE
BEGIN:VEVENT
SUMMARY:Statika in kinematika (STKR)\, Predavalniške vaje (VP)\, [S1]
DTSTART;TZID=Europe/Ljubljana:20231003T153000
DTEND;TZID=Europe/Ljubljana:20231003T173000
DTSTAMP:20260422T064245Z
UID:fs-AFLABS-URNIK:srecanje:2540-2023-10-03 15:30:00+02:00
DESCRIPTION:Predmet: Statika in kinematika (STKR)\, Predavalniške vaje (V
 P)\, [S1]\nLetniki: RRP-1 (RRP-1)\nIzvajalci: Tibor Barši Palmić\, Kleme
 n Zaletelj\nProstor: Predavalnica II/3A
END:VEVENT
BEGIN:VEVENT
SUMMARY:Statika in kinematika (STKR)\, Predavalniške vaje (VP)\, [S1]
DTSTART;TZID=Europe/Ljubljana:20231010T153000
DTEND;TZID=Europe/Ljubljana:20231010T173000
DTSTAMP:20260422T064245Z
UID:fs-AFLABS-URNIK:srecanje:2540-2023-10-10 15:30:00+02:00
DESCRIPTION:Predmet: Statika in kinematika (STKR)\, Predavalniške vaje (V
 P)\, [S1]\nLetniki: RRP-1 (RRP-1)\nIzvajalci: Tibor Barši Palmić\, Kleme
 n Zaletelj\nProstor: Predavalnica II/3A
END:VEVENT
BEGIN:VEVENT
SUMMARY:Statika in kinematika (STKR)\, Predavalniške vaje (VP)\, [S1]
DTSTART;TZID=Europe/Ljubljana:20231024T153000
DTEND;TZID=Europe/Ljubljana:20231024T173000
DTSTAMP:20260422T064245Z
UID:fs-AFLABS-URNIK:srecanje:2540-2023-10-24 15:30:00+02:00
DESCRIPTION:Predmet: Statika in kinematika (STKR)\, Predavalniške vaje (V
 P)\, [S1]\nLetniki: RRP-1 (RRP-1)\nIzvajalci: Tibor Barši Palmić\, Kleme
 n Zaletelj\nProstor: Predavalnica II/3A
END:VEVENT
BEGIN:VEVENT
SUMMARY:Dinamika togih teles (DTTR)\, Predavalniške vaje (VP)\, [S2]
DTSTART;TZID=Europe/Ljubljana:20231005T120000
DTEND;TZID=Europe/Ljubljana:20231005T140000
DTSTAMP:20260422T064245Z
UID:fs-AFLABS-URNIK:srecanje:4749-2023-10-05 12:00:00+02:00
DESCRIPTION:Predmet: Dinamika togih teles (DTTR)\, Predavalniške vaje (VP
 )\, [S2]\nLetniki: RRP-2 (RRP-2)\nIzvajalci: Klemen Zaletelj\nProstor: Pre
 davalnica III/3B
END:VEVENT
BEGIN:VEVENT
SUMMARY:Dinamika togih teles (DTTR)\, Predavalniške vaje (VP)\, [S2]
DTSTART;TZID=Europe/Ljubljana:20231012T120000
DTEND;TZID=Europe/Ljubljana:20231012T140000
DTSTAMP:20260422T064245Z
UID:fs-AFLABS-URNIK:srecanje:4749-2023-10-12 12:00:00+02:00
DESCRIPTION:Predmet: Dinamika togih teles (DTTR)\, Predavalniške vaje (VP
 )\, [S2]\nLetniki: RRP-2 (RRP-2)\nIzvajalci: Klemen Zaletelj\nProstor: Pre
 davalnica III/3B
END:VEVENT
BEGIN:VEVENT
SUMMARY:Dinamika togih teles (DTTR)\, Predavalniške vaje (VP)\, [S2]
DTSTART;TZID=Europe/Ljubljana:20231019T120000
DTEND;TZID=Europe/Ljubljana:20231019T140000
DTSTAMP:20260422T064245Z
UID:fs-AFLABS-URNIK:srecanje:4749-2023-10-19 12:00:00+02:00
DESCRIPTION:Predmet: Dinamika togih teles (DTTR)\, Predavalniške vaje (VP
 )\, [S2]\nLetniki: RRP-2 (RRP-2)\nIzvajalci: Klemen Zaletelj\nProstor: Pre
 davalnica III/3B
END:VEVENT
BEGIN:VEVENT
SUMMARY:Dinamika togih teles (DTTR)\, Predavalniške vaje (VP)\, [S2]
DTSTART;TZID=Europe/Ljubljana:20231026T120000
DTEND;TZID=Europe/Ljubljana:20231026T140000
DTSTAMP:20260422T064245Z
UID:fs-AFLABS-URNIK:srecanje:4749-2023-10-26 12:00:00+02:00
DESCRIPTION:Predmet: Dinamika togih teles (DTTR)\, Predavalniške vaje (VP
 )\, [S2]\nLetniki: RRP-2 (RRP-2)\nIzvajalci: Klemen Zaletelj\nProstor: Pre
 davalnica III/3B
END:VEVENT
BEGIN:VEVENT
SUMMARY:Dinamika togih teles (DTTR)\, Predavalniške vaje (VP)\, [S3]
DTSTART;TZID=Europe/Ljubljana:20231005T080000
DTEND;TZID=Europe/Ljubljana:20231005T100000
DTSTAMP:20260422T064245Z
UID:fs-AFLABS-URNIK:srecanje:2159-2023-10-05 08:00:00+02:00
DESCRIPTION:Predmet: Dinamika togih teles (DTTR)\, Predavalniške vaje (VP
 )\, [S3]\nLetniki: RRP-2 (RRP-2)\nIzvajalci: Klemen Zaletelj\nProstor: Pre
 davalnica IV/2
END:VEVENT
BEGIN:VEVENT
SUMMARY:Dinamika togih teles (DTTR)\, Predavalniške vaje (VP)\, [S3]
DTSTART;TZID=Europe/Ljubljana:20231012T080000
DTEND;TZID=Europe/Ljubljana:20231012T100000
DTSTAMP:20260422T064245Z
UID:fs-AFLABS-URNIK:srecanje:2159-2023-10-12 08:00:00+02:00
DESCRIPTION:Predmet: Dinamika togih teles (DTTR)\, Predavalniške vaje (VP
 )\, [S3]\nLetniki: RRP-2 (RRP-2)\nIzvajalci: Klemen Zaletelj\nProstor: Pre
 davalnica IV/2
END:VEVENT
BEGIN:VEVENT
SUMMARY:Dinamika togih teles (DTTR)\, Predavalniške vaje (VP)\, [S3]
DTSTART;TZID=Europe/Ljubljana:20231019T080000
DTEND;TZID=Europe/Ljubljana:20231019T100000
DTSTAMP:20260422T064245Z
UID:fs-AFLABS-URNIK:srecanje:2159-2023-10-19 08:00:00+02:00
DESCRIPTION:Predmet: Dinamika togih teles (DTTR)\, Predavalniške vaje (VP
 )\, [S3]\nLetniki: RRP-2 (RRP-2)\nIzvajalci: Klemen Zaletelj\nProstor: Pre
 davalnica IV/2
END:VEVENT
BEGIN:VEVENT
SUMMARY:Dinamika togih teles (DTTR)\, Predavalniške vaje (VP)\, [S3]
DTSTART;TZID=Europe/Ljubljana:20231026T080000
DTEND;TZID=Europe/Ljubljana:20231026T100000
DTSTAMP:20260422T064245Z
UID:fs-AFLABS-URNIK:srecanje:2159-2023-10-26 08:00:00+02:00
DESCRIPTION:Predmet: Dinamika togih teles (DTTR)\, Predavalniške vaje (VP
 )\, [S3]\nLetniki: RRP-2 (RRP-2)\nIzvajalci: Klemen Zaletelj\nProstor: Pre
 davalnica IV/2
END:VEVENT
BEGIN:VEVENT
SUMMARY:Numerične metode (NMMR)\, Laboratorijske vaje (VL)\, [S2]
DTSTART;TZID=Europe/Ljubljana:20231005T080000
DTEND;TZID=Europe/Ljubljana:20231005T100000
DTSTAMP:20260422T064245Z
UID:fs-AFLABS-URNIK:srecanje:6167-2023-10-05 08:00:00+02:00
DESCRIPTION:Predmet: Numerične metode (NMMR)\, Laboratorijske vaje (VL)\,
  [S2]\nLetniki: RRP-2 (RRP-2)\nIzvajalci: Domen Gorjup\, Gašper Krivic\, 
 Klemen Zaletelj\nProstor: Računalniška predavalnica LADISK  I/4B
END:VEVENT
BEGIN:VEVENT
SUMMARY:Numerične metode (NMMR)\, Laboratorijske vaje (VL)\, [S2]
DTSTART;TZID=Europe/Ljubljana:20231012T080000
DTEND;TZID=Europe/Ljubljana:20231012T100000
DTSTAMP:20260422T064245Z
UID:fs-AFLABS-URNIK:srecanje:6167-2023-10-12 08:00:00+02:00
DESCRIPTION:Predmet: Numerične metode (NMMR)\, Laboratorijske vaje (VL)\,
  [S2]\nLetniki: RRP-2 (RRP-2)\nIzvajalci: Domen Gorjup\, Gašper Krivic\, 
 Klemen Zaletelj\nProstor: Računalniška predavalnica LADISK  I/4B
END:VEVENT
BEGIN:VEVENT
SUMMARY:Dinamika togih teles (DTTR)\, Predavalniške vaje (VP)\, [S4]
DTSTART;TZID=Europe/Ljubljana:20231006T120000
DTEND;TZID=Europe/Ljubljana:20231006T140000
DTSTAMP:20260422T064245Z
UID:fs-AFLABS-URNIK:srecanje:4610-2023-10-06 12:00:00+02:00
DESCRIPTION:Predmet: Dinamika togih teles (DTTR)\, Predavalniške vaje (VP
 )\, [S4]\nLetniki: RRP-2 (RRP-2)\nIzvajalci: Klemen Zaletelj\nProstor: Pre
 davalnica I/4A
END:VEVENT
BEGIN:VEVENT
SUMMARY:Dinamika togih teles (DTTR)\, Predavalniške vaje (VP)\, [S4]
DTSTART;TZID=Europe/Ljubljana:20231013T120000
DTEND;TZID=Europe/Ljubljana:20231013T140000
DTSTAMP:20260422T064245Z
UID:fs-AFLABS-URNIK:srecanje:4610-2023-10-13 12:00:00+02:00
DESCRIPTION:Predmet: Dinamika togih teles (DTTR)\, Predavalniške vaje (VP
 )\, [S4]\nLetniki: RRP-2 (RRP-2)\nIzvajalci: Klemen Zaletelj\nProstor: Pre
 davalnica I/4A
END:VEVENT
BEGIN:VEVENT
SUMMARY:Dinamika togih teles (DTTR)\, Predavalniške vaje (VP)\, [S4]
DTSTART;TZID=Europe/Ljubljana:20231020T120000
DTEND;TZID=Europe/Ljubljana:20231020T140000
DTSTAMP:20260422T064245Z
UID:fs-AFLABS-URNIK:srecanje:4610-2023-10-20 12:00:00+02:00
DESCRIPTION:Predmet: Dinamika togih teles (DTTR)\, Predavalniške vaje (VP
 )\, [S4]\nLetniki: RRP-2 (RRP-2)\nIzvajalci: Klemen Zaletelj\nProstor: Pre
 davalnica I/4A
END:VEVENT
BEGIN:VEVENT
SUMMARY:Dinamika togih teles (DTTR)\, Predavalniške vaje (VP)\, [S4]
DTSTART;TZID=Europe/Ljubljana:20231027T120000
DTEND;TZID=Europe/Ljubljana:20231027T140000
DTSTAMP:20260422T064245Z
UID:fs-AFLABS-URNIK:srecanje:4610-2023-10-27 12:00:00+02:00
DESCRIPTION:Predmet: Dinamika togih teles (DTTR)\, Predavalniške vaje (VP
 )\, [S4]\nLetniki: RRP-2 (RRP-2)\nIzvajalci: Klemen Zaletelj\nProstor: Pre
 davalnica I/4A
END:VEVENT
BEGIN:VEVENT
SUMMARY:Višja dinamika (VSDM)\, Laboratorijske vaje (VL)\, [S3]
DTSTART;TZID=Europe/Ljubljana:20231016T100000
DTEND;TZID=Europe/Ljubljana:20231016T120000
DTSTAMP:20260422T064245Z
UID:fs-AFLABS-URNIK:srecanje:4750-2023-10-16 10:00:00+02:00
DESCRIPTION:Predmet: Višja dinamika (VSDM)\, Laboratorijske vaje (VL)\, [
 S3]\nLetniki: Mehanika (MAG-1)\nIzvajalci: Tibor Barši Palmić\, Gregor 
 Čepon\, Martin Česnik\, Domen Gorjup\, Miha Kodrič\, Tilen Košir\, Ga
 šper Krivic\, Miha Pogačar\, Klemen Zaletelj\, Aleš Zorman\nProstor: La
 boratorij LADISK P-17C
END:VEVENT
BEGIN:VEVENT
SUMMARY:Višja dinamika (VSDM)\, Laboratorijske vaje (VL)\, [S4]
DTSTART;TZID=Europe/Ljubljana:20231016T120000
DTEND;TZID=Europe/Ljubljana:20231016T140000
DTSTAMP:20260422T064245Z
UID:fs-AFLABS-URNIK:srecanje:4751-2023-10-16 12:00:00+02:00
DESCRIPTION:Predmet: Višja dinamika (VSDM)\, Laboratorijske vaje (VL)\, [
 S4]\nLetniki: Mehanika (MAG-1)\nIzvajalci: Tibor Barši Palmić\, Gregor 
 Čepon\, Martin Česnik\, Domen Gorjup\, Miha Kodrič\, Tilen Košir\, Ga
 šper Krivic\, Miha Pogačar\, Klemen Zaletelj\, Aleš Zorman\nProstor: La
 boratorij LADISK P-17C
END:VEVENT
BEGIN:VEVENT
SUMMARY:Višja dinamika (VSDM)\, Laboratorijske vaje (VL)\, [S5]
DTSTART;TZID=Europe/Ljubljana:20231016T160000
DTEND;TZID=Europe/Ljubljana:20231016T180000
DTSTAMP:20260422T064245Z
UID:fs-AFLABS-URNIK:srecanje:4752-2023-10-16 16:00:00+02:00
DESCRIPTION:Predmet: Višja dinamika (VSDM)\, Laboratorijske vaje (VL)\, [
 S5]\nLetniki: Mehanika (MAG-1)\nIzvajalci: Tibor Barši Palmić\, Gregor 
 Čepon\, Martin Česnik\, Domen Gorjup\, Miha Kodrič\, Tilen Košir\, Ga
 šper Krivic\, Miha Pogačar\, Klemen Zaletelj\, Aleš Zorman\nProstor: La
 boratorij LADISK P-17C
END:VEVENT
BEGIN:VEVENT
SUMMARY:Višja dinamika (VSDM)\, Laboratorijske vaje (VL)\, [S6]
DTSTART;TZID=Europe/Ljubljana:20231018T160000
DTEND;TZID=Europe/Ljubljana:20231018T180000
DTSTAMP:20260422T064245Z
UID:fs-AFLABS-URNIK:srecanje:4753-2023-10-18 16:00:00+02:00
DESCRIPTION:Predmet: Višja dinamika (VSDM)\, Laboratorijske vaje (VL)\, [
 S6]\nLetniki: Mehanika (MAG-1)\nIzvajalci: Tibor Barši Palmić\, Gregor 
 Čepon\, Martin Česnik\, Domen Gorjup\, Miha Kodrič\, Tilen Košir\, Ga
 šper Krivic\, Miha Pogačar\, Klemen Zaletelj\, Aleš Zorman\nProstor: La
 boratorij LADISK P-17C
END:VEVENT
BEGIN:VEVENT
SUMMARY:Višja dinamika (VSDM)\, Laboratorijske vaje (VL)\, [S7]
DTSTART;TZID=Europe/Ljubljana:20231018T180000
DTEND;TZID=Europe/Ljubljana:20231018T200000
DTSTAMP:20260422T064245Z
UID:fs-AFLABS-URNIK:srecanje:4754-2023-10-18 18:00:00+02:00
DESCRIPTION:Predmet: Višja dinamika (VSDM)\, Laboratorijske vaje (VL)\, [
 S7]\nLetniki: Mehanika (MAG-1)\nIzvajalci: Tibor Barši Palmić\, Gregor 
 Čepon\, Martin Česnik\, Domen Gorjup\, Miha Kodrič\, Tilen Košir\, Ga
 šper Krivic\, Miha Pogačar\, Klemen Zaletelj\, Aleš Zorman\nProstor: La
 boratorij LADISK P-17C
END:VEVENT
BEGIN:VEVENT
SUMMARY:Višja dinamika (VSDM)\, Laboratorijske vaje (VL)\, [S1]
DTSTART;TZID=Europe/Ljubljana:20231019T160000
DTEND;TZID=Europe/Ljubljana:20231019T180000
DTSTAMP:20260422T064245Z
UID:fs-AFLABS-URNIK:srecanje:4755-2023-10-19 16:00:00+02:00
DESCRIPTION:Predmet: Višja dinamika (VSDM)\, Laboratorijske vaje (VL)\, [
 S1]\nLetniki: Mehanika (MAG-1)\nIzvajalci: Tibor Barši Palmić\, Gregor 
 Čepon\, Martin Česnik\, Domen Gorjup\, Miha Kodrič\, Tilen Košir\, Ga
 šper Krivic\, Miha Pogačar\, Klemen Zaletelj\, Aleš Zorman\nProstor: La
 boratorij LADISK P-17C
END:VEVENT
BEGIN:VEVENT
SUMMARY:Numerične metode (NMMR)\, Laboratorijske vaje (VL)\, [S2]
DTSTART;TZID=Europe/Ljubljana:20231019T080000
DTEND;TZID=Europe/Ljubljana:20231019T100000
DTSTAMP:20260422T064245Z
UID:fs-AFLABS-URNIK:srecanje:6161-2023-10-19 08:00:00+02:00
DESCRIPTION:Predmet: Numerične metode (NMMR)\, Laboratorijske vaje (VL)\,
  [S2]\nLetniki: RRP-2 (RRP-2)\nIzvajalci: Domen Gorjup\, Gašper Krivic\, 
 Klemen Zaletelj\nProstor: Laboratorij LADISK P-17B
END:VEVENT
BEGIN:VEVENT
SUMMARY:Numerične metode (NMMR)\, Laboratorijske vaje (VL)\, [S2]
DTSTART;TZID=Europe/Ljubljana:20231026T080000
DTEND;TZID=Europe/Ljubljana:20231026T100000
DTSTAMP:20260422T064245Z
UID:fs-AFLABS-URNIK:srecanje:6161-2023-10-26 08:00:00+02:00
DESCRIPTION:Predmet: Numerične metode (NMMR)\, Laboratorijske vaje (VL)\,
  [S2]\nLetniki: RRP-2 (RRP-2)\nIzvajalci: Domen Gorjup\, Gašper Krivic\, 
 Klemen Zaletelj\nProstor: Laboratorij LADISK P-17B
END:VEVENT
BEGIN:VEVENT
SUMMARY:Višja dinamika (VSDM)\, Laboratorijske vaje (VL)\, [S8]
DTSTART;TZID=Europe/Ljubljana:20231020T100000
DTEND;TZID=Europe/Ljubljana:20231020T120000
DTSTAMP:20260422T064245Z
UID:fs-AFLABS-URNIK:srecanje:4757-2023-10-20 10:00:00+02:00
DESCRIPTION:Predmet: Višja dinamika (VSDM)\, Laboratorijske vaje (VL)\, [
 S8]\nLetniki: Mehanika (MAG-1)\nIzvajalci: Tibor Barši Palmić\, Gregor 
 Čepon\, Domen Gorjup\, Miha Kodrič\, Tilen Košir\, Gašper Krivic\, Mih
 a Pogačar\, Klemen Zaletelj\, Aleš Zorman\nProstor: Laboratorij LADISK P
 -17C
END:VEVENT
BEGIN:VEVENT
SUMMARY:Višja dinamika (VSDM)\, Laboratorijske vaje (VL)\, [S2]
DTSTART;TZID=Europe/Ljubljana:20231020T080000
DTEND;TZID=Europe/Ljubljana:20231020T100000
DTSTAMP:20260422T064245Z
UID:fs-AFLABS-URNIK:srecanje:4762-2023-10-20 08:00:00+02:00
DESCRIPTION:Predmet: Višja dinamika (VSDM)\, Laboratorijske vaje (VL)\, [
 S2]\nLetniki: Mehanika (MAG-1)\nIzvajalci: Tibor Barši Palmić\, Martin 
 Česnik\, Domen Gorjup\, Miha Kodrič\, Tilen Košir\, Gašper Krivic\, Mi
 ha Pogačar\, Klemen Zaletelj\, Aleš Zorman\nProstor: Laboratorij LADISK 
 P-17C
END:VEVENT
BEGIN:VEVENT
SUMMARY:Sestanek Ladisk
DTSTART;TZID=Europe/Ljubljana:20230906T100000
DTEND;TZID=Europe/Ljubljana:20230906T113000
DTSTAMP:20260422T064245Z
UID:fs-AFLABS-URNIK:rezervacija:1093
CATEGORIES:Reservation
COLOR:royalblue
DESCRIPTION:Predmeti: \nLetniki: \nIzvajalci: Klemen Zaletelj\nProstori: M
 ala sejna soba
LOCATION:Mala sejna soba
ORGANIZER:Klemen Zaletelj
X-WR-TIMEZONE:Europe/Ljubljana
END:VEVENT
BEGIN:VEVENT
SUMMARY:Sestanek Ladisk
DTSTART;TZID=Europe/Ljubljana:20230927T100000
DTEND;TZID=Europe/Ljubljana:20230927T120000
DTSTAMP:20260422T064245Z
UID:fs-AFLABS-URNIK:rezervacija:1248
CATEGORIES:Reservation
COLOR:royalblue
DESCRIPTION:Predmeti: \nLetniki: \nIzvajalci: Klemen Zaletelj\nProstori: M
 ala sejna soba
LOCATION:Mala sejna soba
ORGANIZER:Klemen Zaletelj
X-WR-TIMEZONE:Europe/Ljubljana
END:VEVENT
BEGIN:VEVENT
SUMMARY:Kolokvij DTT
DTSTART;TZID=Europe/Ljubljana:20231026T180000
DTEND;TZID=Europe/Ljubljana:20231026T200000
DTSTAMP:20260422T064245Z
UID:fs-AFLABS-URNIK:rezervacija:1412
ATTENDEE:RRP-2 (RRP-2)
CATEGORIES:Reservation
COLOR:royalblue
DESCRIPTION:Predmeti: Dinamika togih teles (DTTR)\nLetniki: RRP-2 (RRP-2)\
 nIzvajalci: Klemen Zaletelj\nProstori: Predavalnica III/4\, Predavalnica I
 V/4\, Predavalnica V/8
LOCATION:Predavalnica III/4\, Predavalnica IV/4\, Predavalnica V/8
ORGANIZER:Klemen Zaletelj
X-WR-TIMEZONE:Europe/Ljubljana
END:VEVENT
BEGIN:VEVENT
SUMMARY:Sestanek Ladisk
DTSTART;TZID=Europe/Ljubljana:20230914T110000
DTEND;TZID=Europe/Ljubljana:20230914T123000
DTSTAMP:20260422T064245Z
UID:fs-AFLABS-URNIK:rezervacija:1480
CATEGORIES:Reservation
COLOR:royalblue
DESCRIPTION:Predmeti: \nLetniki: \nIzvajalci: Klemen Zaletelj\nProstori: M
 ala sejna soba
LOCATION:Mala sejna soba
ORGANIZER:Klemen Zaletelj
X-WR-TIMEZONE:Europe/Ljubljana
END:VEVENT
BEGIN:VEVENT
SUMMARY:Kolokvij DTT
DTSTART;TZID=Europe/Ljubljana:20231026T183000
DTEND;TZID=Europe/Ljubljana:20231026T200000
DTSTAMP:20260422T064245Z
UID:fs-AFLABS-URNIK:rezervacija:1491
ATTENDEE:RRP-2 (RRP-2)
CATEGORIES:Reservation
COLOR:royalblue
DESCRIPTION:Predmeti: Dinamika togih teles (DTTR)\nLetniki: RRP-2 (RRP-2)\
 nIzvajalci: Klemen Zaletelj\nProstori: Predavalnica V/2
LOCATION:Predavalnica V/2
ORGANIZER:Klemen Zaletelj
X-WR-TIMEZONE:Europe/Ljubljana
END:VEVENT
BEGIN:VEVENT
SUMMARY:Ladisk sestanek
DTSTART;TZID=Europe/Ljubljana:20231017T080000
DTEND;TZID=Europe/Ljubljana:20231017T090000
DTSTAMP:20260422T064245Z
UID:fs-AFLABS-URNIK:rezervacija:1641
CATEGORIES:Reservation
COLOR:royalblue
DESCRIPTION:Predmeti: \nLetniki: \nIzvajalci: Klemen Zaletelj\nProstori: M
 ala sejna soba
LOCATION:Mala sejna soba
ORGANIZER:Klemen Zaletelj
X-WR-TIMEZONE:Europe/Ljubljana
END:VEVENT
BEGIN:VEVENT
SUMMARY:Sestanek Ladisk
DTSTART;TZID=Europe/Ljubljana:20231004T110000
DTEND;TZID=Europe/Ljubljana:20231004T130000
DTSTAMP:20260422T064245Z
UID:fs-AFLABS-URNIK:rezervacija:1791
CATEGORIES:Reservation
COLOR:royalblue
DESCRIPTION:Predmeti: \nLetniki: \nIzvajalci: Klemen Zaletelj\nProstori: M
 ala sejna soba
LOCATION:Mala sejna soba
ORGANIZER:Klemen Zaletelj
X-WR-TIMEZONE:Europe/Ljubljana
END:VEVENT
BEGIN:VEVENT
SUMMARY:Sestanek Ladisk
DTSTART;TZID=Europe/Ljubljana:20231018T113000
DTEND;TZID=Europe/Ljubljana:20231018T140000
DTSTAMP:20260422T064245Z
UID:fs-AFLABS-URNIK:rezervacija:3141
CATEGORIES:Reservation
COLOR:royalblue
DESCRIPTION:Predmeti: \nLetniki: \nIzvajalci: Klemen Zaletelj\nProstori: M
 ala sejna soba
LOCATION:Mala sejna soba
ORGANIZER:Klemen Zaletelj
X-WR-TIMEZONE:Europe/Ljubljana
END:VEVENT
BEGIN:VEVENT
SUMMARY:Sestanek Ladisk
DTSTART;TZID=Europe/Ljubljana:20231025T113000
DTEND;TZID=Europe/Ljubljana:20231025T130000
DTSTAMP:20260422T064245Z
UID:fs-AFLABS-URNIK:rezervacija:3224
CATEGORIES:Reservation
COLOR:royalblue
DESCRIPTION:Predmeti: \nLetniki: \nIzvajalci: Klemen Zaletelj\nProstori: M
 ala sejna soba
LOCATION:Mala sejna soba
ORGANIZER:Klemen Zaletelj
X-WR-TIMEZONE:Europe/Ljubljana
END:VEVENT
END:VCALENDAR
