BEGIN:VCALENDAR
VERSION:2.0
PRODID:-//AFLabs urnik izvoz - fs//aflabs.si//SI
NAME:UL FS Urnik
X-WR-CALNAME:UL FS Urnik
DTSTAMP:20260423T003606Z
REFRESH-INTERVAL:PT1H
SOURCE:https://urnik.fs.uni-lj.si/teacher/912/?day=2023-09-25&export=1
URL:https://urnik.fs.uni-lj.si/teacher/912/?day=2023-09-25&export=1
X-PUBLISHED-TTL:PT1H
X-WR-TIMEZONE:Europe/Ljubljana
BEGIN:VTIMEZONE
TZID:Europe/Ljubljana
BEGIN:DAYLIGHT
DTSTART:20260329T020000
RDATE:20260329T020000
RDATE:20270328T020000
TZNAME:CEST
TZOFFSETFROM:+0100
TZOFFSETTO:+0200
END:DAYLIGHT
BEGIN:STANDARD
DTSTART:20261025T030000
RDATE:20261025T030000
RDATE:20271031T030000
TZNAME:CET
TZOFFSETFROM:+0200
TZOFFSETTO:+0100
END:STANDARD
END:VTIMEZONE
BEGIN:VEVENT
SUMMARY:Elektromobilnost (ELMM)\, Laboratorijske vaje (VL)\, [S3]
DTSTART;TZID=Europe/Ljubljana:20231010T100000
DTEND;TZID=Europe/Ljubljana:20231010T120000
DTSTAMP:20260423T003606Z
UID:fs-AFLABS-URNIK:srecanje:4939-2023-10-10 10:00:00+02:00
DESCRIPTION:Predmet: Elektromobilnost (ELMM)\, Laboratorijske vaje (VL)\, 
 [S3]\nLetniki: Energetsko strojništvo (MAG-2)\nIzvajalci: Andraž Kravos\
 , Klemen Zelič\, Urban Žvar Baškovič\nProstor: Laboratirij LICEM SK-15
END:VEVENT
BEGIN:VEVENT
SUMMARY:Elektromobilnost (ELMM)\, Laboratorijske vaje (VL)\, [S3]
DTSTART;TZID=Europe/Ljubljana:20231017T100000
DTEND;TZID=Europe/Ljubljana:20231017T120000
DTSTAMP:20260423T003606Z
UID:fs-AFLABS-URNIK:srecanje:4939-2023-10-17 10:00:00+02:00
DESCRIPTION:Predmet: Elektromobilnost (ELMM)\, Laboratorijske vaje (VL)\, 
 [S3]\nLetniki: Energetsko strojništvo (MAG-2)\nIzvajalci: Andraž Kravos\
 , Klemen Zelič\, Urban Žvar Baškovič\nProstor: Laboratirij LICEM SK-15
END:VEVENT
BEGIN:VEVENT
SUMMARY:Elektromobilnost (ELMM)\, Laboratorijske vaje (VL)\, [S3]
DTSTART;TZID=Europe/Ljubljana:20231024T100000
DTEND;TZID=Europe/Ljubljana:20231024T120000
DTSTAMP:20260423T003606Z
UID:fs-AFLABS-URNIK:srecanje:4939-2023-10-24 10:00:00+02:00
DESCRIPTION:Predmet: Elektromobilnost (ELMM)\, Laboratorijske vaje (VL)\, 
 [S3]\nLetniki: Energetsko strojništvo (MAG-2)\nIzvajalci: Andraž Kravos\
 , Klemen Zelič\, Urban Žvar Baškovič\nProstor: Laboratirij LICEM SK-15
END:VEVENT
BEGIN:VEVENT
SUMMARY:Elektromobilnost (ELMM)\, Laboratorijske vaje (VL)\, [S4]
DTSTART;TZID=Europe/Ljubljana:20231010T140000
DTEND;TZID=Europe/Ljubljana:20231010T160000
DTSTAMP:20260423T003606Z
UID:fs-AFLABS-URNIK:srecanje:4940-2023-10-10 14:00:00+02:00
DESCRIPTION:Predmet: Elektromobilnost (ELMM)\, Laboratorijske vaje (VL)\, 
 [S4]\nLetniki: Energetsko strojništvo (MAG-2)\nIzvajalci: Andraž Kravos\
 , Klemen Zelič\, Urban Žvar Baškovič\nProstor: Laboratirij LICEM SK-15
END:VEVENT
BEGIN:VEVENT
SUMMARY:Elektromobilnost (ELMM)\, Laboratorijske vaje (VL)\, [S4]
DTSTART;TZID=Europe/Ljubljana:20231017T140000
DTEND;TZID=Europe/Ljubljana:20231017T160000
DTSTAMP:20260423T003606Z
UID:fs-AFLABS-URNIK:srecanje:4940-2023-10-17 14:00:00+02:00
DESCRIPTION:Predmet: Elektromobilnost (ELMM)\, Laboratorijske vaje (VL)\, 
 [S4]\nLetniki: Energetsko strojništvo (MAG-2)\nIzvajalci: Andraž Kravos\
 , Klemen Zelič\, Urban Žvar Baškovič\nProstor: Laboratirij LICEM SK-15
END:VEVENT
BEGIN:VEVENT
SUMMARY:Elektromobilnost (ELMM)\, Laboratorijske vaje (VL)\, [S4]
DTSTART;TZID=Europe/Ljubljana:20231024T140000
DTEND;TZID=Europe/Ljubljana:20231024T160000
DTSTAMP:20260423T003606Z
UID:fs-AFLABS-URNIK:srecanje:4940-2023-10-24 14:00:00+02:00
DESCRIPTION:Predmet: Elektromobilnost (ELMM)\, Laboratorijske vaje (VL)\, 
 [S4]\nLetniki: Energetsko strojništvo (MAG-2)\nIzvajalci: Andraž Kravos\
 , Klemen Zelič\, Urban Žvar Baškovič\nProstor: Laboratirij LICEM SK-15
END:VEVENT
BEGIN:VEVENT
SUMMARY:Elektromobilnost (ELMM)\, Laboratorijske vaje (VL)\, [S1]
DTSTART;TZID=Europe/Ljubljana:20231012T100000
DTEND;TZID=Europe/Ljubljana:20231012T120000
DTSTAMP:20260423T003606Z
UID:fs-AFLABS-URNIK:srecanje:4941-2023-10-12 10:00:00+02:00
DESCRIPTION:Predmet: Elektromobilnost (ELMM)\, Laboratorijske vaje (VL)\, 
 [S1]\nLetniki: Energetsko strojništvo (MAG-2)\nIzvajalci: Andraž Kravos\
 , Klemen Zelič\, Urban Žvar Baškovič\nProstor: Laboratirij LICEM SK-15
END:VEVENT
BEGIN:VEVENT
SUMMARY:Elektromobilnost (ELMM)\, Laboratorijske vaje (VL)\, [S1]
DTSTART;TZID=Europe/Ljubljana:20231019T100000
DTEND;TZID=Europe/Ljubljana:20231019T120000
DTSTAMP:20260423T003606Z
UID:fs-AFLABS-URNIK:srecanje:4941-2023-10-19 10:00:00+02:00
DESCRIPTION:Predmet: Elektromobilnost (ELMM)\, Laboratorijske vaje (VL)\, 
 [S1]\nLetniki: Energetsko strojništvo (MAG-2)\nIzvajalci: Andraž Kravos\
 , Klemen Zelič\, Urban Žvar Baškovič\nProstor: Laboratirij LICEM SK-15
END:VEVENT
BEGIN:VEVENT
SUMMARY:Elektromobilnost (ELMM)\, Laboratorijske vaje (VL)\, [S1]
DTSTART;TZID=Europe/Ljubljana:20231026T100000
DTEND;TZID=Europe/Ljubljana:20231026T120000
DTSTAMP:20260423T003606Z
UID:fs-AFLABS-URNIK:srecanje:4941-2023-10-26 10:00:00+02:00
DESCRIPTION:Predmet: Elektromobilnost (ELMM)\, Laboratorijske vaje (VL)\, 
 [S1]\nLetniki: Energetsko strojništvo (MAG-2)\nIzvajalci: Andraž Kravos\
 , Klemen Zelič\, Urban Žvar Baškovič\nProstor: Laboratirij LICEM SK-15
END:VEVENT
BEGIN:VEVENT
SUMMARY:Elektromobilnost (ELMM)\, Laboratorijske vaje (VL)\, [S2]
DTSTART;TZID=Europe/Ljubljana:20231012T160000
DTEND;TZID=Europe/Ljubljana:20231012T180000
DTSTAMP:20260423T003606Z
UID:fs-AFLABS-URNIK:srecanje:4944-2023-10-12 16:00:00+02:00
DESCRIPTION:Predmet: Elektromobilnost (ELMM)\, Laboratorijske vaje (VL)\, 
 [S2]\nLetniki: Energetsko strojništvo (MAG-2)\nIzvajalci: Andraž Kravos\
 , Klemen Zelič\nProstor: Laboratirij LICEM SK-20
END:VEVENT
BEGIN:VEVENT
SUMMARY:Elektromobilnost (ELMM)\, Laboratorijske vaje (VL)\, [S2]
DTSTART;TZID=Europe/Ljubljana:20231019T160000
DTEND;TZID=Europe/Ljubljana:20231019T180000
DTSTAMP:20260423T003606Z
UID:fs-AFLABS-URNIK:srecanje:4944-2023-10-19 16:00:00+02:00
DESCRIPTION:Predmet: Elektromobilnost (ELMM)\, Laboratorijske vaje (VL)\, 
 [S2]\nLetniki: Energetsko strojništvo (MAG-2)\nIzvajalci: Andraž Kravos\
 , Klemen Zelič\nProstor: Laboratirij LICEM SK-20
END:VEVENT
BEGIN:VEVENT
SUMMARY:Elektromobilnost (ELMM)\, Laboratorijske vaje (VL)\, [S2]
DTSTART;TZID=Europe/Ljubljana:20231026T160000
DTEND;TZID=Europe/Ljubljana:20231026T180000
DTSTAMP:20260423T003606Z
UID:fs-AFLABS-URNIK:srecanje:4944-2023-10-26 16:00:00+02:00
DESCRIPTION:Predmet: Elektromobilnost (ELMM)\, Laboratorijske vaje (VL)\, 
 [S2]\nLetniki: Energetsko strojništvo (MAG-2)\nIzvajalci: Andraž Kravos\
 , Klemen Zelič\nProstor: Laboratirij LICEM SK-20
END:VEVENT
END:VCALENDAR
