BEGIN:VCALENDAR
VERSION:2.0
PRODID:-//AFLabs urnik izvoz - fs//aflabs.si//SI
NAME:UL FS Urnik
X-WR-CALNAME:UL FS Urnik
DTSTAMP:20260422T112855Z
REFRESH-INTERVAL:PT1H
SOURCE:https://urnik.fs.uni-lj.si/teacher/917/?day=2025-02-03&export=1
URL:https://urnik.fs.uni-lj.si/teacher/917/?day=2025-02-03&export=1
X-PUBLISHED-TTL:PT1H
X-WR-TIMEZONE:Europe/Ljubljana
BEGIN:VTIMEZONE
TZID:Europe/Ljubljana
BEGIN:DAYLIGHT
DTSTART:20260329T020000
RDATE:20260329T020000
RDATE:20270328T020000
TZNAME:CEST
TZOFFSETFROM:+0100
TZOFFSETTO:+0200
END:DAYLIGHT
BEGIN:STANDARD
DTSTART:20261025T030000
RDATE:20261025T030000
RDATE:20271031T030000
TZNAME:CET
TZOFFSETFROM:+0200
TZOFFSETTO:+0100
END:STANDARD
END:VTIMEZONE
BEGIN:VEVENT
SUMMARY:Dokumentacija in dokumentarni sistemi (DDSP)\, Predavalniške vaje
  (VP)
DTSTART;TZID=Europe/Ljubljana:20250219T133000
DTEND;TZID=Europe/Ljubljana:20250219T153000
DTSTAMP:20260422T112855Z
UID:fs-AFLABS-URNIK:srecanje:9419-2025-02-19 13:30:00+01:00
DESCRIPTION:Predmet: Dokumentacija in dokumentarni sistemi (DDSP)\, Predav
 alniške vaje (VP)\nLetniki: Konstruiranje industrijskih sistemov (PAP-2)\
 nIzvajalci: Samo Zupan\nProstor: Predavalnica III/3A
END:VEVENT
BEGIN:VEVENT
SUMMARY:Dokumentacija in dokumentarni sistemi (DDSP)\, Predavalniške vaje
  (VP)
DTSTART;TZID=Europe/Ljubljana:20250305T133000
DTEND;TZID=Europe/Ljubljana:20250305T153000
DTSTAMP:20260422T112855Z
UID:fs-AFLABS-URNIK:srecanje:9419-2025-03-05 13:30:00+01:00
DESCRIPTION:Predmet: Dokumentacija in dokumentarni sistemi (DDSP)\, Predav
 alniške vaje (VP)\nLetniki: Konstruiranje industrijskih sistemov (PAP-2)\
 nIzvajalci: Samo Zupan\nProstor: Predavalnica III/3A
END:VEVENT
BEGIN:VEVENT
SUMMARY:Geometric Product Specifications (GPSE)\, Predavalniške vaje (VP)
DTSTART;TZID=Europe/Ljubljana:20250219T160000
DTEND;TZID=Europe/Ljubljana:20250219T180000
DTSTAMP:20260422T112855Z
UID:fs-AFLABS-URNIK:srecanje:9488-2025-02-19 16:00:00+01:00
DESCRIPTION:Predmet: Geometric Product Specifications (GPSE)\, Predavalni
 ške vaje (VP)\nLetniki: Erasmus (Erasmus)\nIzvajalci: Samo Zupan\nProstor
 : Predavalnica II/3A
END:VEVENT
BEGIN:VEVENT
SUMMARY:Geometric Product Specifications (GPSE)\, Predavalniške vaje (VP)
DTSTART;TZID=Europe/Ljubljana:20250226T160000
DTEND;TZID=Europe/Ljubljana:20250226T180000
DTSTAMP:20260422T112855Z
UID:fs-AFLABS-URNIK:srecanje:9488-2025-02-26 16:00:00+01:00
DESCRIPTION:Predmet: Geometric Product Specifications (GPSE)\, Predavalni
 ške vaje (VP)\nLetniki: Erasmus (Erasmus)\nIzvajalci: Samo Zupan\nProstor
 : Predavalnica II/3A
END:VEVENT
BEGIN:VEVENT
SUMMARY:Geometric Product Specifications (GPSE)\, Predavalniške vaje (VP)
DTSTART;TZID=Europe/Ljubljana:20250305T160000
DTEND;TZID=Europe/Ljubljana:20250305T180000
DTSTAMP:20260422T112855Z
UID:fs-AFLABS-URNIK:srecanje:9488-2025-03-05 16:00:00+01:00
DESCRIPTION:Predmet: Geometric Product Specifications (GPSE)\, Predavalni
 ške vaje (VP)\nLetniki: Erasmus (Erasmus)\nIzvajalci: Samo Zupan\nProstor
 : Predavalnica II/3A
END:VEVENT
BEGIN:VEVENT
SUMMARY:Geometrijske specifikacije proizvodov (GSPM)\, Predavanja (P)
DTSTART;TZID=Europe/Ljubljana:20250219T100000
DTEND;TZID=Europe/Ljubljana:20250219T120000
DTSTAMP:20260422T112855Z
UID:fs-AFLABS-URNIK:srecanje:9489-2025-02-19 10:00:00+01:00
DESCRIPTION:Predmet: Geometrijske specifikacije proizvodov (GSPM)\, Predav
 anja (P)\nLetniki: Konstruiranje (MAG-1)\nIzvajalci: Robert Kunc\, Samo Zu
 pan\nProstor: Predavalnica III/4
END:VEVENT
BEGIN:VEVENT
SUMMARY:Geometrijske specifikacije proizvodov (GSPM)\, Predavanja (P)
DTSTART;TZID=Europe/Ljubljana:20250226T100000
DTEND;TZID=Europe/Ljubljana:20250226T120000
DTSTAMP:20260422T112855Z
UID:fs-AFLABS-URNIK:srecanje:9489-2025-02-26 10:00:00+01:00
DESCRIPTION:Predmet: Geometrijske specifikacije proizvodov (GSPM)\, Predav
 anja (P)\nLetniki: Konstruiranje (MAG-1)\nIzvajalci: Robert Kunc\, Samo Zu
 pan\nProstor: Predavalnica III/4
END:VEVENT
BEGIN:VEVENT
SUMMARY:Geometrijske specifikacije proizvodov (GSPM)\, Predavanja (P)
DTSTART;TZID=Europe/Ljubljana:20250305T100000
DTEND;TZID=Europe/Ljubljana:20250305T120000
DTSTAMP:20260422T112855Z
UID:fs-AFLABS-URNIK:srecanje:9489-2025-03-05 10:00:00+01:00
DESCRIPTION:Predmet: Geometrijske specifikacije proizvodov (GSPM)\, Predav
 anja (P)\nLetniki: Konstruiranje (MAG-1)\nIzvajalci: Robert Kunc\, Samo Zu
 pan\nProstor: Predavalnica III/4
END:VEVENT
BEGIN:VEVENT
SUMMARY:Geometric Product Specifications (GPSE)\, Predavanja (P)
DTSTART;TZID=Europe/Ljubljana:20250219T080000
DTEND;TZID=Europe/Ljubljana:20250219T100000
DTSTAMP:20260422T112855Z
UID:fs-AFLABS-URNIK:srecanje:9486-2025-02-19 08:00:00+01:00
DESCRIPTION:Predmet: Geometric Product Specifications (GPSE)\, Predavanja 
 (P)\nLetniki: Erasmus (Erasmus)\nIzvajalci: Robert Kunc\, Samo Zupan\nPros
 tor: Predavalnica I/4A
END:VEVENT
BEGIN:VEVENT
SUMMARY:Geometric Product Specifications (GPSE)\, Predavanja (P)
DTSTART;TZID=Europe/Ljubljana:20250226T080000
DTEND;TZID=Europe/Ljubljana:20250226T100000
DTSTAMP:20260422T112855Z
UID:fs-AFLABS-URNIK:srecanje:9486-2025-02-26 08:00:00+01:00
DESCRIPTION:Predmet: Geometric Product Specifications (GPSE)\, Predavanja 
 (P)\nLetniki: Erasmus (Erasmus)\nIzvajalci: Robert Kunc\, Samo Zupan\nPros
 tor: Predavalnica I/4A
END:VEVENT
BEGIN:VEVENT
SUMMARY:Geometric Product Specifications (GPSE)\, Predavanja (P)
DTSTART;TZID=Europe/Ljubljana:20250305T080000
DTEND;TZID=Europe/Ljubljana:20250305T100000
DTSTAMP:20260422T112855Z
UID:fs-AFLABS-URNIK:srecanje:9486-2025-03-05 08:00:00+01:00
DESCRIPTION:Predmet: Geometric Product Specifications (GPSE)\, Predavanja 
 (P)\nLetniki: Erasmus (Erasmus)\nIzvajalci: Robert Kunc\, Samo Zupan\nPros
 tor: Predavalnica I/4A
END:VEVENT
BEGIN:VEVENT
SUMMARY:Dokumentacija in dokumentarni sistemi (DDSP)\, Predavanja (P)
DTSTART;TZID=Europe/Ljubljana:20250220T153000
DTEND;TZID=Europe/Ljubljana:20250220T173000
DTSTAMP:20260422T112855Z
UID:fs-AFLABS-URNIK:srecanje:9416-2025-02-20 15:30:00+01:00
DESCRIPTION:Predmet: Dokumentacija in dokumentarni sistemi (DDSP)\, Predav
 anja (P)\nLetniki: Konstruiranje industrijskih sistemov (PAP-2)\nIzvajalci
 : Robert Kunc\, Samo Zupan\nProstor: Predavalnica III/3A
END:VEVENT
BEGIN:VEVENT
SUMMARY:Dokumentacija in dokumentarni sistemi (DDSP)\, Predavanja (P)
DTSTART;TZID=Europe/Ljubljana:20250227T153000
DTEND;TZID=Europe/Ljubljana:20250227T173000
DTSTAMP:20260422T112855Z
UID:fs-AFLABS-URNIK:srecanje:9416-2025-02-27 15:30:00+01:00
DESCRIPTION:Predmet: Dokumentacija in dokumentarni sistemi (DDSP)\, Predav
 anja (P)\nLetniki: Konstruiranje industrijskih sistemov (PAP-2)\nIzvajalci
 : Robert Kunc\, Samo Zupan\nProstor: Predavalnica III/3A
END:VEVENT
BEGIN:VEVENT
SUMMARY:Dokumentacija in dokumentarni sistemi (DDSP)\, Predavanja (P)
DTSTART;TZID=Europe/Ljubljana:20250306T153000
DTEND;TZID=Europe/Ljubljana:20250306T173000
DTSTAMP:20260422T112855Z
UID:fs-AFLABS-URNIK:srecanje:9416-2025-03-06 15:30:00+01:00
DESCRIPTION:Predmet: Dokumentacija in dokumentarni sistemi (DDSP)\, Predav
 anja (P)\nLetniki: Konstruiranje industrijskih sistemov (PAP-2)\nIzvajalci
 : Robert Kunc\, Samo Zupan\nProstor: Predavalnica III/3A
END:VEVENT
BEGIN:VEVENT
SUMMARY:Geometrijske specifikacije proizvodov (GSPM)\, Predavalniške vaje
  (VP)
DTSTART;TZID=Europe/Ljubljana:20250220T100000
DTEND;TZID=Europe/Ljubljana:20250220T120000
DTSTAMP:20260422T112855Z
UID:fs-AFLABS-URNIK:srecanje:9494-2025-02-20 10:00:00+01:00
DESCRIPTION:Predmet: Geometrijske specifikacije proizvodov (GSPM)\, Predav
 alniške vaje (VP)\nLetniki: Konstruiranje (MAG-1)\nIzvajalci: Samo Zupan\
 nProstor: Predavalnica V/2
END:VEVENT
BEGIN:VEVENT
SUMMARY:Geometrijske specifikacije proizvodov (GSPM)\, Predavalniške vaje
  (VP)
DTSTART;TZID=Europe/Ljubljana:20250227T100000
DTEND;TZID=Europe/Ljubljana:20250227T120000
DTSTAMP:20260422T112855Z
UID:fs-AFLABS-URNIK:srecanje:9494-2025-02-27 10:00:00+01:00
DESCRIPTION:Predmet: Geometrijske specifikacije proizvodov (GSPM)\, Predav
 alniške vaje (VP)\nLetniki: Konstruiranje (MAG-1)\nIzvajalci: Samo Zupan\
 nProstor: Predavalnica V/2
END:VEVENT
BEGIN:VEVENT
SUMMARY:Geometrijske specifikacije proizvodov (GSPM)\, Predavalniške vaje
  (VP)
DTSTART;TZID=Europe/Ljubljana:20250306T100000
DTEND;TZID=Europe/Ljubljana:20250306T120000
DTSTAMP:20260422T112855Z
UID:fs-AFLABS-URNIK:srecanje:9494-2025-03-06 10:00:00+01:00
DESCRIPTION:Predmet: Geometrijske specifikacije proizvodov (GSPM)\, Predav
 alniške vaje (VP)\nLetniki: Konstruiranje (MAG-1)\nIzvajalci: Samo Zupan\
 nProstor: Predavalnica V/2
END:VEVENT
BEGIN:VEVENT
SUMMARY:Dokumentacija in dokumentarni sistemi (DDSP)\, Laboratorijske vaje
  (VL)\, [S1]
DTSTART;TZID=Europe/Ljubljana:20250226T133000
DTEND;TZID=Europe/Ljubljana:20250226T153000
DTSTAMP:20260422T112855Z
UID:fs-AFLABS-URNIK:srecanje:9417-2025-02-26 13:30:00+01:00
DESCRIPTION:Predmet: Dokumentacija in dokumentarni sistemi (DDSP)\, Labora
 torijske vaje (VL)\, [S1]\nLetniki: Konstruiranje industrijskih sistemov (
 PAP-2)\nIzvajalci: Samo Zupan\nProstor: Laboratorij LAMEK\, LAPN III/5
END:VEVENT
BEGIN:VEVENT
SUMMARY:Dokumentacija in dokumentarni sistemi (DDSP)\, Laboratorijske vaje
  (VL)\, [S2]
DTSTART;TZID=Europe/Ljubljana:20250226T093000
DTEND;TZID=Europe/Ljubljana:20250226T113000
DTSTAMP:20260422T112855Z
UID:fs-AFLABS-URNIK:srecanje:9418-2025-02-26 09:30:00+01:00
DESCRIPTION:Predmet: Dokumentacija in dokumentarni sistemi (DDSP)\, Labora
 torijske vaje (VL)\, [S2]\nLetniki: Konstruiranje industrijskih sistemov (
 PAP-2)\nIzvajalci: Samo Zupan\nProstor: Laboratorij LAMEK\, LAPN III/5
END:VEVENT
END:VCALENDAR
