BEGIN:VCALENDAR
VERSION:2.0
PRODID:-//AFLabs urnik izvoz - fs//aflabs.si//SI
NAME:UL FS Urnik
X-WR-CALNAME:UL FS Urnik
DTSTAMP:20260422T114954Z
REFRESH-INTERVAL:PT1H
SOURCE:https://urnik.fs.uni-lj.si/teacher/926/?day=2024-09-23&export=1
URL:https://urnik.fs.uni-lj.si/teacher/926/?day=2024-09-23&export=1
X-PUBLISHED-TTL:PT1H
X-WR-TIMEZONE:Europe/Ljubljana
BEGIN:VTIMEZONE
TZID:Europe/Ljubljana
BEGIN:DAYLIGHT
DTSTART:20260329T020000
RDATE:20260329T020000
RDATE:20270328T020000
TZNAME:CEST
TZOFFSETFROM:+0100
TZOFFSETTO:+0200
END:DAYLIGHT
BEGIN:STANDARD
DTSTART:20261025T030000
RDATE:20261025T030000
RDATE:20271031T030000
TZNAME:CET
TZOFFSETFROM:+0200
TZOFFSETTO:+0100
END:STANDARD
END:VTIMEZONE
BEGIN:VEVENT
SUMMARY:Elektromobilnost (ELMM)\, Predavalniške vaje (VP)\, [S1]
DTSTART;TZID=Europe/Ljubljana:20241003T160000
DTEND;TZID=Europe/Ljubljana:20241003T180000
DTSTAMP:20260422T114954Z
UID:fs-AFLABS-URNIK:srecanje:6489-2024-10-03 16:00:00+02:00
DESCRIPTION:Predmet: Elektromobilnost (ELMM)\, Predavalniške vaje (VP)\, 
 [S1]\nLetniki: Energetsko strojništvo (MAG-2)\nIzvajalci: Urban Žvar Ba
 škovič\nProstor: Predavalnica IV/3B
END:VEVENT
BEGIN:VEVENT
SUMMARY:Elektromobilnost (ELMM)\, Laboratorijske vaje (VL)\, [S3]
DTSTART;TZID=Europe/Ljubljana:20241008T100000
DTEND;TZID=Europe/Ljubljana:20241008T120000
DTSTAMP:20260422T114954Z
UID:fs-AFLABS-URNIK:srecanje:6487-2024-10-08 10:00:00+02:00
DESCRIPTION:Predmet: Elektromobilnost (ELMM)\, Laboratorijske vaje (VL)\, 
 [S3]\nLetniki: Energetsko strojništvo (MAG-2)\nIzvajalci: Andraž Kravos\
 , Klemen Zelič\, Urban Žvar Baškovič\nProstor: Laboratirij LICEM SK-15
END:VEVENT
BEGIN:VEVENT
SUMMARY:Elektromobilnost (ELMM)\, Laboratorijske vaje (VL)\, [S3]
DTSTART;TZID=Europe/Ljubljana:20241015T100000
DTEND;TZID=Europe/Ljubljana:20241015T120000
DTSTAMP:20260422T114954Z
UID:fs-AFLABS-URNIK:srecanje:6487-2024-10-15 10:00:00+02:00
DESCRIPTION:Predmet: Elektromobilnost (ELMM)\, Laboratorijske vaje (VL)\, 
 [S3]\nLetniki: Energetsko strojništvo (MAG-2)\nIzvajalci: Andraž Kravos\
 , Klemen Zelič\, Urban Žvar Baškovič\nProstor: Laboratirij LICEM SK-15
END:VEVENT
BEGIN:VEVENT
SUMMARY:Elektromobilnost (ELMM)\, Laboratorijske vaje (VL)\, [S3]
DTSTART;TZID=Europe/Ljubljana:20241022T100000
DTEND;TZID=Europe/Ljubljana:20241022T120000
DTSTAMP:20260422T114954Z
UID:fs-AFLABS-URNIK:srecanje:6487-2024-10-22 10:00:00+02:00
DESCRIPTION:Predmet: Elektromobilnost (ELMM)\, Laboratorijske vaje (VL)\, 
 [S3]\nLetniki: Energetsko strojništvo (MAG-2)\nIzvajalci: Andraž Kravos\
 , Klemen Zelič\, Urban Žvar Baškovič\nProstor: Laboratirij LICEM SK-15
END:VEVENT
BEGIN:VEVENT
SUMMARY:Elektromobilnost (ELMM)\, Laboratorijske vaje (VL)\, [S4]
DTSTART;TZID=Europe/Ljubljana:20241008T140000
DTEND;TZID=Europe/Ljubljana:20241008T160000
DTSTAMP:20260422T114954Z
UID:fs-AFLABS-URNIK:srecanje:6488-2024-10-08 14:00:00+02:00
DESCRIPTION:Predmet: Elektromobilnost (ELMM)\, Laboratorijske vaje (VL)\, 
 [S4]\nLetniki: Energetsko strojništvo (MAG-2)\nIzvajalci: Andraž Kravos\
 , Klemen Zelič\, Urban Žvar Baškovič\nProstor: Laboratirij LICEM SK-15
END:VEVENT
BEGIN:VEVENT
SUMMARY:Elektromobilnost (ELMM)\, Laboratorijske vaje (VL)\, [S4]
DTSTART;TZID=Europe/Ljubljana:20241015T140000
DTEND;TZID=Europe/Ljubljana:20241015T160000
DTSTAMP:20260422T114954Z
UID:fs-AFLABS-URNIK:srecanje:6488-2024-10-15 14:00:00+02:00
DESCRIPTION:Predmet: Elektromobilnost (ELMM)\, Laboratorijske vaje (VL)\, 
 [S4]\nLetniki: Energetsko strojništvo (MAG-2)\nIzvajalci: Andraž Kravos\
 , Klemen Zelič\, Urban Žvar Baškovič\nProstor: Laboratirij LICEM SK-15
END:VEVENT
BEGIN:VEVENT
SUMMARY:Elektromobilnost (ELMM)\, Laboratorijske vaje (VL)\, [S4]
DTSTART;TZID=Europe/Ljubljana:20241022T140000
DTEND;TZID=Europe/Ljubljana:20241022T160000
DTSTAMP:20260422T114954Z
UID:fs-AFLABS-URNIK:srecanje:6488-2024-10-22 14:00:00+02:00
DESCRIPTION:Predmet: Elektromobilnost (ELMM)\, Laboratorijske vaje (VL)\, 
 [S4]\nLetniki: Energetsko strojništvo (MAG-2)\nIzvajalci: Andraž Kravos\
 , Klemen Zelič\, Urban Žvar Baškovič\nProstor: Laboratirij LICEM SK-15
END:VEVENT
BEGIN:VEVENT
SUMMARY:Elektromobilnost (ELMM)\, Laboratorijske vaje (VL)\, [S1]
DTSTART;TZID=Europe/Ljubljana:20241010T100000
DTEND;TZID=Europe/Ljubljana:20241010T120000
DTSTAMP:20260422T114954Z
UID:fs-AFLABS-URNIK:srecanje:6485-2024-10-10 10:00:00+02:00
DESCRIPTION:Predmet: Elektromobilnost (ELMM)\, Laboratorijske vaje (VL)\, 
 [S1]\nLetniki: Energetsko strojništvo (MAG-2)\nIzvajalci: Andraž Kravos\
 , Klemen Zelič\, Urban Žvar Baškovič\nProstor: Laboratirij LICEM SK-15
END:VEVENT
BEGIN:VEVENT
SUMMARY:Elektromobilnost (ELMM)\, Laboratorijske vaje (VL)\, [S1]
DTSTART;TZID=Europe/Ljubljana:20241017T100000
DTEND;TZID=Europe/Ljubljana:20241017T120000
DTSTAMP:20260422T114954Z
UID:fs-AFLABS-URNIK:srecanje:6485-2024-10-17 10:00:00+02:00
DESCRIPTION:Predmet: Elektromobilnost (ELMM)\, Laboratorijske vaje (VL)\, 
 [S1]\nLetniki: Energetsko strojništvo (MAG-2)\nIzvajalci: Andraž Kravos\
 , Klemen Zelič\, Urban Žvar Baškovič\nProstor: Laboratirij LICEM SK-15
END:VEVENT
BEGIN:VEVENT
SUMMARY:Elektromobilnost (ELMM)\, Laboratorijske vaje (VL)\, [S1]
DTSTART;TZID=Europe/Ljubljana:20241024T100000
DTEND;TZID=Europe/Ljubljana:20241024T120000
DTSTAMP:20260422T114954Z
UID:fs-AFLABS-URNIK:srecanje:6485-2024-10-24 10:00:00+02:00
DESCRIPTION:Predmet: Elektromobilnost (ELMM)\, Laboratorijske vaje (VL)\, 
 [S1]\nLetniki: Energetsko strojništvo (MAG-2)\nIzvajalci: Andraž Kravos\
 , Klemen Zelič\, Urban Žvar Baškovič\nProstor: Laboratirij LICEM SK-15
END:VEVENT
BEGIN:VEVENT
SUMMARY:Energetika v krožnem gospodarstvu (EKGM)\, Laboratorijske vaje (V
 L)\, [S1]
DTSTART;TZID=Europe/Ljubljana:20241011T100000
DTEND;TZID=Europe/Ljubljana:20241011T120000
DTSTAMP:20260422T114954Z
UID:fs-AFLABS-URNIK:srecanje:10823-2024-10-11 10:00:00+02:00
DESCRIPTION:Predmet: Energetika v krožnem gospodarstvu (EKGM)\, Laborator
 ijske vaje (VL)\, [S1]\nLetniki: Energetsko strojništvo (MAG-2)\nIzvajalc
 i: Boštjan Drobnič\, Mitja Mori\, Urban Žvar Baškovič\nProstor: Preda
 valnica II/3A
END:VEVENT
BEGIN:VEVENT
SUMMARY:Energetika v krožnem gospodarstvu (EKGM)\, Laboratorijske vaje (V
 L)\, [S1]
DTSTART;TZID=Europe/Ljubljana:20241018T100000
DTEND;TZID=Europe/Ljubljana:20241018T120000
DTSTAMP:20260422T114954Z
UID:fs-AFLABS-URNIK:srecanje:10824-2024-10-18 10:00:00+02:00
DESCRIPTION:Predmet: Energetika v krožnem gospodarstvu (EKGM)\, Laborator
 ijske vaje (VL)\, [S1]\nLetniki: Energetsko strojništvo (MAG-2)\nIzvajalc
 i: Boštjan Drobnič\, Mitja Mori\, Urban Žvar Baškovič\nProstor: Preda
 valnica II/3A
END:VEVENT
BEGIN:VEVENT
SUMMARY:Napredni procesi zgorevanja (NPZM)\, Laboratorijske vaje (VL)\, [S
 1]
DTSTART;TZID=Europe/Ljubljana:20241024T120000
DTEND;TZID=Europe/Ljubljana:20241024T140000
DTSTAMP:20260422T114954Z
UID:fs-AFLABS-URNIK:srecanje:7026-2024-10-24 12:00:00+02:00
DESCRIPTION:Predmet: Napredni procesi zgorevanja (NPZM)\, Laboratorijske v
 aje (VL)\, [S1]\nLetniki: Energetsko strojništvo (MAG-1)\nIzvajalci: Žig
 a Rosec\, Peter Sambol\, Anton Žnidarčič\, Urban Žvar Baškovič\nPros
 tor: Laboratirij LICEM SK-15
END:VEVENT
BEGIN:VEVENT
SUMMARY:Napredni procesi zgorevanja (NPZM)\, Laboratorijske vaje (VL)\, [S
 2]
DTSTART;TZID=Europe/Ljubljana:20241024T160000
DTEND;TZID=Europe/Ljubljana:20241024T180000
DTSTAMP:20260422T114954Z
UID:fs-AFLABS-URNIK:srecanje:7027-2024-10-24 16:00:00+02:00
DESCRIPTION:Predmet: Napredni procesi zgorevanja (NPZM)\, Laboratorijske v
 aje (VL)\, [S2]\nLetniki: Energetsko strojništvo (MAG-1)\nIzvajalci: Boš
 tjan Drobnič\, Žiga Rosec\, Peter Sambol\, Anton Žnidarčič\, Urban Ž
 var Baškovič\nProstor: Laboratirij LICEM SK-15
END:VEVENT
BEGIN:VEVENT
SUMMARY:Napredni procesi zgorevanja (NPZM)\, Laboratorijske vaje (VL)\, [S
 3]
DTSTART;TZID=Europe/Ljubljana:20241024T180000
DTEND;TZID=Europe/Ljubljana:20241024T200000
DTSTAMP:20260422T114954Z
UID:fs-AFLABS-URNIK:srecanje:7028-2024-10-24 18:00:00+02:00
DESCRIPTION:Predmet: Napredni procesi zgorevanja (NPZM)\, Laboratorijske v
 aje (VL)\, [S3]\nLetniki: Energetsko strojništvo (MAG-1)\nIzvajalci: Žig
 a Rosec\, Peter Sambol\, Anton Žnidarčič\, Urban Žvar Baškovič\nPros
 tor: Laboratirij LICEM SK-15
END:VEVENT
BEGIN:VEVENT
SUMMARY:Energetika v krožnem gospodarstvu (EKGM)\, Laboratorijske vaje (V
 L)\, [S1]
DTSTART;TZID=Europe/Ljubljana:20241025T100000
DTEND;TZID=Europe/Ljubljana:20241025T120000
DTSTAMP:20260422T114954Z
UID:fs-AFLABS-URNIK:srecanje:6514-2024-10-25 10:00:00+02:00
DESCRIPTION:Predmet: Energetika v krožnem gospodarstvu (EKGM)\, Laborator
 ijske vaje (VL)\, [S1]\nLetniki: Energetsko strojništvo (MAG-2)\nIzvajalc
 i: Boštjan Drobnič\, Mitja Mori\, Urban Žvar Baškovič\nProstor: Labor
 atorij LTE SI-60A
END:VEVENT
BEGIN:VEVENT
SUMMARY:Napredni procesi zgorevanja (NPZM)\, Laboratorijske vaje (VL)\, [S
 4]
DTSTART;TZID=Europe/Ljubljana:20241025T120000
DTEND;TZID=Europe/Ljubljana:20241025T140000
DTSTAMP:20260422T114954Z
UID:fs-AFLABS-URNIK:srecanje:7029-2024-10-25 12:00:00+02:00
DESCRIPTION:Predmet: Napredni procesi zgorevanja (NPZM)\, Laboratorijske v
 aje (VL)\, [S4]\nLetniki: Energetsko strojništvo (MAG-1)\nIzvajalci: Boš
 tjan Drobnič\, Žiga Rosec\, Peter Sambol\, Anton Žnidarčič\, Urban Ž
 var Baškovič\nProstor: Laboratirij LICEM SK-15
END:VEVENT
BEGIN:VEVENT
SUMMARY:Napredni procesi zgorevanja (NPZM)\, Laboratorijske vaje (VL)\, [S
 6]
DTSTART;TZID=Europe/Ljubljana:20241025T160000
DTEND;TZID=Europe/Ljubljana:20241025T180000
DTSTAMP:20260422T114954Z
UID:fs-AFLABS-URNIK:srecanje:7031-2024-10-25 16:00:00+02:00
DESCRIPTION:Predmet: Napredni procesi zgorevanja (NPZM)\, Laboratorijske v
 aje (VL)\, [S6]\nLetniki: Energetsko strojništvo (MAG-1)\nIzvajalci: Boš
 tjan Drobnič\, Žiga Rosec\, Peter Sambol\, Anton Žnidarčič\, Urban Ž
 var Baškovič\nProstor: Laboratirij LICEM SK-15
END:VEVENT
BEGIN:VEVENT
SUMMARY:Napredni procesi zgorevanja (NPZM)\, Laboratorijske vaje (VL)\, [S
 5]
DTSTART;TZID=Europe/Ljubljana:20241025T140000
DTEND;TZID=Europe/Ljubljana:20241025T160000
DTSTAMP:20260422T114954Z
UID:fs-AFLABS-URNIK:srecanje:7030-2024-10-25 14:00:00+02:00
DESCRIPTION:Predmet: Napredni procesi zgorevanja (NPZM)\, Laboratorijske v
 aje (VL)\, [S5]\nLetniki: Energetsko strojništvo (MAG-1)\nIzvajalci: Boš
 tjan Drobnič\, Žiga Rosec\, Peter Sambol\, Anton Žnidarčič\, Urban Ž
 var Baškovič\nProstor: Laboratirij LICEM SK-15
END:VEVENT
BEGIN:VEVENT
SUMMARY:Elektromobilnost (ELMM)\, Laboratorijske vaje (VL)\, [S1]
DTSTART;TZID=Europe/Ljubljana:20241028T100000
DTEND;TZID=Europe/Ljubljana:20241028T120000
DTSTAMP:20260422T114954Z
UID:fs-AFLABS-URNIK:premaknjeno-srecanje:101797
ATTENDEE:Energetsko strojništvo (MAG-2)
CATEGORIES:Entry,Special
COLOR:forestgreen
DESCRIPTION:Predmet: Elektromobilnost (ELMM)\, Laboratorijske vaje (VL)\, 
 [S1]\nLetniki: Energetsko strojništvo (MAG-2)\nIzvajalci: Andraž Kravos\
 , Klemen Zelič\, Urban Žvar Baškovič\nProstor: Laboratirij LICEM SK-15
LOCATION:Laboratirij LICEM SK-15
ORGANIZER:Andraž Kravos, Klemen Zelič, Urban Žvar Baškovič
RELATED-TO:fs-AFLABS-URNIK:srecanje:14010
X-WR-TIMEZONE:Europe/Ljubljana
END:VEVENT
BEGIN:VEVENT
SUMMARY:Napredni procesi zgorevanja (NPZM)\, Laboratorijske vaje (VL)\, [S
 1]
DTSTART;TZID=Europe/Ljubljana:20241028T120000
DTEND;TZID=Europe/Ljubljana:20241028T140000
DTSTAMP:20260422T114954Z
UID:fs-AFLABS-URNIK:srecanje:14053-2024-10-28 12:00:00+01:00
DESCRIPTION:Predmet: Napredni procesi zgorevanja (NPZM)\, Laboratorijske v
 aje (VL)\, [S1]\nLetniki: Energetsko strojništvo (MAG-1)\nIzvajalci: Žig
 a Rosec\, Peter Sambol\, Anton Žnidarčič\, Urban Žvar Baškovič\nPros
 tor: Laboratirij LICEM SK-15
END:VEVENT
BEGIN:VEVENT
SUMMARY:Napredni procesi zgorevanja (NPZM)\, Laboratorijske vaje (VL)\, [S
 2]
DTSTART;TZID=Europe/Ljubljana:20241028T160000
DTEND;TZID=Europe/Ljubljana:20241028T180000
DTSTAMP:20260422T114954Z
UID:fs-AFLABS-URNIK:srecanje:14054-2024-10-28 16:00:00+01:00
DESCRIPTION:Predmet: Napredni procesi zgorevanja (NPZM)\, Laboratorijske v
 aje (VL)\, [S2]\nLetniki: Energetsko strojništvo (MAG-1)\nIzvajalci: Boš
 tjan Drobnič\, Žiga Rosec\, Peter Sambol\, Anton Žnidarčič\, Urban Ž
 var Baškovič\nProstor: Laboratirij LICEM SK-15
END:VEVENT
BEGIN:VEVENT
SUMMARY:Napredni procesi zgorevanja (NPZM)\, Laboratorijske vaje (VL)\, [S
 3]
DTSTART;TZID=Europe/Ljubljana:20241028T180000
DTEND;TZID=Europe/Ljubljana:20241028T200000
DTSTAMP:20260422T114954Z
UID:fs-AFLABS-URNIK:srecanje:14055-2024-10-28 18:00:00+01:00
DESCRIPTION:Predmet: Napredni procesi zgorevanja (NPZM)\, Laboratorijske v
 aje (VL)\, [S3]\nLetniki: Energetsko strojništvo (MAG-1)\nIzvajalci: Žig
 a Rosec\, Peter Sambol\, Anton Žnidarčič\, Urban Žvar Baškovič\nPros
 tor: Laboratirij LICEM SK-15
END:VEVENT
END:VCALENDAR
