BEGIN:VCALENDAR
VERSION:2.0
PRODID:-//AFLabs urnik izvoz - fs//aflabs.si//SI
NAME:UL FS Urnik
X-WR-CALNAME:UL FS Urnik
DTSTAMP:20260424T150310Z
REFRESH-INTERVAL:PT1H
SOURCE:https://urnik.fs.uni-lj.si/teacher/926/?day=2025-09-15&export=1
URL:https://urnik.fs.uni-lj.si/teacher/926/?day=2025-09-15&export=1
X-PUBLISHED-TTL:PT1H
X-WR-TIMEZONE:Europe/Ljubljana
BEGIN:VTIMEZONE
TZID:Europe/Ljubljana
BEGIN:DAYLIGHT
DTSTART:20260329T020000
RDATE:20260329T020000
RDATE:20270328T020000
TZNAME:CEST
TZOFFSETFROM:+0100
TZOFFSETTO:+0200
END:DAYLIGHT
BEGIN:STANDARD
DTSTART:20261025T030000
RDATE:20261025T030000
RDATE:20271031T030000
TZNAME:CET
TZOFFSETFROM:+0200
TZOFFSETTO:+0100
END:STANDARD
END:VTIMEZONE
BEGIN:VEVENT
SUMMARY:Letalski motorji 2 (LM2P)\, Predavanja (P)
DTSTART;TZID=Europe/Ljubljana:20250929T073000
DTEND;TZID=Europe/Ljubljana:20250929T093000
DTSTAMP:20260424T150310Z
UID:fs-AFLABS-URNIK:srecanje:16030-2025-09-29 07:30:00+02:00
DESCRIPTION:Predmet: Letalski motorji 2 (LM2P)\, Predavanja (P)\nLetniki: 
 Prometni pilot letala/helikopterja (PAP-3)\, Snovanje in vzdrževanje leta
 l (PAP-3)\nIzvajalci: Tomaž Katrašnik\, Urban Žvar Baškovič\nProstor:
  Predavalnica IV/3A
END:VEVENT
BEGIN:VEVENT
SUMMARY:Letalski motorji 2 (LM2P)\, Predavanja (P)
DTSTART;TZID=Europe/Ljubljana:20251006T073000
DTEND;TZID=Europe/Ljubljana:20251006T093000
DTSTAMP:20260424T150310Z
UID:fs-AFLABS-URNIK:srecanje:16030-2025-10-06 07:30:00+02:00
DESCRIPTION:Predmet: Letalski motorji 2 (LM2P)\, Predavanja (P)\nLetniki: 
 Prometni pilot letala/helikopterja (PAP-3)\, Snovanje in vzdrževanje leta
 l (PAP-3)\nIzvajalci: Tomaž Katrašnik\, Urban Žvar Baškovič\nProstor:
  Predavalnica IV/3A
END:VEVENT
BEGIN:VEVENT
SUMMARY:Letalski motorji 2 (LM2P)\, Predavanja (P)
DTSTART;TZID=Europe/Ljubljana:20251013T073000
DTEND;TZID=Europe/Ljubljana:20251013T093000
DTSTAMP:20260424T150310Z
UID:fs-AFLABS-URNIK:srecanje:16030-2025-10-13 07:30:00+02:00
DESCRIPTION:Predmet: Letalski motorji 2 (LM2P)\, Predavanja (P)\nLetniki: 
 Prometni pilot letala/helikopterja (PAP-3)\, Snovanje in vzdrževanje leta
 l (PAP-3)\nIzvajalci: Tomaž Katrašnik\, Urban Žvar Baškovič\nProstor:
  Predavalnica IV/3A
END:VEVENT
BEGIN:VEVENT
SUMMARY:Letalski motorji 2 (LM2P)\, Predavanja (P)
DTSTART;TZID=Europe/Ljubljana:20251020T073000
DTEND;TZID=Europe/Ljubljana:20251020T093000
DTSTAMP:20260424T150310Z
UID:fs-AFLABS-URNIK:srecanje:16030-2025-10-20 07:30:00+02:00
DESCRIPTION:Predmet: Letalski motorji 2 (LM2P)\, Predavanja (P)\nLetniki: 
 Prometni pilot letala/helikopterja (PAP-3)\, Snovanje in vzdrževanje leta
 l (PAP-3)\nIzvajalci: Tomaž Katrašnik\, Urban Žvar Baškovič\nProstor:
  Predavalnica IV/3A
END:VEVENT
BEGIN:VEVENT
SUMMARY:Letalski motorji 2 (LM2P)\, Laboratorijske vaje (VL)\, [S2]
DTSTART;TZID=Europe/Ljubljana:20250930T073000
DTEND;TZID=Europe/Ljubljana:20250930T093000
DTSTAMP:20260424T150310Z
UID:fs-AFLABS-URNIK:srecanje:16624-2025-09-30 07:30:00+02:00
DESCRIPTION:Predmet: Letalski motorji 2 (LM2P)\, Laboratorijske vaje (VL)\
 , [S2]\nLetniki: Prometni pilot letala/helikopterja (PAP-3)\, Snovanje in 
 vzdrževanje letal (PAP-3)\nIzvajalci: Tomaž Katrašnik\, Andraž Kravos\
 , Žiga Rosec\, Valentina Šimić Škraba\, Anton Žnidarčič\, Urban Žv
 ar Baškovič\nProstor: Laboratirij LICEM SK-20
END:VEVENT
BEGIN:VEVENT
SUMMARY:Letalski motorji 2 (LM2P)\, Laboratorijske vaje (VL)\, [S2]
DTSTART;TZID=Europe/Ljubljana:20251007T073000
DTEND;TZID=Europe/Ljubljana:20251007T093000
DTSTAMP:20260424T150310Z
UID:fs-AFLABS-URNIK:srecanje:16624-2025-10-07 07:30:00+02:00
DESCRIPTION:Predmet: Letalski motorji 2 (LM2P)\, Laboratorijske vaje (VL)\
 , [S2]\nLetniki: Prometni pilot letala/helikopterja (PAP-3)\, Snovanje in 
 vzdrževanje letal (PAP-3)\nIzvajalci: Tomaž Katrašnik\, Andraž Kravos\
 , Žiga Rosec\, Valentina Šimić Škraba\, Anton Žnidarčič\, Urban Žv
 ar Baškovič\nProstor: Laboratirij LICEM SK-20
END:VEVENT
BEGIN:VEVENT
SUMMARY:Letalski motorji 2 (LM2P)\, Laboratorijske vaje (VL)\, [S2]
DTSTART;TZID=Europe/Ljubljana:20251014T073000
DTEND;TZID=Europe/Ljubljana:20251014T093000
DTSTAMP:20260424T150310Z
UID:fs-AFLABS-URNIK:srecanje:16624-2025-10-14 07:30:00+02:00
DESCRIPTION:Predmet: Letalski motorji 2 (LM2P)\, Laboratorijske vaje (VL)\
 , [S2]\nLetniki: Prometni pilot letala/helikopterja (PAP-3)\, Snovanje in 
 vzdrževanje letal (PAP-3)\nIzvajalci: Tomaž Katrašnik\, Andraž Kravos\
 , Žiga Rosec\, Valentina Šimić Škraba\, Anton Žnidarčič\, Urban Žv
 ar Baškovič\nProstor: Laboratirij LICEM SK-20
END:VEVENT
BEGIN:VEVENT
SUMMARY:Letalski motorji 2 (LM2P)\, Laboratorijske vaje (VL)\, [S1]
DTSTART;TZID=Europe/Ljubljana:20251001T120000
DTEND;TZID=Europe/Ljubljana:20251001T133000
DTSTAMP:20260424T150310Z
UID:fs-AFLABS-URNIK:srecanje:16622-2025-10-01 12:00:00+02:00
DESCRIPTION:Predmet: Letalski motorji 2 (LM2P)\, Laboratorijske vaje (VL)\
 , [S1]\nLetniki: Prometni pilot letala/helikopterja (PAP-3)\, Snovanje in 
 vzdrževanje letal (PAP-3)\nIzvajalci: Tomaž Katrašnik\, Andraž Kravos\
 , Žiga Rosec\, Valentina Šimić Škraba\, Anton Žnidarčič\, Urban Žv
 ar Baškovič\nProstor: Laboratirij LICEM SK-20
END:VEVENT
BEGIN:VEVENT
SUMMARY:Letalski motorji 2 (LM2P)\, Laboratorijske vaje (VL)\, [S1]
DTSTART;TZID=Europe/Ljubljana:20251008T120000
DTEND;TZID=Europe/Ljubljana:20251008T133000
DTSTAMP:20260424T150310Z
UID:fs-AFLABS-URNIK:srecanje:16622-2025-10-08 12:00:00+02:00
DESCRIPTION:Predmet: Letalski motorji 2 (LM2P)\, Laboratorijske vaje (VL)\
 , [S1]\nLetniki: Prometni pilot letala/helikopterja (PAP-3)\, Snovanje in 
 vzdrževanje letal (PAP-3)\nIzvajalci: Tomaž Katrašnik\, Andraž Kravos\
 , Žiga Rosec\, Valentina Šimić Škraba\, Anton Žnidarčič\, Urban Žv
 ar Baškovič\nProstor: Laboratirij LICEM SK-20
END:VEVENT
BEGIN:VEVENT
SUMMARY:Letalski motorji 2 (LM2P)\, Laboratorijske vaje (VL)\, [S1]
DTSTART;TZID=Europe/Ljubljana:20251015T120000
DTEND;TZID=Europe/Ljubljana:20251015T133000
DTSTAMP:20260424T150310Z
UID:fs-AFLABS-URNIK:srecanje:16622-2025-10-15 12:00:00+02:00
DESCRIPTION:Predmet: Letalski motorji 2 (LM2P)\, Laboratorijske vaje (VL)\
 , [S1]\nLetniki: Prometni pilot letala/helikopterja (PAP-3)\, Snovanje in 
 vzdrževanje letal (PAP-3)\nIzvajalci: Tomaž Katrašnik\, Andraž Kravos\
 , Žiga Rosec\, Valentina Šimić Škraba\, Anton Žnidarčič\, Urban Žv
 ar Baškovič\nProstor: Laboratirij LICEM SK-20
END:VEVENT
BEGIN:VEVENT
SUMMARY:Energetika v krožnem gospodarstvu (EKGM)\, Predavalniške vaje (V
 P)\, [S1]
DTSTART;TZID=Europe/Ljubljana:20251003T100000
DTEND;TZID=Europe/Ljubljana:20251003T120000
DTSTAMP:20260424T150310Z
UID:fs-AFLABS-URNIK:srecanje:15985-2025-10-03 10:00:00+02:00
DESCRIPTION:Predmet: Energetika v krožnem gospodarstvu (EKGM)\, Predavaln
 iške vaje (VP)\, [S1]\nLetniki: Energetsko strojništvo (MAG-2)\nIzvajalc
 i: Boštjan Drobnič\, Urban Žvar Baškovič\nProstor: Predavalnica IV/4
END:VEVENT
BEGIN:VEVENT
SUMMARY:Elektromobilnost (ELMM)\, Laboratorijske vaje (VL)\, [S1]
DTSTART;TZID=Europe/Ljubljana:20251007T100000
DTEND;TZID=Europe/Ljubljana:20251007T120000
DTSTAMP:20260424T150310Z
UID:fs-AFLABS-URNIK:srecanje:16840-2025-10-07 10:00:00+02:00
DESCRIPTION:Predmet: Elektromobilnost (ELMM)\, Laboratorijske vaje (VL)\, 
 [S1]\nLetniki: Energetsko strojništvo (MAG-2)\nIzvajalci: Andraž Kravos\
 , Igor Mele\, Matej Prijatelj\, Valentina Šimić Škraba\, Klemen Zelič\
 , Anton Žnidarčič\, Urban Žvar Baškovič\nProstor: Laboratirij LICEM 
 SK-15
END:VEVENT
BEGIN:VEVENT
SUMMARY:Elektromobilnost (ELMM)\, Laboratorijske vaje (VL)\, [S1]
DTSTART;TZID=Europe/Ljubljana:20251014T100000
DTEND;TZID=Europe/Ljubljana:20251014T120000
DTSTAMP:20260424T150310Z
UID:fs-AFLABS-URNIK:srecanje:16840-2025-10-14 10:00:00+02:00
DESCRIPTION:Predmet: Elektromobilnost (ELMM)\, Laboratorijske vaje (VL)\, 
 [S1]\nLetniki: Energetsko strojništvo (MAG-2)\nIzvajalci: Andraž Kravos\
 , Igor Mele\, Matej Prijatelj\, Valentina Šimić Škraba\, Klemen Zelič\
 , Anton Žnidarčič\, Urban Žvar Baškovič\nProstor: Laboratirij LICEM 
 SK-15
END:VEVENT
BEGIN:VEVENT
SUMMARY:Elektromobilnost (ELMM)\, Laboratorijske vaje (VL)\, [S2]
DTSTART;TZID=Europe/Ljubljana:20251007T140000
DTEND;TZID=Europe/Ljubljana:20251007T160000
DTSTAMP:20260424T150310Z
UID:fs-AFLABS-URNIK:srecanje:16842-2025-10-07 14:00:00+02:00
DESCRIPTION:Predmet: Elektromobilnost (ELMM)\, Laboratorijske vaje (VL)\, 
 [S2]\nLetniki: Energetsko strojništvo (MAG-2)\nIzvajalci: Andraž Kravos\
 , Igor Mele\, Matej Prijatelj\, Valentina Šimić Škraba\, Klemen Zelič\
 , Anton Žnidarčič\, Urban Žvar Baškovič\nProstor: Laboratirij LICEM 
 SK-15
END:VEVENT
BEGIN:VEVENT
SUMMARY:Elektromobilnost (ELMM)\, Laboratorijske vaje (VL)\, [S2]
DTSTART;TZID=Europe/Ljubljana:20251014T140000
DTEND;TZID=Europe/Ljubljana:20251014T160000
DTSTAMP:20260424T150310Z
UID:fs-AFLABS-URNIK:srecanje:16842-2025-10-14 14:00:00+02:00
DESCRIPTION:Predmet: Elektromobilnost (ELMM)\, Laboratorijske vaje (VL)\, 
 [S2]\nLetniki: Energetsko strojništvo (MAG-2)\nIzvajalci: Andraž Kravos\
 , Igor Mele\, Matej Prijatelj\, Valentina Šimić Škraba\, Klemen Zelič\
 , Anton Žnidarčič\, Urban Žvar Baškovič\nProstor: Laboratirij LICEM 
 SK-15
END:VEVENT
BEGIN:VEVENT
SUMMARY:Motorji z notranjim zgorevanjem in elektromobilnost (MNZP)\, Labor
 atorijske vaje (VL)\, [S1]
DTSTART;TZID=Europe/Ljubljana:20251008T073000
DTEND;TZID=Europe/Ljubljana:20251008T093000
DTSTAMP:20260424T150310Z
UID:fs-AFLABS-URNIK:srecanje:16594-2025-10-08 07:30:00+02:00
DESCRIPTION:Predmet: Motorji z notranjim zgorevanjem in elektromobilnost (
 MNZP)\, Laboratorijske vaje (VL)\, [S1]\nLetniki: Energetsko strojništvo 
 (PAP-3)\nIzvajalci: Tomaž Katrašnik\, Andraž Kravos\, Igor Mele\, Matej
  Prijatelj\, Valentina Šimić Škraba\, Klemen Zelič\, Anton Žnidarči
 č\, Urban Žvar Baškovič\nProstor: Laboratirij LICEM SK-20
END:VEVENT
BEGIN:VEVENT
SUMMARY:Motorji z notranjim zgorevanjem in elektromobilnost (MNZP)\, Labor
 atorijske vaje (VL)\, [S1]
DTSTART;TZID=Europe/Ljubljana:20251015T073000
DTEND;TZID=Europe/Ljubljana:20251015T093000
DTSTAMP:20260424T150310Z
UID:fs-AFLABS-URNIK:srecanje:16594-2025-10-15 07:30:00+02:00
DESCRIPTION:Predmet: Motorji z notranjim zgorevanjem in elektromobilnost (
 MNZP)\, Laboratorijske vaje (VL)\, [S1]\nLetniki: Energetsko strojništvo 
 (PAP-3)\nIzvajalci: Tomaž Katrašnik\, Andraž Kravos\, Igor Mele\, Matej
  Prijatelj\, Valentina Šimić Škraba\, Klemen Zelič\, Anton Žnidarči
 č\, Urban Žvar Baškovič\nProstor: Laboratirij LICEM SK-20
END:VEVENT
BEGIN:VEVENT
SUMMARY:Motorji z notranjim zgorevanjem in elektromobilnost (MNZP)\, Labor
 atorijske vaje (VL)\, [S2]
DTSTART;TZID=Europe/Ljubljana:20251008T133000
DTEND;TZID=Europe/Ljubljana:20251008T153000
DTSTAMP:20260424T150310Z
UID:fs-AFLABS-URNIK:srecanje:16596-2025-10-08 13:30:00+02:00
DESCRIPTION:Predmet: Motorji z notranjim zgorevanjem in elektromobilnost (
 MNZP)\, Laboratorijske vaje (VL)\, [S2]\nLetniki: Energetsko strojništvo 
 (PAP-3)\nIzvajalci: Tomaž Katrašnik\, Andraž Kravos\, Igor Mele\, Matej
  Prijatelj\, Valentina Šimić Škraba\, Klemen Zelič\, Anton Žnidarči
 č\, Urban Žvar Baškovič\nProstor: Laboratirij LICEM SK-20
END:VEVENT
BEGIN:VEVENT
SUMMARY:Motorji z notranjim zgorevanjem in elektromobilnost (MNZP)\, Labor
 atorijske vaje (VL)\, [S2]
DTSTART;TZID=Europe/Ljubljana:20251015T133000
DTEND;TZID=Europe/Ljubljana:20251015T153000
DTSTAMP:20260424T150310Z
UID:fs-AFLABS-URNIK:srecanje:16596-2025-10-15 13:30:00+02:00
DESCRIPTION:Predmet: Motorji z notranjim zgorevanjem in elektromobilnost (
 MNZP)\, Laboratorijske vaje (VL)\, [S2]\nLetniki: Energetsko strojništvo 
 (PAP-3)\nIzvajalci: Tomaž Katrašnik\, Andraž Kravos\, Igor Mele\, Matej
  Prijatelj\, Valentina Šimić Škraba\, Klemen Zelič\, Anton Žnidarči
 č\, Urban Žvar Baškovič\nProstor: Laboratirij LICEM SK-20
END:VEVENT
BEGIN:VEVENT
SUMMARY:Motorji z notranjim zgorevanjem in elektromobilnost (MNZP)\, Labor
 atorijske vaje (VL)\, [S3]
DTSTART;TZID=Europe/Ljubljana:20251008T153000
DTEND;TZID=Europe/Ljubljana:20251008T173000
DTSTAMP:20260424T150310Z
UID:fs-AFLABS-URNIK:srecanje:16598-2025-10-08 15:30:00+02:00
DESCRIPTION:Predmet: Motorji z notranjim zgorevanjem in elektromobilnost (
 MNZP)\, Laboratorijske vaje (VL)\, [S3]\nLetniki: Energetsko strojništvo 
 (PAP-3)\nIzvajalci: Tomaž Katrašnik\, Andraž Kravos\, Igor Mele\, Matej
  Prijatelj\, Valentina Šimić Škraba\, Klemen Zelič\, Anton Žnidarči
 č\, Urban Žvar Baškovič\nProstor: Laboratirij LICEM SK-20
END:VEVENT
BEGIN:VEVENT
SUMMARY:Motorji z notranjim zgorevanjem in elektromobilnost (MNZP)\, Labor
 atorijske vaje (VL)\, [S3]
DTSTART;TZID=Europe/Ljubljana:20251015T153000
DTEND;TZID=Europe/Ljubljana:20251015T173000
DTSTAMP:20260424T150310Z
UID:fs-AFLABS-URNIK:srecanje:16598-2025-10-15 15:30:00+02:00
DESCRIPTION:Predmet: Motorji z notranjim zgorevanjem in elektromobilnost (
 MNZP)\, Laboratorijske vaje (VL)\, [S3]\nLetniki: Energetsko strojništvo 
 (PAP-3)\nIzvajalci: Tomaž Katrašnik\, Andraž Kravos\, Igor Mele\, Matej
  Prijatelj\, Valentina Šimić Škraba\, Klemen Zelič\, Anton Žnidarči
 č\, Urban Žvar Baškovič\nProstor: Laboratirij LICEM SK-20
END:VEVENT
BEGIN:VEVENT
SUMMARY:Energetika v krožnem gospodarstvu (EKGM)\, Laboratorijske vaje (V
 L)\, [S2]
DTSTART;TZID=Europe/Ljubljana:20251009T140000
DTEND;TZID=Europe/Ljubljana:20251009T160000
DTSTAMP:20260424T150310Z
UID:fs-AFLABS-URNIK:srecanje:16829-2025-10-09 14:00:00+02:00
DESCRIPTION:Predmet: Energetika v krožnem gospodarstvu (EKGM)\, Laborator
 ijske vaje (VL)\, [S2]\nLetniki: Energetsko strojništvo (MAG-2)\nIzvajalc
 i: Andraž Kravos\, Urban Žvar Baškovič\nProstor: Laboratirij LICEM SK-
 15
END:VEVENT
BEGIN:VEVENT
SUMMARY:Energetika v krožnem gospodarstvu (EKGM)\, Laboratorijske vaje (V
 L)\, [S2]
DTSTART;TZID=Europe/Ljubljana:20251016T140000
DTEND;TZID=Europe/Ljubljana:20251016T160000
DTSTAMP:20260424T150310Z
UID:fs-AFLABS-URNIK:srecanje:16829-2025-10-16 14:00:00+02:00
DESCRIPTION:Predmet: Energetika v krožnem gospodarstvu (EKGM)\, Laborator
 ijske vaje (VL)\, [S2]\nLetniki: Energetsko strojništvo (MAG-2)\nIzvajalc
 i: Andraž Kravos\, Urban Žvar Baškovič\nProstor: Laboratirij LICEM SK-
 15
END:VEVENT
BEGIN:VEVENT
SUMMARY:Energetika v krožnem gospodarstvu (EKGM)\, Laboratorijske vaje (V
 L)\, [S1]
DTSTART;TZID=Europe/Ljubljana:20251009T120000
DTEND;TZID=Europe/Ljubljana:20251009T140000
DTSTAMP:20260424T150310Z
UID:fs-AFLABS-URNIK:srecanje:16825-2025-10-09 12:00:00+02:00
DESCRIPTION:Predmet: Energetika v krožnem gospodarstvu (EKGM)\, Laborator
 ijske vaje (VL)\, [S1]\nLetniki: Energetsko strojništvo (MAG-2)\nIzvajalc
 i: Andraž Kravos\, Urban Žvar Baškovič\nProstor: Laboratirij LICEM SK-
 15
END:VEVENT
BEGIN:VEVENT
SUMMARY:Energetika v krožnem gospodarstvu (EKGM)\, Laboratorijske vaje (V
 L)\, [S1]
DTSTART;TZID=Europe/Ljubljana:20251016T120000
DTEND;TZID=Europe/Ljubljana:20251016T140000
DTSTAMP:20260424T150310Z
UID:fs-AFLABS-URNIK:srecanje:16825-2025-10-16 12:00:00+02:00
DESCRIPTION:Predmet: Energetika v krožnem gospodarstvu (EKGM)\, Laborator
 ijske vaje (VL)\, [S1]\nLetniki: Energetsko strojništvo (MAG-2)\nIzvajalc
 i: Andraž Kravos\, Urban Žvar Baškovič\nProstor: Laboratirij LICEM SK-
 15
END:VEVENT
BEGIN:VEVENT
SUMMARY:Elektromobilnost (ELMM)\, Laboratorijske vaje (VL)\, [S3]
DTSTART;TZID=Europe/Ljubljana:20251009T100000
DTEND;TZID=Europe/Ljubljana:20251009T120000
DTSTAMP:20260424T150310Z
UID:fs-AFLABS-URNIK:srecanje:16844-2025-10-09 10:00:00+02:00
DESCRIPTION:Predmet: Elektromobilnost (ELMM)\, Laboratorijske vaje (VL)\, 
 [S3]\nLetniki: Energetsko strojništvo (MAG-2)\nIzvajalci: Andraž Kravos\
 , Igor Mele\, Matej Prijatelj\, Valentina Šimić Škraba\, Klemen Zelič\
 , Anton Žnidarčič\, Urban Žvar Baškovič\nProstor: Laboratirij LICEM 
 SK-15
END:VEVENT
BEGIN:VEVENT
SUMMARY:Elektromobilnost (ELMM)\, Laboratorijske vaje (VL)\, [S3]
DTSTART;TZID=Europe/Ljubljana:20251016T100000
DTEND;TZID=Europe/Ljubljana:20251016T120000
DTSTAMP:20260424T150310Z
UID:fs-AFLABS-URNIK:srecanje:16844-2025-10-16 10:00:00+02:00
DESCRIPTION:Predmet: Elektromobilnost (ELMM)\, Laboratorijske vaje (VL)\, 
 [S3]\nLetniki: Energetsko strojništvo (MAG-2)\nIzvajalci: Andraž Kravos\
 , Igor Mele\, Matej Prijatelj\, Valentina Šimić Škraba\, Klemen Zelič\
 , Anton Žnidarčič\, Urban Žvar Baškovič\nProstor: Laboratirij LICEM 
 SK-15
END:VEVENT
BEGIN:VEVENT
SUMMARY:Elektromobilnost (ELMM)\, Laboratorijske vaje (VL)\, [S4]
DTSTART;TZID=Europe/Ljubljana:20251009T160000
DTEND;TZID=Europe/Ljubljana:20251009T180000
DTSTAMP:20260424T150310Z
UID:fs-AFLABS-URNIK:srecanje:16846-2025-10-09 16:00:00+02:00
DESCRIPTION:Predmet: Elektromobilnost (ELMM)\, Laboratorijske vaje (VL)\, 
 [S4]\nLetniki: Energetsko strojništvo (MAG-2)\nIzvajalci: Andraž Kravos\
 , Igor Mele\, Matej Prijatelj\, Valentina Šimić Škraba\, Klemen Zelič\
 , Anton Žnidarčič\, Urban Žvar Baškovič\nProstor: Laboratirij LICEM 
 SK-15
END:VEVENT
BEGIN:VEVENT
SUMMARY:Elektromobilnost (ELMM)\, Laboratorijske vaje (VL)\, [S4]
DTSTART;TZID=Europe/Ljubljana:20251016T160000
DTEND;TZID=Europe/Ljubljana:20251016T180000
DTSTAMP:20260424T150310Z
UID:fs-AFLABS-URNIK:srecanje:16846-2025-10-16 16:00:00+02:00
DESCRIPTION:Predmet: Elektromobilnost (ELMM)\, Laboratorijske vaje (VL)\, 
 [S4]\nLetniki: Energetsko strojništvo (MAG-2)\nIzvajalci: Andraž Kravos\
 , Igor Mele\, Matej Prijatelj\, Valentina Šimić Škraba\, Klemen Zelič\
 , Anton Žnidarčič\, Urban Žvar Baškovič\nProstor: Laboratirij LICEM 
 SK-15
END:VEVENT
BEGIN:VEVENT
SUMMARY:Energetika v krožnem gospodarstvu (EKGM)\, Laboratorijske vaje (V
 L)\, [S3]
DTSTART;TZID=Europe/Ljubljana:20251010T100000
DTEND;TZID=Europe/Ljubljana:20251010T120000
DTSTAMP:20260424T150310Z
UID:fs-AFLABS-URNIK:srecanje:16832-2025-10-10 10:00:00+02:00
DESCRIPTION:Predmet: Energetika v krožnem gospodarstvu (EKGM)\, Laborator
 ijske vaje (VL)\, [S3]\nLetniki: Energetsko strojništvo (MAG-2)\nIzvajalc
 i: Andraž Kravos\, Urban Žvar Baškovič\nProstor: Laboratirij LICEM SK-
 15
END:VEVENT
BEGIN:VEVENT
SUMMARY:Energetika v krožnem gospodarstvu (EKGM)\, Laboratorijske vaje (V
 L)\, [S3]
DTSTART;TZID=Europe/Ljubljana:20251017T100000
DTEND;TZID=Europe/Ljubljana:20251017T120000
DTSTAMP:20260424T150310Z
UID:fs-AFLABS-URNIK:srecanje:16832-2025-10-17 10:00:00+02:00
DESCRIPTION:Predmet: Energetika v krožnem gospodarstvu (EKGM)\, Laborator
 ijske vaje (VL)\, [S3]\nLetniki: Energetsko strojništvo (MAG-2)\nIzvajalc
 i: Andraž Kravos\, Urban Žvar Baškovič\nProstor: Laboratirij LICEM SK-
 15
END:VEVENT
BEGIN:VEVENT
SUMMARY:Energetika v krožnem gospodarstvu (EKGM)\, Laboratorijske vaje (V
 L)\, [S4]
DTSTART;TZID=Europe/Ljubljana:20251010T140000
DTEND;TZID=Europe/Ljubljana:20251010T160000
DTSTAMP:20260424T150310Z
UID:fs-AFLABS-URNIK:srecanje:16836-2025-10-10 14:00:00+02:00
DESCRIPTION:Predmet: Energetika v krožnem gospodarstvu (EKGM)\, Laborator
 ijske vaje (VL)\, [S4]\nLetniki: Energetsko strojništvo (MAG-2)\nIzvajalc
 i: Andraž Kravos\, Urban Žvar Baškovič\nProstor: Laboratirij LICEM SK-
 15
END:VEVENT
BEGIN:VEVENT
SUMMARY:Energetika v krožnem gospodarstvu (EKGM)\, Laboratorijske vaje (V
 L)\, [S4]
DTSTART;TZID=Europe/Ljubljana:20251017T140000
DTEND;TZID=Europe/Ljubljana:20251017T160000
DTSTAMP:20260424T150310Z
UID:fs-AFLABS-URNIK:srecanje:16836-2025-10-17 14:00:00+02:00
DESCRIPTION:Predmet: Energetika v krožnem gospodarstvu (EKGM)\, Laborator
 ijske vaje (VL)\, [S4]\nLetniki: Energetsko strojništvo (MAG-2)\nIzvajalc
 i: Andraž Kravos\, Urban Žvar Baškovič\nProstor: Laboratirij LICEM SK-
 15
END:VEVENT
BEGIN:VEVENT
SUMMARY:Zagovor diplome
DTSTART;TZID=Europe/Ljubljana:20250828T093000
DTEND;TZID=Europe/Ljubljana:20250828T123000
DTSTAMP:20260424T150310Z
UID:fs-AFLABS-URNIK:rezervacija:10567
CATEGORIES:Reservation
COLOR:royalblue
DESCRIPTION:Predmeti: \nLetniki: \nIzvajalci: Tomaž Katrašnik\, Urban Ž
 var Baškovič\nProstori: Predavalnica II/3A
LOCATION:Predavalnica II/3A
ORGANIZER:Tomaž Katrašnik, Urban Žvar Baškovič
X-WR-TIMEZONE:Europe/Ljubljana
END:VEVENT
BEGIN:VEVENT
SUMMARY:Zagovor zaključne naloge Klemen Liam Jelovčan
DTSTART;TZID=Europe/Ljubljana:20250903T120000
DTEND;TZID=Europe/Ljubljana:20250903T130000
DTSTAMP:20260424T150310Z
UID:fs-AFLABS-URNIK:rezervacija:10658
CATEGORIES:Reservation
COLOR:royalblue
DESCRIPTION:Predmeti: \nLetniki: \nIzvajalci: Urban Žvar Baškovič\nPros
 tori: Predavalnica II/3B
LOCATION:Predavalnica II/3B
ORGANIZER:Urban Žvar Baškovič
X-WR-TIMEZONE:Europe/Ljubljana
END:VEVENT
END:VCALENDAR
