BEGIN:VCALENDAR
VERSION:2.0
PRODID:-//AFLabs urnik izvoz - fs//aflabs.si//SI
NAME:UL FS Urnik
X-WR-CALNAME:UL FS Urnik
DTSTAMP:20260424T030304Z
REFRESH-INTERVAL:PT1H
SOURCE:https://urnik.fs.uni-lj.si/teacher/934/?day=2024-09-09&export=1
URL:https://urnik.fs.uni-lj.si/teacher/934/?day=2024-09-09&export=1
X-PUBLISHED-TTL:PT1H
X-WR-TIMEZONE:Europe/Ljubljana
BEGIN:VTIMEZONE
TZID:Europe/Ljubljana
BEGIN:DAYLIGHT
DTSTART:20260329T020000
RDATE:20260329T020000
RDATE:20270328T020000
TZNAME:CEST
TZOFFSETFROM:+0100
TZOFFSETTO:+0200
END:DAYLIGHT
BEGIN:STANDARD
DTSTART:20261025T030000
RDATE:20261025T030000
RDATE:20271031T030000
TZNAME:CET
TZOFFSETFROM:+0200
TZOFFSETTO:+0100
END:STANDARD
END:VTIMEZONE
BEGIN:VEVENT
SUMMARY:Letalski motorji 2 (LM2P)\, Laboratorijske vaje (VL)\, [S2]
DTSTART;TZID=Europe/Ljubljana:20241001T073000
DTEND;TZID=Europe/Ljubljana:20241001T093000
DTSTAMP:20260424T030304Z
UID:fs-AFLABS-URNIK:srecanje:6850-2024-10-01 07:30:00+02:00
DESCRIPTION:Predmet: Letalski motorji 2 (LM2P)\, Laboratorijske vaje (VL)\
 , [S2]\nLetniki: Prometni pilot letala/helikopterja (PAP-3)\, Snovanje in 
 vzdrževanje letal (PAP-3)\nIzvajalci: Tomaž Katrašnik\, Andraž Kravos\
 nProstor: Laboratirij LICEM SK-20
END:VEVENT
BEGIN:VEVENT
SUMMARY:Letalski motorji 2 (LM2P)\, Laboratorijske vaje (VL)\, [S2]
DTSTART;TZID=Europe/Ljubljana:20241008T073000
DTEND;TZID=Europe/Ljubljana:20241008T093000
DTSTAMP:20260424T030304Z
UID:fs-AFLABS-URNIK:srecanje:6850-2024-10-08 07:30:00+02:00
DESCRIPTION:Predmet: Letalski motorji 2 (LM2P)\, Laboratorijske vaje (VL)\
 , [S2]\nLetniki: Prometni pilot letala/helikopterja (PAP-3)\, Snovanje in 
 vzdrževanje letal (PAP-3)\nIzvajalci: Tomaž Katrašnik\, Andraž Kravos\
 nProstor: Laboratirij LICEM SK-20
END:VEVENT
BEGIN:VEVENT
SUMMARY:Letalski motorji 2 (LM2P)\, Laboratorijske vaje (VL)\, [S1]
DTSTART;TZID=Europe/Ljubljana:20241002T153000
DTEND;TZID=Europe/Ljubljana:20241002T173000
DTSTAMP:20260424T030304Z
UID:fs-AFLABS-URNIK:srecanje:6849-2024-10-02 15:30:00+02:00
DESCRIPTION:Predmet: Letalski motorji 2 (LM2P)\, Laboratorijske vaje (VL)\
 , [S1]\nLetniki: Prometni pilot letala/helikopterja (PAP-3)\, Snovanje in 
 vzdrževanje letal (PAP-3)\nIzvajalci: Tomaž Katrašnik\, Andraž Kravos\
 nProstor: Laboratirij LICEM SK-20
END:VEVENT
BEGIN:VEVENT
SUMMARY:Letalski motorji 2 (LM2P)\, Laboratorijske vaje (VL)\, [S1]
DTSTART;TZID=Europe/Ljubljana:20241009T153000
DTEND;TZID=Europe/Ljubljana:20241009T173000
DTSTAMP:20260424T030304Z
UID:fs-AFLABS-URNIK:srecanje:6849-2024-10-09 15:30:00+02:00
DESCRIPTION:Predmet: Letalski motorji 2 (LM2P)\, Laboratorijske vaje (VL)\
 , [S1]\nLetniki: Prometni pilot letala/helikopterja (PAP-3)\, Snovanje in 
 vzdrževanje letal (PAP-3)\nIzvajalci: Tomaž Katrašnik\, Andraž Kravos\
 nProstor: Laboratirij LICEM SK-20
END:VEVENT
BEGIN:VEVENT
SUMMARY:Elektromobilnost (ELMM)\, Predavalniške vaje (VP)\, [S2]
DTSTART;TZID=Europe/Ljubljana:20241003T100000
DTEND;TZID=Europe/Ljubljana:20241003T120000
DTSTAMP:20260424T030304Z
UID:fs-AFLABS-URNIK:srecanje:6490-2024-10-03 10:00:00+02:00
DESCRIPTION:Predmet: Elektromobilnost (ELMM)\, Predavalniške vaje (VP)\, 
 [S2]\nLetniki: Energetsko strojništvo (MAG-2)\nIzvajalci: Andraž Kravos\
 nProstor: Predavalnica IV/4
END:VEVENT
BEGIN:VEVENT
SUMMARY:Pogoni (PGNR)\, Laboratorijske vaje (VL)\, [S6]
DTSTART;TZID=Europe/Ljubljana:20241007T080000
DTEND;TZID=Europe/Ljubljana:20241007T100000
DTSTAMP:20260424T030304Z
UID:fs-AFLABS-URNIK:srecanje:12581-2024-10-07 08:00:00+02:00
DESCRIPTION:Predmet: Pogoni (PGNR)\, Laboratorijske vaje (VL)\, [S6]\nLetn
 iki: RRP-3 (RRP-3)\nIzvajalci: Andraž Kravos\, Igor Mele\, Matej Prijatel
 j\, Valentina Šimić Škraba\, Klemen Zelič\, Anton Žnidarčič\nProsto
 r: Laboratirij LICEM SK-15
END:VEVENT
BEGIN:VEVENT
SUMMARY:Pogoni (PGNR)\, Laboratorijske vaje (VL)\, [S6]
DTSTART;TZID=Europe/Ljubljana:20241014T080000
DTEND;TZID=Europe/Ljubljana:20241014T100000
DTSTAMP:20260424T030304Z
UID:fs-AFLABS-URNIK:srecanje:12581-2024-10-14 08:00:00+02:00
DESCRIPTION:Predmet: Pogoni (PGNR)\, Laboratorijske vaje (VL)\, [S6]\nLetn
 iki: RRP-3 (RRP-3)\nIzvajalci: Andraž Kravos\, Igor Mele\, Matej Prijatel
 j\, Valentina Šimić Škraba\, Klemen Zelič\, Anton Žnidarčič\nProsto
 r: Laboratirij LICEM SK-15
END:VEVENT
BEGIN:VEVENT
SUMMARY:Elektromobilnost (ELMM)\, Laboratorijske vaje (VL)\, [S3]
DTSTART;TZID=Europe/Ljubljana:20241008T100000
DTEND;TZID=Europe/Ljubljana:20241008T120000
DTSTAMP:20260424T030304Z
UID:fs-AFLABS-URNIK:srecanje:6487-2024-10-08 10:00:00+02:00
DESCRIPTION:Predmet: Elektromobilnost (ELMM)\, Laboratorijske vaje (VL)\, 
 [S3]\nLetniki: Energetsko strojništvo (MAG-2)\nIzvajalci: Andraž Kravos\
 , Klemen Zelič\, Urban Žvar Baškovič\nProstor: Laboratirij LICEM SK-15
END:VEVENT
BEGIN:VEVENT
SUMMARY:Elektromobilnost (ELMM)\, Laboratorijske vaje (VL)\, [S4]
DTSTART;TZID=Europe/Ljubljana:20241008T140000
DTEND;TZID=Europe/Ljubljana:20241008T160000
DTSTAMP:20260424T030304Z
UID:fs-AFLABS-URNIK:srecanje:6488-2024-10-08 14:00:00+02:00
DESCRIPTION:Predmet: Elektromobilnost (ELMM)\, Laboratorijske vaje (VL)\, 
 [S4]\nLetniki: Energetsko strojništvo (MAG-2)\nIzvajalci: Andraž Kravos\
 , Klemen Zelič\, Urban Žvar Baškovič\nProstor: Laboratirij LICEM SK-15
END:VEVENT
BEGIN:VEVENT
SUMMARY:Pogoni (PGNR)\, Laboratorijske vaje (VL)\, [S14]
DTSTART;TZID=Europe/Ljubljana:20241008T140000
DTEND;TZID=Europe/Ljubljana:20241008T160000
DTSTAMP:20260424T030304Z
UID:fs-AFLABS-URNIK:srecanje:12585-2024-10-08 14:00:00+02:00
DESCRIPTION:Predmet: Pogoni (PGNR)\, Laboratorijske vaje (VL)\, [S14]\nLet
 niki: RRP-3 (RRP-3)\nIzvajalci: Andraž Kravos\nProstor: Laboratirij LICEM
  SK-20
END:VEVENT
BEGIN:VEVENT
SUMMARY:Motorji z notranjim zgorevanjem in elektromobilnost (MNZP)\, Labor
 atorijske vaje (VL)\, [S2]
DTSTART;TZID=Europe/Ljubljana:20241009T093000
DTEND;TZID=Europe/Ljubljana:20241009T113000
DTSTAMP:20260424T030304Z
UID:fs-AFLABS-URNIK:srecanje:6981-2024-10-09 09:30:00+02:00
DESCRIPTION:Predmet: Motorji z notranjim zgorevanjem in elektromobilnost (
 MNZP)\, Laboratorijske vaje (VL)\, [S2]\nLetniki: Energetsko strojništvo 
 (PAP-3)\nIzvajalci: Andraž Kravos\, Igor Mele\, Matej Prijatelj\nProstor:
  Laboratirij LICEM SK-20
END:VEVENT
BEGIN:VEVENT
SUMMARY:Motorji z notranjim zgorevanjem in elektromobilnost (MNZP)\, Labor
 atorijske vaje (VL)\, [S3]
DTSTART;TZID=Europe/Ljubljana:20241009T113000
DTEND;TZID=Europe/Ljubljana:20241009T133000
DTSTAMP:20260424T030304Z
UID:fs-AFLABS-URNIK:srecanje:6982-2024-10-09 11:30:00+02:00
DESCRIPTION:Predmet: Motorji z notranjim zgorevanjem in elektromobilnost (
 MNZP)\, Laboratorijske vaje (VL)\, [S3]\nLetniki: Energetsko strojništvo 
 (PAP-3)\nIzvajalci: Andraž Kravos\, Igor Mele\, Matej Prijatelj\nProstor:
  Laboratirij LICEM SK-20
END:VEVENT
BEGIN:VEVENT
SUMMARY:Motorji z notranjim zgorevanjem in elektromobilnost (MNZP)\, Labor
 atorijske vaje (VL)\, [S4]
DTSTART;TZID=Europe/Ljubljana:20241009T133000
DTEND;TZID=Europe/Ljubljana:20241009T153000
DTSTAMP:20260424T030304Z
UID:fs-AFLABS-URNIK:srecanje:6983-2024-10-09 13:30:00+02:00
DESCRIPTION:Predmet: Motorji z notranjim zgorevanjem in elektromobilnost (
 MNZP)\, Laboratorijske vaje (VL)\, [S4]\nLetniki: Energetsko strojništvo 
 (PAP-3)\nIzvajalci: Andraž Kravos\, Igor Mele\, Matej Prijatelj\nProstor:
  Laboratirij LICEM SK-20
END:VEVENT
BEGIN:VEVENT
SUMMARY:Elektromobilnost (ELMM)\, Laboratorijske vaje (VL)\, [S1]
DTSTART;TZID=Europe/Ljubljana:20241010T100000
DTEND;TZID=Europe/Ljubljana:20241010T120000
DTSTAMP:20260424T030304Z
UID:fs-AFLABS-URNIK:srecanje:6485-2024-10-10 10:00:00+02:00
DESCRIPTION:Predmet: Elektromobilnost (ELMM)\, Laboratorijske vaje (VL)\, 
 [S1]\nLetniki: Energetsko strojništvo (MAG-2)\nIzvajalci: Andraž Kravos\
 , Klemen Zelič\, Urban Žvar Baškovič\nProstor: Laboratirij LICEM SK-15
END:VEVENT
BEGIN:VEVENT
SUMMARY:Elektromobilnost (ELMM)\, Laboratorijske vaje (VL)\, [S2]
DTSTART;TZID=Europe/Ljubljana:20241010T160000
DTEND;TZID=Europe/Ljubljana:20241010T180000
DTSTAMP:20260424T030304Z
UID:fs-AFLABS-URNIK:srecanje:6486-2024-10-10 16:00:00+02:00
DESCRIPTION:Predmet: Elektromobilnost (ELMM)\, Laboratorijske vaje (VL)\, 
 [S2]\nLetniki: Energetsko strojništvo (MAG-2)\nIzvajalci: Andraž Kravos\
 , Klemen Zelič\nProstor: Laboratirij LICEM SK-20
END:VEVENT
BEGIN:VEVENT
SUMMARY:Motorji z notranjim zgorevanjem in elektromobilnost (MNZP)\, Labor
 atorijske vaje (VL)\, [S1]
DTSTART;TZID=Europe/Ljubljana:20241011T093000
DTEND;TZID=Europe/Ljubljana:20241011T113000
DTSTAMP:20260424T030304Z
UID:fs-AFLABS-URNIK:srecanje:6980-2024-10-11 09:30:00+02:00
DESCRIPTION:Predmet: Motorji z notranjim zgorevanjem in elektromobilnost (
 MNZP)\, Laboratorijske vaje (VL)\, [S1]\nLetniki: Energetsko strojništvo 
 (PAP-3)\nIzvajalci: Andraž Kravos\, Igor Mele\, Matej Prijatelj\nProstor:
  Laboratirij LICEM SK-20
END:VEVENT
BEGIN:VEVENT
SUMMARY:POGONI izpit - podaljšanje pisanja
DTSTART;TZID=Europe/Ljubljana:20240813T100000
DTEND;TZID=Europe/Ljubljana:20240813T113000
DTSTAMP:20260424T030304Z
UID:fs-AFLABS-URNIK:rezervacija:6011
CATEGORIES:Reservation
COLOR:royalblue
DESCRIPTION:Predmeti: \nLetniki: \nIzvajalci: Andraž Kravos\nProstori: Pr
 edavalnica III/2
LOCATION:Predavalnica III/2
ORGANIZER:Andraž Kravos
X-WR-TIMEZONE:Europe/Ljubljana
END:VEVENT
END:VCALENDAR
