BEGIN:VCALENDAR
VERSION:2.0
PRODID:-//AFLabs urnik izvoz - fs//aflabs.si//SI
NAME:UL FS Urnik
X-WR-CALNAME:UL FS Urnik
DTSTAMP:20260422T010115Z
REFRESH-INTERVAL:PT1H
SOURCE:https://urnik.fs.uni-lj.si/teacher/946/?day=2026-02-02&export=1
URL:https://urnik.fs.uni-lj.si/teacher/946/?day=2026-02-02&export=1
X-PUBLISHED-TTL:PT1H
X-WR-TIMEZONE:Europe/Ljubljana
BEGIN:VTIMEZONE
TZID:Europe/Ljubljana
BEGIN:DAYLIGHT
DTSTART:20260329T020000
RDATE:20260329T020000
RDATE:20270328T020000
TZNAME:CEST
TZOFFSETFROM:+0100
TZOFFSETTO:+0200
END:DAYLIGHT
BEGIN:STANDARD
DTSTART:20261025T030000
RDATE:20261025T030000
RDATE:20271031T030000
TZNAME:CET
TZOFFSETFROM:+0200
TZOFFSETTO:+0100
END:STANDARD
END:VTIMEZONE
BEGIN:VEVENT
SUMMARY:Navadne diferencialne enačbe - PAP (NDEP)\, Predavalniške vaje (
 VP)\, [S1]
DTSTART;TZID=Europe/Ljubljana:20260216T130000
DTEND;TZID=Europe/Ljubljana:20260216T160000
DTSTAMP:20260422T010115Z
UID:fs-AFLABS-URNIK:srecanje:14979-2026-02-16 13:00:00+01:00
DESCRIPTION:Predmet: Navadne diferencialne enačbe - PAP (NDEP)\, Predaval
 niške vaje (VP)\, [S1]\nLetniki: PAP-1 (PAP-1)\nIzvajalci: Simon Brezovni
 k\nProstor: Predavalnica IV/2
END:VEVENT
BEGIN:VEVENT
SUMMARY:Navadne diferencialne enačbe - PAP (NDEP)\, Predavalniške vaje (
 VP)\, [S1]
DTSTART;TZID=Europe/Ljubljana:20260223T130000
DTEND;TZID=Europe/Ljubljana:20260223T160000
DTSTAMP:20260422T010115Z
UID:fs-AFLABS-URNIK:srecanje:14979-2026-02-23 13:00:00+01:00
DESCRIPTION:Predmet: Navadne diferencialne enačbe - PAP (NDEP)\, Predaval
 niške vaje (VP)\, [S1]\nLetniki: PAP-1 (PAP-1)\nIzvajalci: Simon Brezovni
 k\nProstor: Predavalnica IV/2
END:VEVENT
BEGIN:VEVENT
SUMMARY:Navadne diferencialne enačbe - PAP (NDEP)\, Predavalniške vaje (
 VP)\, [S1]
DTSTART;TZID=Europe/Ljubljana:20260302T130000
DTEND;TZID=Europe/Ljubljana:20260302T160000
DTSTAMP:20260422T010115Z
UID:fs-AFLABS-URNIK:srecanje:14979-2026-03-02 13:00:00+01:00
DESCRIPTION:Predmet: Navadne diferencialne enačbe - PAP (NDEP)\, Predaval
 niške vaje (VP)\, [S1]\nLetniki: PAP-1 (PAP-1)\nIzvajalci: Simon Brezovni
 k\nProstor: Predavalnica IV/2
END:VEVENT
BEGIN:VEVENT
SUMMARY:Navadne diferencialne enačbe - PAP (NDEP)\, Predavalniške vaje (
 VP)\, [S1]
DTSTART;TZID=Europe/Ljubljana:20260309T130000
DTEND;TZID=Europe/Ljubljana:20260309T160000
DTSTAMP:20260422T010115Z
UID:fs-AFLABS-URNIK:srecanje:14979-2026-03-09 13:00:00+01:00
DESCRIPTION:Predmet: Navadne diferencialne enačbe - PAP (NDEP)\, Predaval
 niške vaje (VP)\, [S1]\nLetniki: PAP-1 (PAP-1)\nIzvajalci: Simon Brezovni
 k\nProstor: Predavalnica IV/2
END:VEVENT
BEGIN:VEVENT
SUMMARY:Parcialne diferencialne enačbe\, kompleksna analiza in optimizaci
 ja (PDER)\, Predavalniške vaje (VP)\, [S1\, S2]
DTSTART;TZID=Europe/Ljubljana:20260218T130000
DTEND;TZID=Europe/Ljubljana:20260218T160000
DTSTAMP:20260422T010115Z
UID:fs-AFLABS-URNIK:srecanje:16236-2026-02-18 13:00:00+01:00
DESCRIPTION:Predmet: Parcialne diferencialne enačbe\, kompleksna analiza 
 in optimizacija (PDER)\, Predavalniške vaje (VP)\, [S1\, S2]\nLetniki: RR
 P-2 (RRP-2)\nIzvajalci: Simon Brezovnik\nProstor: Predavalnica V/2
END:VEVENT
BEGIN:VEVENT
SUMMARY:Parcialne diferencialne enačbe\, kompleksna analiza in optimizaci
 ja (PDER)\, Predavalniške vaje (VP)\, [S1\, S2]
DTSTART;TZID=Europe/Ljubljana:20260225T130000
DTEND;TZID=Europe/Ljubljana:20260225T160000
DTSTAMP:20260422T010115Z
UID:fs-AFLABS-URNIK:srecanje:16236-2026-02-25 13:00:00+01:00
DESCRIPTION:Predmet: Parcialne diferencialne enačbe\, kompleksna analiza 
 in optimizacija (PDER)\, Predavalniške vaje (VP)\, [S1\, S2]\nLetniki: RR
 P-2 (RRP-2)\nIzvajalci: Simon Brezovnik\nProstor: Predavalnica V/2
END:VEVENT
BEGIN:VEVENT
SUMMARY:Parcialne diferencialne enačbe\, kompleksna analiza in optimizaci
 ja (PDER)\, Predavalniške vaje (VP)\, [S1\, S2]
DTSTART;TZID=Europe/Ljubljana:20260304T130000
DTEND;TZID=Europe/Ljubljana:20260304T160000
DTSTAMP:20260422T010115Z
UID:fs-AFLABS-URNIK:srecanje:16236-2026-03-04 13:00:00+01:00
DESCRIPTION:Predmet: Parcialne diferencialne enačbe\, kompleksna analiza 
 in optimizacija (PDER)\, Predavalniške vaje (VP)\, [S1\, S2]\nLetniki: RR
 P-2 (RRP-2)\nIzvajalci: Simon Brezovnik\nProstor: Predavalnica V/2
END:VEVENT
BEGIN:VEVENT
SUMMARY:Linearna algebra in vektorska analiza (LAVR)\, Predavalniške vaje
  (VP)\, [S3]
DTSTART;TZID=Europe/Ljubljana:20260220T093000
DTEND;TZID=Europe/Ljubljana:20260220T123000
DTSTAMP:20260422T010115Z
UID:fs-AFLABS-URNIK:srecanje:16075-2026-02-20 09:30:00+01:00
DESCRIPTION:Predmet: Linearna algebra in vektorska analiza (LAVR)\, Predav
 alniške vaje (VP)\, [S3]\nLetniki: RRP-1 (RRP-1)\nIzvajalci: Simon Brezov
 nik\nProstor: Predavalnica IV/4
END:VEVENT
BEGIN:VEVENT
SUMMARY:Linearna algebra in vektorska analiza (LAVR)\, Predavalniške vaje
  (VP)\, [S3]
DTSTART;TZID=Europe/Ljubljana:20260227T093000
DTEND;TZID=Europe/Ljubljana:20260227T123000
DTSTAMP:20260422T010115Z
UID:fs-AFLABS-URNIK:srecanje:16075-2026-02-27 09:30:00+01:00
DESCRIPTION:Predmet: Linearna algebra in vektorska analiza (LAVR)\, Predav
 alniške vaje (VP)\, [S3]\nLetniki: RRP-1 (RRP-1)\nIzvajalci: Simon Brezov
 nik\nProstor: Predavalnica IV/4
END:VEVENT
BEGIN:VEVENT
SUMMARY:Linearna algebra in vektorska analiza (LAVR)\, Predavalniške vaje
  (VP)\, [S3]
DTSTART;TZID=Europe/Ljubljana:20260306T093000
DTEND;TZID=Europe/Ljubljana:20260306T123000
DTSTAMP:20260422T010115Z
UID:fs-AFLABS-URNIK:srecanje:16075-2026-03-06 09:30:00+01:00
DESCRIPTION:Predmet: Linearna algebra in vektorska analiza (LAVR)\, Predav
 alniške vaje (VP)\, [S3]\nLetniki: RRP-1 (RRP-1)\nIzvajalci: Simon Brezov
 nik\nProstor: Predavalnica IV/4
END:VEVENT
END:VCALENDAR
