BEGIN:VCALENDAR
VERSION:2.0
PRODID:-//AFLabs urnik izvoz - fs//aflabs.si//SI
NAME:UL FS Urnik
X-WR-CALNAME:UL FS Urnik
DTSTAMP:20260420T155605Z
REFRESH-INTERVAL:PT1H
SOURCE:https://urnik.fs.uni-lj.si/teacher/956/?day=2023-05-29&export=1
URL:https://urnik.fs.uni-lj.si/teacher/956/?day=2023-05-29&export=1
X-PUBLISHED-TTL:PT1H
X-WR-TIMEZONE:Europe/Ljubljana
BEGIN:VTIMEZONE
TZID:Europe/Ljubljana
BEGIN:DAYLIGHT
DTSTART:20260329T020000
RDATE:20260329T020000
RDATE:20270328T020000
TZNAME:CEST
TZOFFSETFROM:+0100
TZOFFSETTO:+0200
END:DAYLIGHT
BEGIN:STANDARD
DTSTART:20261025T030000
RDATE:20261025T030000
RDATE:20271031T030000
TZNAME:CET
TZOFFSETFROM:+0200
TZOFFSETTO:+0100
END:STANDARD
END:VTIMEZONE
BEGIN:VEVENT
SUMMARY:Zagovori PAP
DTSTART;TZID=Europe/Ljubljana:20230512T090000
DTEND;TZID=Europe/Ljubljana:20230512T113000
DTSTAMP:20260420T155605Z
UID:fs-AFLABS-URNIK:rezervacija:1532
CATEGORIES:Reservation
COLOR:royalblue
DESCRIPTION:Predmeti: \nLetniki: \nIzvajalci: Študentski referat ŠR\nPro
 stori: Leskovarjeva soba
LOCATION:Leskovarjeva soba
ORGANIZER:Študentski referat ŠR
X-WR-TIMEZONE:Europe/Ljubljana
END:VEVENT
BEGIN:VEVENT
SUMMARY:DK PAP
DTSTART;TZID=Europe/Ljubljana:20230227T090000
DTEND;TZID=Europe/Ljubljana:20230227T100000
DTSTAMP:20260420T155605Z
UID:fs-AFLABS-URNIK:rezervacija:1358
CATEGORIES:Reservation
COLOR:royalblue
DESCRIPTION:Predmeti: \nLetniki: \nIzvajalci: Študentski referat ŠR\nPro
 stori: Leskovarjeva soba
LOCATION:Leskovarjeva soba
ORGANIZER:Študentski referat ŠR
X-WR-TIMEZONE:Europe/Ljubljana
END:VEVENT
BEGIN:VEVENT
SUMMARY:DK PAP
DTSTART;TZID=Europe/Ljubljana:20230403T090000
DTEND;TZID=Europe/Ljubljana:20230403T100000
DTSTAMP:20260420T155605Z
UID:fs-AFLABS-URNIK:rezervacija:1213
CATEGORIES:Reservation
COLOR:royalblue
DESCRIPTION:Predmeti: \nLetniki: \nIzvajalci: Študentski referat ŠR\nPro
 stori: Leskovarjeva soba
LOCATION:Leskovarjeva soba
ORGANIZER:Študentski referat ŠR
X-WR-TIMEZONE:Europe/Ljubljana
END:VEVENT
BEGIN:VEVENT
SUMMARY:DK PAP
DTSTART;TZID=Europe/Ljubljana:20230529T090000
DTEND;TZID=Europe/Ljubljana:20230529T100000
DTSTAMP:20260420T155605Z
UID:fs-AFLABS-URNIK:rezervacija:1139
CATEGORIES:Reservation
COLOR:royalblue
DESCRIPTION:Predmeti: \nLetniki: \nIzvajalci: Študentski referat ŠR\nPro
 stori: Leskovarjeva soba
LOCATION:Leskovarjeva soba
ORGANIZER:Študentski referat ŠR
X-WR-TIMEZONE:Europe/Ljubljana
END:VEVENT
BEGIN:VEVENT
SUMMARY:Zagovori MAG
DTSTART;TZID=Europe/Ljubljana:20230223T083000
DTEND;TZID=Europe/Ljubljana:20230223T110000
DTSTAMP:20260420T155605Z
UID:fs-AFLABS-URNIK:rezervacija:1282
CATEGORIES:Reservation
COLOR:royalblue
DESCRIPTION:Predmeti: \nLetniki: \nIzvajalci: Študentski referat ŠR\nPro
 stori: Leskovarjeva soba
LOCATION:Leskovarjeva soba
ORGANIZER:Študentski referat ŠR
X-WR-TIMEZONE:Europe/Ljubljana
END:VEVENT
BEGIN:VEVENT
SUMMARY:DK PAP
DTSTART;TZID=Europe/Ljubljana:20230503T090000
DTEND;TZID=Europe/Ljubljana:20230503T103000
DTSTAMP:20260420T155605Z
UID:fs-AFLABS-URNIK:rezervacija:1758
CATEGORIES:Reservation
COLOR:royalblue
DESCRIPTION:Predmeti: \nLetniki: \nIzvajalci: Študentski referat ŠR\nPro
 stori: Leskovarjeva soba
LOCATION:Leskovarjeva soba
ORGANIZER:Študentski referat ŠR
X-WR-TIMEZONE:Europe/Ljubljana
END:VEVENT
BEGIN:VEVENT
SUMMARY:Informativni dan
DTSTART;TZID=Europe/Ljubljana:20230317T100000
DTEND;TZID=Europe/Ljubljana:20230317T120000
DTSTAMP:20260420T155605Z
UID:fs-AFLABS-URNIK:rezervacija:1671
CATEGORIES:Reservation
COLOR:royalblue
DESCRIPTION:Predmeti: \nLetniki: \nIzvajalci: Študentski referat ŠR\nPro
 stori: Predavalnica IV/3B
LOCATION:Predavalnica IV/3B
ORGANIZER:Študentski referat ŠR
X-WR-TIMEZONE:Europe/Ljubljana
END:VEVENT
BEGIN:VEVENT
SUMMARY:Mlakar - seminar I.
DTSTART;TZID=Europe/Ljubljana:20230418T083000
DTEND;TZID=Europe/Ljubljana:20230418T103000
DTSTAMP:20260420T155605Z
UID:fs-AFLABS-URNIK:rezervacija:599
CATEGORIES:Reservation
COLOR:royalblue
DESCRIPTION:Predmeti: \nLetniki: \nIzvajalci: Študentski referat ŠR\nPro
 stori: Leskovarjeva soba
LOCATION:Leskovarjeva soba
ORGANIZER:Študentski referat ŠR
X-WR-TIMEZONE:Europe/Ljubljana
END:VEVENT
BEGIN:VEVENT
SUMMARY:Satošek - predstavitev rezultatov razisk. dela
DTSTART;TZID=Europe/Ljubljana:20230516T100000
DTEND;TZID=Europe/Ljubljana:20230516T120000
DTSTAMP:20260420T155605Z
UID:fs-AFLABS-URNIK:rezervacija:1760
CATEGORIES:Reservation
COLOR:royalblue
DESCRIPTION:Predmeti: \nLetniki: \nIzvajalci: Študentski referat ŠR\nPro
 stori: Leskovarjeva soba
LOCATION:Leskovarjeva soba
ORGANIZER:Študentski referat ŠR
X-WR-TIMEZONE:Europe/Ljubljana
END:VEVENT
BEGIN:VEVENT
SUMMARY:DK MAG
DTSTART;TZID=Europe/Ljubljana:20230522T080000
DTEND;TZID=Europe/Ljubljana:20230522T090000
DTSTAMP:20260420T155605Z
UID:fs-AFLABS-URNIK:rezervacija:609
CATEGORIES:Reservation
COLOR:royalblue
DESCRIPTION:Predmeti: \nLetniki: \nIzvajalci: Študentski referat ŠR\nPro
 stori: Leskovarjeva soba
LOCATION:Leskovarjeva soba
ORGANIZER:Študentski referat ŠR
X-WR-TIMEZONE:Europe/Ljubljana
END:VEVENT
BEGIN:VEVENT
SUMMARY:Zagovori PAP
DTSTART;TZID=Europe/Ljubljana:20230301T100000
DTEND;TZID=Europe/Ljubljana:20230301T120000
DTSTAMP:20260420T155605Z
UID:fs-AFLABS-URNIK:rezervacija:1870
CATEGORIES:Reservation
COLOR:royalblue
DESCRIPTION:Predmeti: \nLetniki: \nIzvajalci: Študentski referat ŠR\nPro
 stori: Leskovarjeva soba
LOCATION:Leskovarjeva soba
ORGANIZER:Študentski referat ŠR
X-WR-TIMEZONE:Europe/Ljubljana
END:VEVENT
BEGIN:VEVENT
SUMMARY:A. Kravos - predstavitev rezultatov razisk. dela in 2. seminar
DTSTART;TZID=Europe/Ljubljana:20230602T123000
DTEND;TZID=Europe/Ljubljana:20230602T140000
DTSTAMP:20260420T155605Z
UID:fs-AFLABS-URNIK:rezervacija:1455
CATEGORIES:Reservation
COLOR:royalblue
DESCRIPTION:Predmeti: \nLetniki: \nIzvajalci: Študentski referat ŠR\nPro
 stori: Leskovarjeva soba
LOCATION:Leskovarjeva soba
ORGANIZER:Študentski referat ŠR
X-WR-TIMEZONE:Europe/Ljubljana
END:VEVENT
BEGIN:VEVENT
SUMMARY:Pleterski J. - Seminar I.
DTSTART;TZID=Europe/Ljubljana:20230426T110000
DTEND;TZID=Europe/Ljubljana:20230426T123000
DTSTAMP:20260420T155605Z
UID:fs-AFLABS-URNIK:rezervacija:1683
CATEGORIES:Reservation
COLOR:royalblue
DESCRIPTION:Predmeti: \nLetniki: \nIzvajalci: Študentski referat ŠR\nPro
 stori: Leskovarjeva soba
LOCATION:Leskovarjeva soba
ORGANIZER:Študentski referat ŠR
X-WR-TIMEZONE:Europe/Ljubljana
END:VEVENT
BEGIN:VEVENT
SUMMARY:Zagovori MAG
DTSTART;TZID=Europe/Ljubljana:20230330T103000
DTEND;TZID=Europe/Ljubljana:20230330T123000
DTSTAMP:20260420T155605Z
UID:fs-AFLABS-URNIK:rezervacija:1136
CATEGORIES:Reservation
COLOR:royalblue
DESCRIPTION:Predmeti: \nLetniki: \nIzvajalci: Študentski referat ŠR\nPro
 stori: Leskovarjeva soba
LOCATION:Leskovarjeva soba
ORGANIZER:Študentski referat ŠR
X-WR-TIMEZONE:Europe/Ljubljana
END:VEVENT
BEGIN:VEVENT
SUMMARY:Pred. dr. teme Drobnič M.
DTSTART;TZID=Europe/Ljubljana:20230515T110000
DTEND;TZID=Europe/Ljubljana:20230515T130000
DTSTAMP:20260420T155605Z
UID:fs-AFLABS-URNIK:rezervacija:1534
CATEGORIES:Reservation
COLOR:royalblue
DESCRIPTION:Predmeti: \nLetniki: \nIzvajalci: Študentski referat ŠR\nPro
 stori: Leskovarjeva soba
LOCATION:Leskovarjeva soba
ORGANIZER:Študentski referat ŠR
X-WR-TIMEZONE:Europe/Ljubljana
END:VEVENT
BEGIN:VEVENT
SUMMARY:Žižak - predstavitev dr. teme
DTSTART;TZID=Europe/Ljubljana:20230517T130000
DTEND;TZID=Europe/Ljubljana:20230517T150000
DTSTAMP:20260420T155605Z
UID:fs-AFLABS-URNIK:rezervacija:440
CATEGORIES:Reservation
COLOR:royalblue
DESCRIPTION:Predmeti: \nLetniki: \nIzvajalci: Študentski referat ŠR\nPro
 stori: Leskovarjeva soba
LOCATION:Leskovarjeva soba
ORGANIZER:Študentski referat ŠR
X-WR-TIMEZONE:Europe/Ljubljana
END:VEVENT
BEGIN:VEVENT
SUMMARY:Ščetinec - predstavitev rezultatov razisk. dela
DTSTART;TZID=Europe/Ljubljana:20230518T100000
DTEND;TZID=Europe/Ljubljana:20230518T113000
DTSTAMP:20260420T155605Z
UID:fs-AFLABS-URNIK:rezervacija:525
CATEGORIES:Reservation
COLOR:royalblue
DESCRIPTION:Predmeti: \nLetniki: \nIzvajalci: Študentski referat ŠR\nPro
 stori: Leskovarjeva soba
LOCATION:Leskovarjeva soba
ORGANIZER:Študentski referat ŠR
X-WR-TIMEZONE:Europe/Ljubljana
END:VEVENT
BEGIN:VEVENT
SUMMARY:Ž. Ahčin - predstavitev rezultatov razisk. dela in 2. seminar
DTSTART;TZID=Europe/Ljubljana:20230531T120000
DTEND;TZID=Europe/Ljubljana:20230531T140000
DTSTAMP:20260420T155605Z
UID:fs-AFLABS-URNIK:rezervacija:1230
CATEGORIES:Reservation
COLOR:royalblue
DESCRIPTION:Predmeti: \nLetniki: \nIzvajalci: Študentski referat ŠR\nPro
 stori: Leskovarjeva soba
LOCATION:Leskovarjeva soba
ORGANIZER:Študentski referat ŠR
X-WR-TIMEZONE:Europe/Ljubljana
END:VEVENT
BEGIN:VEVENT
SUMMARY:Zagovori PAP
DTSTART;TZID=Europe/Ljubljana:20230301T070000
DTEND;TZID=Europe/Ljubljana:20230301T100000
DTSTAMP:20260420T155605Z
UID:fs-AFLABS-URNIK:rezervacija:896
CATEGORIES:Reservation
COLOR:royalblue
DESCRIPTION:Predmeti: \nLetniki: \nIzvajalci: Študentski referat ŠR\nPro
 stori: Leskovarjeva soba
LOCATION:Leskovarjeva soba
ORGANIZER:Študentski referat ŠR
X-WR-TIMEZONE:Europe/Ljubljana
END:VEVENT
BEGIN:VEVENT
SUMMARY:Dejanoska - seminar I.
DTSTART;TZID=Europe/Ljubljana:20230421T100000
DTEND;TZID=Europe/Ljubljana:20230421T120000
DTSTAMP:20260420T155605Z
UID:fs-AFLABS-URNIK:rezervacija:913
CATEGORIES:Reservation
COLOR:royalblue
DESCRIPTION:Predmeti: \nLetniki: \nIzvajalci: Študentski referat ŠR\nPro
 stori: Leskovarjeva soba
LOCATION:Leskovarjeva soba
ORGANIZER:Študentski referat ŠR
X-WR-TIMEZONE:Europe/Ljubljana
END:VEVENT
BEGIN:VEVENT
SUMMARY:Zagovori PAP
DTSTART;TZID=Europe/Ljubljana:20230601T100000
DTEND;TZID=Europe/Ljubljana:20230601T130000
DTSTAMP:20260420T155605Z
UID:fs-AFLABS-URNIK:rezervacija:1306
CATEGORIES:Reservation
COLOR:royalblue
DESCRIPTION:Predmeti: \nLetniki: \nIzvajalci: Študentski referat ŠR\nPro
 stori: Leskovarjeva soba
LOCATION:Leskovarjeva soba
ORGANIZER:Študentski referat ŠR
X-WR-TIMEZONE:Europe/Ljubljana
END:VEVENT
BEGIN:VEVENT
SUMMARY:Podelitve diplom PAP
DTSTART;TZID=Europe/Ljubljana:20230601T120000
DTEND;TZID=Europe/Ljubljana:20230601T153000
DTSTAMP:20260420T155605Z
UID:fs-AFLABS-URNIK:rezervacija:979
CATEGORIES:Reservation
COLOR:royalblue
DESCRIPTION:Predmeti: \nLetniki: \nIzvajalci: Študentski referat ŠR\nPro
 stori: Predavalnica V/2
LOCATION:Predavalnica V/2
ORGANIZER:Študentski referat ŠR
X-WR-TIMEZONE:Europe/Ljubljana
END:VEVENT
BEGIN:VEVENT
SUMMARY:Zagovori MAG
DTSTART;TZID=Europe/Ljubljana:20230526T100000
DTEND;TZID=Europe/Ljubljana:20230526T130000
DTSTAMP:20260420T155605Z
UID:fs-AFLABS-URNIK:rezervacija:1050
CATEGORIES:Reservation
COLOR:royalblue
DESCRIPTION:Predmeti: \nLetniki: \nIzvajalci: Študentski referat ŠR\nPro
 stori: Leskovarjeva soba
LOCATION:Leskovarjeva soba
ORGANIZER:Študentski referat ŠR
X-WR-TIMEZONE:Europe/Ljubljana
END:VEVENT
BEGIN:VEVENT
SUMMARY:Rožman N. - predst. rezultatov in zag. 2. sem
DTSTART;TZID=Europe/Ljubljana:20230329T110000
DTEND;TZID=Europe/Ljubljana:20230329T130000
DTSTAMP:20260420T155605Z
UID:fs-AFLABS-URNIK:rezervacija:981
CATEGORIES:Reservation
COLOR:royalblue
DESCRIPTION:Predmeti: \nLetniki: \nIzvajalci: Študentski referat ŠR\nPro
 stori: Leskovarjeva soba
LOCATION:Leskovarjeva soba
ORGANIZER:Študentski referat ŠR
X-WR-TIMEZONE:Europe/Ljubljana
END:VEVENT
END:VCALENDAR
