BEGIN:VCALENDAR
VERSION:2.0
PRODID:-//AFLabs urnik izvoz - fs//aflabs.si//SI
NAME:UL FS Urnik
X-WR-CALNAME:UL FS Urnik
DTSTAMP:20260423T041808Z
REFRESH-INTERVAL:PT1H
SOURCE:https://urnik.fs.uni-lj.si/teacher/957/?day=2023-09-18&export=1
URL:https://urnik.fs.uni-lj.si/teacher/957/?day=2023-09-18&export=1
X-PUBLISHED-TTL:PT1H
X-WR-TIMEZONE:Europe/Ljubljana
BEGIN:VTIMEZONE
TZID:Europe/Ljubljana
BEGIN:DAYLIGHT
DTSTART:20260329T020000
RDATE:20260329T020000
RDATE:20270328T020000
TZNAME:CEST
TZOFFSETFROM:+0100
TZOFFSETTO:+0200
END:DAYLIGHT
BEGIN:STANDARD
DTSTART:20261025T030000
RDATE:20261025T030000
RDATE:20271031T030000
TZNAME:CET
TZOFFSETFROM:+0200
TZOFFSETTO:+0100
END:STANDARD
END:VTIMEZONE
BEGIN:VEVENT
SUMMARY:Vodno okoljsko procesno inženirstvo (VOPP)\, Predavalniške vaje 
 (VP)
DTSTART;TZID=Europe/Ljubljana:20231002T093000
DTEND;TZID=Europe/Ljubljana:20231002T113000
DTSTAMP:20260423T041808Z
UID:fs-AFLABS-URNIK:srecanje:4317-2023-10-02 09:30:00+02:00
DESCRIPTION:Predmet: Vodno okoljsko procesno inženirstvo (VOPP)\, Predava
 lniške vaje (VP)\nLetniki: Procesno strojništvo (PAP-3)\nIzvajalci: Samo
  Jereb\, Urška Mlakar\, Matic Može\, Matevž Zupančič\nProstor: Predav
 alnica IV/3B
END:VEVENT
BEGIN:VEVENT
SUMMARY:Vodno okoljsko procesno inženirstvo (VOPP)\, Predavalniške vaje 
 (VP)
DTSTART;TZID=Europe/Ljubljana:20231009T093000
DTEND;TZID=Europe/Ljubljana:20231009T113000
DTSTAMP:20260423T041808Z
UID:fs-AFLABS-URNIK:srecanje:4317-2023-10-09 09:30:00+02:00
DESCRIPTION:Predmet: Vodno okoljsko procesno inženirstvo (VOPP)\, Predava
 lniške vaje (VP)\nLetniki: Procesno strojništvo (PAP-3)\nIzvajalci: Samo
  Jereb\, Urška Mlakar\, Matic Može\, Matevž Zupančič\nProstor: Predav
 alnica IV/3B
END:VEVENT
BEGIN:VEVENT
SUMMARY:Heat Exchangers (HTEE)\, Predavalniške vaje (VP)
DTSTART;TZID=Europe/Ljubljana:20231005T160000
DTEND;TZID=Europe/Ljubljana:20231005T180000
DTSTAMP:20260423T041808Z
UID:fs-AFLABS-URNIK:srecanje:6207-2023-10-05 16:00:00+02:00
DESCRIPTION:Predmet: Heat Exchangers (HTEE)\, Predavalniške vaje (VP)\nLe
 tniki: Erasmus (Erasmus)\nIzvajalci: Samo Jereb\, Matic Može\nProstor: Pr
 edavalnica II/3A
END:VEVENT
BEGIN:VEVENT
SUMMARY:Process Engineering (PREE)\, Predavalniške vaje (VP)
DTSTART;TZID=Europe/Ljubljana:20231006T160000
DTEND;TZID=Europe/Ljubljana:20231006T180000
DTSTAMP:20260423T041808Z
UID:fs-AFLABS-URNIK:srecanje:6056-2023-10-06 16:00:00+02:00
DESCRIPTION:Predmet: Process Engineering (PREE)\, Predavalniške vaje (VP)
 \nLetniki: Erasmus (Erasmus)\nIzvajalci: Samo Jereb\, Matic Može\, Matev
 ž Zupančič\nProstor: Predavalnica I/4A
END:VEVENT
BEGIN:VEVENT
SUMMARY:Prenosniki toplote (PRTM)\, Laboratorijske vaje (VL)\, [S4]
DTSTART;TZID=Europe/Ljubljana:20231009T160000
DTEND;TZID=Europe/Ljubljana:20231009T180000
DTSTAMP:20260423T041808Z
UID:fs-AFLABS-URNIK:srecanje:5485-2023-10-09 16:00:00+02:00
DESCRIPTION:Predmet: Prenosniki toplote (PRTM)\, Laboratorijske vaje (VL)\
 , [S4]\nLetniki: Procesno strojništvo (MAG-2)\nIzvajalci: Samo Jereb\, Ma
 tic Može\, Andrej Svete\, Jaka Tušek\, Matevž Zupančič\nProstor: Labo
 ratorij LAHDE K-1A-I
END:VEVENT
BEGIN:VEVENT
SUMMARY:Procesna tehnika (PCTM)\, Laboratorijske vaje (VL)\, [S4]
DTSTART;TZID=Europe/Ljubljana:20231010T160000
DTEND;TZID=Europe/Ljubljana:20231010T180000
DTSTAMP:20260423T041808Z
UID:fs-AFLABS-URNIK:srecanje:4960-2023-10-10 16:00:00+02:00
DESCRIPTION:Predmet: Procesna tehnika (PCTM)\, Laboratorijske vaje (VL)\, 
 [S4]\nLetniki: Procesno strojništvo (MAG-2)\nIzvajalci: Samo Jereb\, Mati
 c Može\, Matevž Zupančič\nProstor: Laboratorij LTT K-9A
END:VEVENT
BEGIN:VEVENT
SUMMARY:Procesna tehnika (PCTM)\, Laboratorijske vaje (VL)\, [S4]
DTSTART;TZID=Europe/Ljubljana:20231017T160000
DTEND;TZID=Europe/Ljubljana:20231017T180000
DTSTAMP:20260423T041808Z
UID:fs-AFLABS-URNIK:srecanje:4960-2023-10-17 16:00:00+02:00
DESCRIPTION:Predmet: Procesna tehnika (PCTM)\, Laboratorijske vaje (VL)\, 
 [S4]\nLetniki: Procesno strojništvo (MAG-2)\nIzvajalci: Samo Jereb\, Mati
 c Može\, Matevž Zupančič\nProstor: Laboratorij LTT K-9A
END:VEVENT
BEGIN:VEVENT
SUMMARY:Termodinamika zmesi (TDZM)\, Laboratorijske vaje (VL)\, [S1]
DTSTART;TZID=Europe/Ljubljana:20231011T080000
DTEND;TZID=Europe/Ljubljana:20231011T100000
DTSTAMP:20260423T041808Z
UID:fs-AFLABS-URNIK:srecanje:4836-2023-10-11 08:00:00+02:00
DESCRIPTION:Predmet: Termodinamika zmesi (TDZM)\, Laboratorijske vaje (VL)
 \, [S1]\nLetniki: Procesno strojništvo (MAG-1)\nIzvajalci: Samo Jereb\, M
 atic Može\, Matevž Zupančič\nProstor: Laboratorij LTT K-9A
END:VEVENT
BEGIN:VEVENT
SUMMARY:Termodinamika zmesi (TDZM)\, Laboratorijske vaje (VL)\, [S1]
DTSTART;TZID=Europe/Ljubljana:20231018T080000
DTEND;TZID=Europe/Ljubljana:20231018T100000
DTSTAMP:20260423T041808Z
UID:fs-AFLABS-URNIK:srecanje:4836-2023-10-18 08:00:00+02:00
DESCRIPTION:Predmet: Termodinamika zmesi (TDZM)\, Laboratorijske vaje (VL)
 \, [S1]\nLetniki: Procesno strojništvo (MAG-1)\nIzvajalci: Samo Jereb\, M
 atic Može\, Matevž Zupančič\nProstor: Laboratorij LTT K-9A
END:VEVENT
BEGIN:VEVENT
SUMMARY:Termodinamika zmesi (TDZM)\, Laboratorijske vaje (VL)\, [S2]
DTSTART;TZID=Europe/Ljubljana:20231011T100000
DTEND;TZID=Europe/Ljubljana:20231011T120000
DTSTAMP:20260423T041808Z
UID:fs-AFLABS-URNIK:srecanje:4837-2023-10-11 10:00:00+02:00
DESCRIPTION:Predmet: Termodinamika zmesi (TDZM)\, Laboratorijske vaje (VL)
 \, [S2]\nLetniki: Procesno strojništvo (MAG-1)\nIzvajalci: Samo Jereb\, M
 atic Može\, Matevž Zupančič\nProstor: Laboratorij LTT K-9A
END:VEVENT
BEGIN:VEVENT
SUMMARY:Termodinamika zmesi (TDZM)\, Laboratorijske vaje (VL)\, [S2]
DTSTART;TZID=Europe/Ljubljana:20231018T100000
DTEND;TZID=Europe/Ljubljana:20231018T120000
DTSTAMP:20260423T041808Z
UID:fs-AFLABS-URNIK:srecanje:4837-2023-10-18 10:00:00+02:00
DESCRIPTION:Predmet: Termodinamika zmesi (TDZM)\, Laboratorijske vaje (VL)
 \, [S2]\nLetniki: Procesno strojništvo (MAG-1)\nIzvajalci: Samo Jereb\, M
 atic Može\, Matevž Zupančič\nProstor: Laboratorij LTT K-9A
END:VEVENT
BEGIN:VEVENT
SUMMARY:Prenosniki toplote (PRTM)\, Laboratorijske vaje (VL)\, [S2]
DTSTART;TZID=Europe/Ljubljana:20231011T180000
DTEND;TZID=Europe/Ljubljana:20231011T200000
DTSTAMP:20260423T041808Z
UID:fs-AFLABS-URNIK:srecanje:5487-2023-10-11 18:00:00+02:00
DESCRIPTION:Predmet: Prenosniki toplote (PRTM)\, Laboratorijske vaje (VL)\
 , [S2]\nLetniki: Procesno strojništvo (MAG-2)\nIzvajalci: Gregor Bobovnik
 \, Samo Jereb\, Matic Može\, Andrej Svete\, Jaka Tušek\, Matevž Zupanč
 ič\nProstor: Laboratorij LAHDE K-1A-I
END:VEVENT
BEGIN:VEVENT
SUMMARY:Procesna tehnika (PCTM)\, Laboratorijske vaje (VL)\, [S2]
DTSTART;TZID=Europe/Ljubljana:20231011T120000
DTEND;TZID=Europe/Ljubljana:20231011T140000
DTSTAMP:20260423T041808Z
UID:fs-AFLABS-URNIK:srecanje:4961-2023-10-11 12:00:00+02:00
DESCRIPTION:Predmet: Procesna tehnika (PCTM)\, Laboratorijske vaje (VL)\, 
 [S2]\nLetniki: Procesno strojništvo (MAG-2)\nIzvajalci: Samo Jereb\, Mati
 c Može\, Matevž Zupančič\nProstor: Laboratorij LTT K-9A
END:VEVENT
BEGIN:VEVENT
SUMMARY:Procesna tehnika (PCTM)\, Laboratorijske vaje (VL)\, [S2]
DTSTART;TZID=Europe/Ljubljana:20231018T120000
DTEND;TZID=Europe/Ljubljana:20231018T140000
DTSTAMP:20260423T041808Z
UID:fs-AFLABS-URNIK:srecanje:4961-2023-10-18 12:00:00+02:00
DESCRIPTION:Predmet: Procesna tehnika (PCTM)\, Laboratorijske vaje (VL)\, 
 [S2]\nLetniki: Procesno strojništvo (MAG-2)\nIzvajalci: Samo Jereb\, Mati
 c Može\, Matevž Zupančič\nProstor: Laboratorij LTT K-9A
END:VEVENT
BEGIN:VEVENT
SUMMARY:Procesna tehnika (PCTM)\, Laboratorijske vaje (VL)\, [S3]
DTSTART;TZID=Europe/Ljubljana:20231011T140000
DTEND;TZID=Europe/Ljubljana:20231011T160000
DTSTAMP:20260423T041808Z
UID:fs-AFLABS-URNIK:srecanje:4962-2023-10-11 14:00:00+02:00
DESCRIPTION:Predmet: Procesna tehnika (PCTM)\, Laboratorijske vaje (VL)\, 
 [S3]\nLetniki: Procesno strojništvo (MAG-2)\nIzvajalci: Samo Jereb\, Mati
 c Može\, Matevž Zupančič\nProstor: Laboratorij LTT K-9A
END:VEVENT
BEGIN:VEVENT
SUMMARY:Procesna tehnika (PCTM)\, Laboratorijske vaje (VL)\, [S3]
DTSTART;TZID=Europe/Ljubljana:20231018T140000
DTEND;TZID=Europe/Ljubljana:20231018T160000
DTSTAMP:20260423T041808Z
UID:fs-AFLABS-URNIK:srecanje:4962-2023-10-18 14:00:00+02:00
DESCRIPTION:Predmet: Procesna tehnika (PCTM)\, Laboratorijske vaje (VL)\, 
 [S3]\nLetniki: Procesno strojništvo (MAG-2)\nIzvajalci: Samo Jereb\, Mati
 c Može\, Matevž Zupančič\nProstor: Laboratorij LTT K-9A
END:VEVENT
BEGIN:VEVENT
SUMMARY:Termodinamika zmesi (TDZM)\, Laboratorijske vaje (VL)\, [S3]
DTSTART;TZID=Europe/Ljubljana:20231012T160000
DTEND;TZID=Europe/Ljubljana:20231012T180000
DTSTAMP:20260423T041808Z
UID:fs-AFLABS-URNIK:srecanje:4838-2023-10-12 16:00:00+02:00
DESCRIPTION:Predmet: Termodinamika zmesi (TDZM)\, Laboratorijske vaje (VL)
 \, [S3]\nLetniki: Procesno strojništvo (MAG-1)\nIzvajalci: Samo Jereb\, M
 atic Može\, Matevž Zupančič\nProstor: Laboratorij LTT K-9A
END:VEVENT
BEGIN:VEVENT
SUMMARY:Termodinamika zmesi (TDZM)\, Laboratorijske vaje (VL)\, [S3]
DTSTART;TZID=Europe/Ljubljana:20231019T160000
DTEND;TZID=Europe/Ljubljana:20231019T180000
DTSTAMP:20260423T041808Z
UID:fs-AFLABS-URNIK:srecanje:4838-2023-10-19 16:00:00+02:00
DESCRIPTION:Predmet: Termodinamika zmesi (TDZM)\, Laboratorijske vaje (VL)
 \, [S3]\nLetniki: Procesno strojništvo (MAG-1)\nIzvajalci: Samo Jereb\, M
 atic Može\, Matevž Zupančič\nProstor: Laboratorij LTT K-9A
END:VEVENT
BEGIN:VEVENT
SUMMARY:Prenosniki toplote (PRTM)\, Laboratorijske vaje (VL)\, [S5]
DTSTART;TZID=Europe/Ljubljana:20231012T180000
DTEND;TZID=Europe/Ljubljana:20231012T200000
DTSTAMP:20260423T041808Z
UID:fs-AFLABS-URNIK:srecanje:5488-2023-10-12 18:00:00+02:00
DESCRIPTION:Predmet: Prenosniki toplote (PRTM)\, Laboratorijske vaje (VL)\
 , [S5]\nLetniki: Procesno strojništvo (MAG-2)\nIzvajalci: Gregor Bobovnik
 \, Samo Jereb\, Matic Može\, Andrej Svete\, Jaka Tušek\, Matevž Zupanč
 ič\nProstor: Laboratorij LAHDE K-1A-I
END:VEVENT
BEGIN:VEVENT
SUMMARY:Procesna tehnika (PCTM)\, Laboratorijske vaje (VL)\, [S1]
DTSTART;TZID=Europe/Ljubljana:20231012T080000
DTEND;TZID=Europe/Ljubljana:20231012T100000
DTSTAMP:20260423T041808Z
UID:fs-AFLABS-URNIK:srecanje:4963-2023-10-12 08:00:00+02:00
DESCRIPTION:Predmet: Procesna tehnika (PCTM)\, Laboratorijske vaje (VL)\, 
 [S1]\nLetniki: Procesno strojništvo (MAG-2)\nIzvajalci: Samo Jereb\, Mati
 c Može\, Matevž Zupančič\nProstor: Laboratorij LTT K-9A
END:VEVENT
BEGIN:VEVENT
SUMMARY:Procesna tehnika (PCTM)\, Laboratorijske vaje (VL)\, [S1]
DTSTART;TZID=Europe/Ljubljana:20231019T080000
DTEND;TZID=Europe/Ljubljana:20231019T100000
DTSTAMP:20260423T041808Z
UID:fs-AFLABS-URNIK:srecanje:4963-2023-10-19 08:00:00+02:00
DESCRIPTION:Predmet: Procesna tehnika (PCTM)\, Laboratorijske vaje (VL)\, 
 [S1]\nLetniki: Procesno strojništvo (MAG-2)\nIzvajalci: Samo Jereb\, Mati
 c Može\, Matevž Zupančič\nProstor: Laboratorij LTT K-9A
END:VEVENT
BEGIN:VEVENT
SUMMARY:Termodinamika zmesi (TDZM)\, Laboratorijske vaje (VL)\, [S4]
DTSTART;TZID=Europe/Ljubljana:20231013T100000
DTEND;TZID=Europe/Ljubljana:20231013T120000
DTSTAMP:20260423T041808Z
UID:fs-AFLABS-URNIK:srecanje:4839-2023-10-13 10:00:00+02:00
DESCRIPTION:Predmet: Termodinamika zmesi (TDZM)\, Laboratorijske vaje (VL)
 \, [S4]\nLetniki: Procesno strojništvo (MAG-1)\nIzvajalci: Samo Jereb\, M
 atic Može\, Matevž Zupančič\nProstor: Laboratorij LTT K-9A
END:VEVENT
BEGIN:VEVENT
SUMMARY:Termodinamika zmesi (TDZM)\, Laboratorijske vaje (VL)\, [S4]
DTSTART;TZID=Europe/Ljubljana:20231020T100000
DTEND;TZID=Europe/Ljubljana:20231020T120000
DTSTAMP:20260423T041808Z
UID:fs-AFLABS-URNIK:srecanje:4839-2023-10-20 10:00:00+02:00
DESCRIPTION:Predmet: Termodinamika zmesi (TDZM)\, Laboratorijske vaje (VL)
 \, [S4]\nLetniki: Procesno strojništvo (MAG-1)\nIzvajalci: Samo Jereb\, M
 atic Može\, Matevž Zupančič\nProstor: Laboratorij LTT K-9A
END:VEVENT
BEGIN:VEVENT
SUMMARY:Prenosniki toplote (PRTM)\, Laboratorijske vaje (VL)\, [S4]
DTSTART;TZID=Europe/Ljubljana:20231016T160000
DTEND;TZID=Europe/Ljubljana:20231016T180000
DTSTAMP:20260423T041808Z
UID:fs-AFLABS-URNIK:srecanje:5489-2023-10-16 16:00:00+02:00
DESCRIPTION:Predmet: Prenosniki toplote (PRTM)\, Laboratorijske vaje (VL)\
 , [S4]\nLetniki: Procesno strojništvo (MAG-2)\nIzvajalci: Samo Jereb\, Ma
 tic Može\, Andrej Svete\, Jaka Tušek\, Matevž Zupančič\nProstor: Labo
 ratorij LAHDE K-1A-I
END:VEVENT
BEGIN:VEVENT
SUMMARY:Prenosniki toplote (PRTM)\, Laboratorijske vaje (VL)\, [S2]
DTSTART;TZID=Europe/Ljubljana:20231018T180000
DTEND;TZID=Europe/Ljubljana:20231018T200000
DTSTAMP:20260423T041808Z
UID:fs-AFLABS-URNIK:srecanje:5491-2023-10-18 18:00:00+02:00
DESCRIPTION:Predmet: Prenosniki toplote (PRTM)\, Laboratorijske vaje (VL)\
 , [S2]\nLetniki: Procesno strojništvo (MAG-2)\nIzvajalci: Gregor Bobovnik
 \, Samo Jereb\, Matic Može\, Andrej Svete\, Jaka Tušek\, Matevž Zupanč
 ič\nProstor: Laboratorij LAHDE K-1A-I
END:VEVENT
BEGIN:VEVENT
SUMMARY:Prenosniki toplote (PRTM)\, Laboratorijske vaje (VL)\, [S5]
DTSTART;TZID=Europe/Ljubljana:20231019T180000
DTEND;TZID=Europe/Ljubljana:20231019T200000
DTSTAMP:20260423T041808Z
UID:fs-AFLABS-URNIK:srecanje:5492-2023-10-19 18:00:00+02:00
DESCRIPTION:Predmet: Prenosniki toplote (PRTM)\, Laboratorijske vaje (VL)\
 , [S5]\nLetniki: Procesno strojništvo (MAG-2)\nIzvajalci: Gregor Bobovnik
 \, Samo Jereb\, Matic Može\, Andrej Svete\, Jaka Tušek\, Matevž Zupanč
 ič\nProstor: Laboratorij LAHDE K-1A-I
END:VEVENT
BEGIN:VEVENT
SUMMARY:Prenosniki toplote (PRTM)\, Laboratorijske vaje (VL)\, [S4]
DTSTART;TZID=Europe/Ljubljana:20231023T160000
DTEND;TZID=Europe/Ljubljana:20231023T180000
DTSTAMP:20260423T041808Z
UID:fs-AFLABS-URNIK:srecanje:5493-2023-10-23 16:00:00+02:00
DESCRIPTION:Predmet: Prenosniki toplote (PRTM)\, Laboratorijske vaje (VL)\
 , [S4]\nLetniki: Procesno strojništvo (MAG-2)\nIzvajalci: Samo Jereb\, Ma
 tic Može\, Andrej Svete\, Jaka Tušek\, Matevž Zupančič\nProstor: Labo
 ratorij LAHDE K-1A-I
END:VEVENT
END:VCALENDAR
