BEGIN:VCALENDAR
VERSION:2.0
PRODID:-//AFLabs urnik izvoz - fs//aflabs.si//SI
NAME:UL FS Urnik
X-WR-CALNAME:UL FS Urnik
DTSTAMP:20260422T044555Z
REFRESH-INTERVAL:PT1H
SOURCE:https://urnik.fs.uni-lj.si/teacher/966/?day=2024-09-30&export=1
URL:https://urnik.fs.uni-lj.si/teacher/966/?day=2024-09-30&export=1
X-PUBLISHED-TTL:PT1H
X-WR-TIMEZONE:Europe/Ljubljana
BEGIN:VTIMEZONE
TZID:Europe/Ljubljana
BEGIN:DAYLIGHT
DTSTART:20260329T020000
RDATE:20260329T020000
RDATE:20270328T020000
TZNAME:CEST
TZOFFSETFROM:+0100
TZOFFSETTO:+0200
END:DAYLIGHT
BEGIN:STANDARD
DTSTART:20261025T030000
RDATE:20261025T030000
RDATE:20271031T030000
TZNAME:CET
TZOFFSETFROM:+0200
TZOFFSETTO:+0100
END:STANDARD
END:VTIMEZONE
BEGIN:VEVENT
SUMMARY:Mehanika lahkih struktur (MLSM)\, Laboratorijske vaje (VL)\, [S1]
DTSTART;TZID=Europe/Ljubljana:20241002T160000
DTEND;TZID=Europe/Ljubljana:20241002T180000
DTSTAMP:20260422T044555Z
UID:fs-AFLABS-URNIK:srecanje:6879-2024-10-02 16:00:00+02:00
DESCRIPTION:Predmet: Mehanika lahkih struktur (MLSM)\, Laboratorijske vaje
  (VL)\, [S1]\nLetniki: Mehanika (MAG-2)\nIzvajalci: Aljaž Robek\, Jan Zav
 odnik\nProstor: Laboratorij LANEM I/7
END:VEVENT
BEGIN:VEVENT
SUMMARY:Mehanika lahkih struktur (MLSM)\, Laboratorijske vaje (VL)\, [S1]
DTSTART;TZID=Europe/Ljubljana:20241016T160000
DTEND;TZID=Europe/Ljubljana:20241016T180000
DTSTAMP:20260422T044555Z
UID:fs-AFLABS-URNIK:srecanje:6879-2024-10-16 16:00:00+02:00
DESCRIPTION:Predmet: Mehanika lahkih struktur (MLSM)\, Laboratorijske vaje
  (VL)\, [S1]\nLetniki: Mehanika (MAG-2)\nIzvajalci: Aljaž Robek\, Jan Zav
 odnik\nProstor: Laboratorij LANEM I/7
END:VEVENT
BEGIN:VEVENT
SUMMARY:Mehanika lahkih struktur (MLSM)\, Laboratorijske vaje (VL)\, [S1]
DTSTART;TZID=Europe/Ljubljana:20241023T160000
DTEND;TZID=Europe/Ljubljana:20241023T180000
DTSTAMP:20260422T044555Z
UID:fs-AFLABS-URNIK:srecanje:6879-2024-10-23 16:00:00+02:00
DESCRIPTION:Predmet: Mehanika lahkih struktur (MLSM)\, Laboratorijske vaje
  (VL)\, [S1]\nLetniki: Mehanika (MAG-2)\nIzvajalci: Aljaž Robek\, Jan Zav
 odnik\nProstor: Laboratorij LANEM I/7
END:VEVENT
BEGIN:VEVENT
SUMMARY:Mehanika lahkih struktur (MLSM)\, Laboratorijske vaje (VL)\, [S1]
DTSTART;TZID=Europe/Ljubljana:20241030T160000
DTEND;TZID=Europe/Ljubljana:20241030T180000
DTSTAMP:20260422T044555Z
UID:fs-AFLABS-URNIK:srecanje:6879-2024-10-30 16:00:00+01:00
DESCRIPTION:Predmet: Mehanika lahkih struktur (MLSM)\, Laboratorijske vaje
  (VL)\, [S1]\nLetniki: Mehanika (MAG-2)\nIzvajalci: Aljaž Robek\, Jan Zav
 odnik\nProstor: Laboratorij LANEM I/7
END:VEVENT
BEGIN:VEVENT
SUMMARY:Mehanika lahkih struktur (MLSM)\, Laboratorijske vaje (VL)\, [S2]
DTSTART;TZID=Europe/Ljubljana:20241003T080000
DTEND;TZID=Europe/Ljubljana:20241003T100000
DTSTAMP:20260422T044555Z
UID:fs-AFLABS-URNIK:srecanje:6880-2024-10-03 08:00:00+02:00
DESCRIPTION:Predmet: Mehanika lahkih struktur (MLSM)\, Laboratorijske vaje
  (VL)\, [S2]\nLetniki: Mehanika (MAG-2)\nIzvajalci: Aljaž Robek\, Jan Zav
 odnik\nProstor: Laboratorij LANEM I/7
END:VEVENT
BEGIN:VEVENT
SUMMARY:Mehanika lahkih struktur (MLSM)\, Laboratorijske vaje (VL)\, [S2]
DTSTART;TZID=Europe/Ljubljana:20241017T080000
DTEND;TZID=Europe/Ljubljana:20241017T100000
DTSTAMP:20260422T044555Z
UID:fs-AFLABS-URNIK:srecanje:6880-2024-10-17 08:00:00+02:00
DESCRIPTION:Predmet: Mehanika lahkih struktur (MLSM)\, Laboratorijske vaje
  (VL)\, [S2]\nLetniki: Mehanika (MAG-2)\nIzvajalci: Aljaž Robek\, Jan Zav
 odnik\nProstor: Laboratorij LANEM I/7
END:VEVENT
BEGIN:VEVENT
SUMMARY:Mehanika lahkih struktur (MLSM)\, Laboratorijske vaje (VL)\, [S2]
DTSTART;TZID=Europe/Ljubljana:20241024T080000
DTEND;TZID=Europe/Ljubljana:20241024T100000
DTSTAMP:20260422T044555Z
UID:fs-AFLABS-URNIK:srecanje:6880-2024-10-24 08:00:00+02:00
DESCRIPTION:Predmet: Mehanika lahkih struktur (MLSM)\, Laboratorijske vaje
  (VL)\, [S2]\nLetniki: Mehanika (MAG-2)\nIzvajalci: Aljaž Robek\, Jan Zav
 odnik\nProstor: Laboratorij LANEM I/7
END:VEVENT
BEGIN:VEVENT
SUMMARY:Mehanika lahkih struktur (MLSM)\, Laboratorijske vaje (VL)\, [S3]
DTSTART;TZID=Europe/Ljubljana:20241003T120000
DTEND;TZID=Europe/Ljubljana:20241003T140000
DTSTAMP:20260422T044555Z
UID:fs-AFLABS-URNIK:srecanje:6881-2024-10-03 12:00:00+02:00
DESCRIPTION:Predmet: Mehanika lahkih struktur (MLSM)\, Laboratorijske vaje
  (VL)\, [S3]\nLetniki: Mehanika (MAG-2)\nIzvajalci: Aljaž Robek\, Jan Zav
 odnik\nProstor: Laboratorij LANEM I/7
END:VEVENT
BEGIN:VEVENT
SUMMARY:Mehanika lahkih struktur (MLSM)\, Laboratorijske vaje (VL)\, [S3]
DTSTART;TZID=Europe/Ljubljana:20241017T120000
DTEND;TZID=Europe/Ljubljana:20241017T140000
DTSTAMP:20260422T044555Z
UID:fs-AFLABS-URNIK:srecanje:6881-2024-10-17 12:00:00+02:00
DESCRIPTION:Predmet: Mehanika lahkih struktur (MLSM)\, Laboratorijske vaje
  (VL)\, [S3]\nLetniki: Mehanika (MAG-2)\nIzvajalci: Aljaž Robek\, Jan Zav
 odnik\nProstor: Laboratorij LANEM I/7
END:VEVENT
BEGIN:VEVENT
SUMMARY:Mehanika lahkih struktur (MLSM)\, Laboratorijske vaje (VL)\, [S3]
DTSTART;TZID=Europe/Ljubljana:20241024T120000
DTEND;TZID=Europe/Ljubljana:20241024T140000
DTSTAMP:20260422T044555Z
UID:fs-AFLABS-URNIK:srecanje:6881-2024-10-24 12:00:00+02:00
DESCRIPTION:Predmet: Mehanika lahkih struktur (MLSM)\, Laboratorijske vaje
  (VL)\, [S3]\nLetniki: Mehanika (MAG-2)\nIzvajalci: Aljaž Robek\, Jan Zav
 odnik\nProstor: Laboratorij LANEM I/7
END:VEVENT
BEGIN:VEVENT
SUMMARY:Višja trdnost (VSTM)\, Laboratorijske vaje (VL)\, [S1]
DTSTART;TZID=Europe/Ljubljana:20241016T120000
DTEND;TZID=Europe/Ljubljana:20241016T140000
DTSTAMP:20260422T044555Z
UID:fs-AFLABS-URNIK:srecanje:7693-2024-10-16 12:00:00+02:00
DESCRIPTION:Predmet: Višja trdnost (VSTM)\, Laboratorijske vaje (VL)\, [S
 1]\nLetniki: Mehanika (MAG-1)\nIzvajalci: Matjaž Čebron\, Aljaž Robek\,
  Jonas Trojer\, Jan Zavodnik\nProstor: Laboratorij LANEM I/7
END:VEVENT
BEGIN:VEVENT
SUMMARY:Višja trdnost (VSTM)\, Laboratorijske vaje (VL)\, [S1]
DTSTART;TZID=Europe/Ljubljana:20241030T120000
DTEND;TZID=Europe/Ljubljana:20241030T140000
DTSTAMP:20260422T044555Z
UID:fs-AFLABS-URNIK:srecanje:7693-2024-10-30 12:00:00+01:00
DESCRIPTION:Predmet: Višja trdnost (VSTM)\, Laboratorijske vaje (VL)\, [S
 1]\nLetniki: Mehanika (MAG-1)\nIzvajalci: Matjaž Čebron\, Aljaž Robek\,
  Jonas Trojer\, Jan Zavodnik\nProstor: Laboratorij LANEM I/7
END:VEVENT
BEGIN:VEVENT
SUMMARY:Višja trdnost (VSTM)\, Laboratorijske vaje (VL)\, [S3]
DTSTART;TZID=Europe/Ljubljana:20241016T080000
DTEND;TZID=Europe/Ljubljana:20241016T100000
DTSTAMP:20260422T044555Z
UID:fs-AFLABS-URNIK:srecanje:7695-2024-10-16 08:00:00+02:00
DESCRIPTION:Predmet: Višja trdnost (VSTM)\, Laboratorijske vaje (VL)\, [S
 3]\nLetniki: Mehanika (MAG-1)\nIzvajalci: Matjaž Čebron\, Aljaž Robek\,
  Jonas Trojer\, Jan Zavodnik\nProstor: Laboratorij LANEM I/7
END:VEVENT
BEGIN:VEVENT
SUMMARY:Višja trdnost (VSTM)\, Laboratorijske vaje (VL)\, [S3]
DTSTART;TZID=Europe/Ljubljana:20241030T080000
DTEND;TZID=Europe/Ljubljana:20241030T100000
DTSTAMP:20260422T044555Z
UID:fs-AFLABS-URNIK:srecanje:7695-2024-10-30 08:00:00+01:00
DESCRIPTION:Predmet: Višja trdnost (VSTM)\, Laboratorijske vaje (VL)\, [S
 3]\nLetniki: Mehanika (MAG-1)\nIzvajalci: Matjaž Čebron\, Aljaž Robek\,
  Jonas Trojer\, Jan Zavodnik\nProstor: Laboratorij LANEM I/7
END:VEVENT
BEGIN:VEVENT
SUMMARY:Višja trdnost (VSTM)\, Laboratorijske vaje (VL)\, [S4]
DTSTART;TZID=Europe/Ljubljana:20241016T100000
DTEND;TZID=Europe/Ljubljana:20241016T120000
DTSTAMP:20260422T044555Z
UID:fs-AFLABS-URNIK:srecanje:7696-2024-10-16 10:00:00+02:00
DESCRIPTION:Predmet: Višja trdnost (VSTM)\, Laboratorijske vaje (VL)\, [S
 4]\nLetniki: Mehanika (MAG-1)\nIzvajalci: Matjaž Čebron\, Aljaž Robek\,
  Jonas Trojer\, Jan Zavodnik\nProstor: Laboratorij LANEM I/7
END:VEVENT
BEGIN:VEVENT
SUMMARY:Višja trdnost (VSTM)\, Laboratorijske vaje (VL)\, [S4]
DTSTART;TZID=Europe/Ljubljana:20241030T100000
DTEND;TZID=Europe/Ljubljana:20241030T120000
DTSTAMP:20260422T044555Z
UID:fs-AFLABS-URNIK:srecanje:7696-2024-10-30 10:00:00+01:00
DESCRIPTION:Predmet: Višja trdnost (VSTM)\, Laboratorijske vaje (VL)\, [S
 4]\nLetniki: Mehanika (MAG-1)\nIzvajalci: Matjaž Čebron\, Aljaž Robek\,
  Jonas Trojer\, Jan Zavodnik\nProstor: Laboratorij LANEM I/7
END:VEVENT
BEGIN:VEVENT
SUMMARY:Višja trdnost (VSTM)\, Laboratorijske vaje (VL)\, [S5]
DTSTART;TZID=Europe/Ljubljana:20241016T140000
DTEND;TZID=Europe/Ljubljana:20241016T160000
DTSTAMP:20260422T044555Z
UID:fs-AFLABS-URNIK:srecanje:7697-2024-10-16 14:00:00+02:00
DESCRIPTION:Predmet: Višja trdnost (VSTM)\, Laboratorijske vaje (VL)\, [S
 5]\nLetniki: Mehanika (MAG-1)\nIzvajalci: Matjaž Čebron\, Aljaž Robek\,
  Jonas Trojer\, Jan Zavodnik\nProstor: Laboratorij LANEM I/7
END:VEVENT
BEGIN:VEVENT
SUMMARY:Višja trdnost (VSTM)\, Laboratorijske vaje (VL)\, [S5]
DTSTART;TZID=Europe/Ljubljana:20241030T140000
DTEND;TZID=Europe/Ljubljana:20241030T160000
DTSTAMP:20260422T044555Z
UID:fs-AFLABS-URNIK:srecanje:7697-2024-10-30 14:00:00+01:00
DESCRIPTION:Predmet: Višja trdnost (VSTM)\, Laboratorijske vaje (VL)\, [S
 5]\nLetniki: Mehanika (MAG-1)\nIzvajalci: Matjaž Čebron\, Aljaž Robek\,
  Jonas Trojer\, Jan Zavodnik\nProstor: Laboratorij LANEM I/7
END:VEVENT
BEGIN:VEVENT
SUMMARY:Višja trdnost (VSTM)\, Laboratorijske vaje (VL)\, [S2]
DTSTART;TZID=Europe/Ljubljana:20241018T140000
DTEND;TZID=Europe/Ljubljana:20241018T160000
DTSTAMP:20260422T044555Z
UID:fs-AFLABS-URNIK:srecanje:7694-2024-10-18 14:00:00+02:00
DESCRIPTION:Predmet: Višja trdnost (VSTM)\, Laboratorijske vaje (VL)\, [S
 2]\nLetniki: Mehanika (MAG-1)\nIzvajalci: Matjaž Čebron\, Aljaž Robek\,
  Jonas Trojer\, Jan Zavodnik\nProstor: Laboratorij LANEM I/7
END:VEVENT
BEGIN:VEVENT
SUMMARY:Mehanika lahkih struktur (MLSM)\, Laboratorijske vaje (VL)\, [S2]
DTSTART;TZID=Europe/Ljubljana:20241028T080000
DTEND;TZID=Europe/Ljubljana:20241028T100000
DTSTAMP:20260422T044555Z
UID:fs-AFLABS-URNIK:premaknjeno-srecanje:101830
ATTENDEE:Mehanika (MAG-2)
CATEGORIES:Entry,Special
COLOR:forestgreen
DESCRIPTION:Predmet: Mehanika lahkih struktur (MLSM)\, Laboratorijske vaje
  (VL)\, [S2]\nLetniki: Mehanika (MAG-2)\nIzvajalci: Aljaž Robek\, Jan Zav
 odnik\nProstor: Laboratorij LANEM I/7
LOCATION:Laboratorij LANEM I/7
ORGANIZER:Aljaž Robek, Jan Zavodnik
RELATED-TO:fs-AFLABS-URNIK:srecanje:14043
X-WR-TIMEZONE:Europe/Ljubljana
END:VEVENT
BEGIN:VEVENT
SUMMARY:Mehanika lahkih struktur (MLSM)\, Laboratorijske vaje (VL)\, [S3]
DTSTART;TZID=Europe/Ljubljana:20241028T120000
DTEND;TZID=Europe/Ljubljana:20241028T140000
DTSTAMP:20260422T044555Z
UID:fs-AFLABS-URNIK:premaknjeno-srecanje:101831
ATTENDEE:Mehanika (MAG-2)
CATEGORIES:Entry,Special
COLOR:forestgreen
DESCRIPTION:Predmet: Mehanika lahkih struktur (MLSM)\, Laboratorijske vaje
  (VL)\, [S3]\nLetniki: Mehanika (MAG-2)\nIzvajalci: Aljaž Robek\, Jan Zav
 odnik\nProstor: Laboratorij LANEM I/7
LOCATION:Laboratorij LANEM I/7
ORGANIZER:Aljaž Robek, Jan Zavodnik
RELATED-TO:fs-AFLABS-URNIK:srecanje:14044
X-WR-TIMEZONE:Europe/Ljubljana
END:VEVENT
BEGIN:VEVENT
SUMMARY:Višja trdnost (VSTM)\, Laboratorijske vaje (VL)\, [S2]
DTSTART;TZID=Europe/Ljubljana:20241029T140000
DTEND;TZID=Europe/Ljubljana:20241029T160000
DTSTAMP:20260422T044555Z
UID:fs-AFLABS-URNIK:premaknjeno-srecanje:101995
ATTENDEE:Mehanika (MAG-1)
CATEGORIES:Entry,Special
COLOR:forestgreen
DESCRIPTION:Predmet: Višja trdnost (VSTM)\, Laboratorijske vaje (VL)\, [S
 2]\nLetniki: Mehanika (MAG-1)\nIzvajalci: Matjaž Čebron\, Aljaž Robek\,
  Jonas Trojer\, Jan Zavodnik\nProstor: Laboratorij LANEM I/7
LOCATION:Laboratorij LANEM I/7
ORGANIZER:Matjaž Čebron, Aljaž Robek, Jonas Trojer, Jan Zavodnik
RELATED-TO:fs-AFLABS-URNIK:srecanje:14208
X-WR-TIMEZONE:Europe/Ljubljana
END:VEVENT
END:VCALENDAR
