BEGIN:VCALENDAR
VERSION:2.0
PRODID:-//AFLabs urnik izvoz - fs//aflabs.si//SI
NAME:UL FS Urnik
X-WR-CALNAME:UL FS Urnik
DTSTAMP:20260423T035047Z
REFRESH-INTERVAL:PT1H
SOURCE:https://urnik.fs.uni-lj.si/teacher/969/?day=2025-12-15&export=1
URL:https://urnik.fs.uni-lj.si/teacher/969/?day=2025-12-15&export=1
X-PUBLISHED-TTL:PT1H
X-WR-TIMEZONE:Europe/Ljubljana
BEGIN:VTIMEZONE
TZID:Europe/Ljubljana
BEGIN:DAYLIGHT
DTSTART:20260329T020000
RDATE:20260329T020000
RDATE:20270328T020000
TZNAME:CEST
TZOFFSETFROM:+0100
TZOFFSETTO:+0200
END:DAYLIGHT
BEGIN:STANDARD
DTSTART:20261025T030000
RDATE:20261025T030000
RDATE:20271031T030000
TZNAME:CET
TZOFFSETFROM:+0200
TZOFFSETTO:+0100
END:STANDARD
END:VTIMEZONE
BEGIN:VEVENT
SUMMARY:Trajnostne tehnologije v energetiki (TTEP)\, Laboratorijske vaje (
 VL)\, [S1]
DTSTART;TZID=Europe/Ljubljana:20251014T073000
DTEND;TZID=Europe/Ljubljana:20251014T093000
DTSTAMP:20260423T035047Z
UID:fs-AFLABS-URNIK:srecanje:16548-2025-10-14 07:30:00+02:00
DESCRIPTION:Predmet: Trajnostne tehnologije v energetiki (TTEP)\, Laborato
 rijske vaje (VL)\, [S1]\nLetniki: Energetsko strojništvo (PAP-3)\nIzvajal
 ci: Boštjan Drobnič\, Jure Gramc\, Domen Hojkar\, Mihael Boštjan Konča
 r\, Andrej Lotrič\, Rok Stropnik\nProstor: Laboratorij LTE SI-67
END:VEVENT
BEGIN:VEVENT
SUMMARY:Trajnostne tehnologije v energetiki (TTEP)\, Laboratorijske vaje (
 VL)\, [S1]
DTSTART;TZID=Europe/Ljubljana:20251021T073000
DTEND;TZID=Europe/Ljubljana:20251021T093000
DTSTAMP:20260423T035047Z
UID:fs-AFLABS-URNIK:srecanje:16548-2025-10-21 07:30:00+02:00
DESCRIPTION:Predmet: Trajnostne tehnologije v energetiki (TTEP)\, Laborato
 rijske vaje (VL)\, [S1]\nLetniki: Energetsko strojništvo (PAP-3)\nIzvajal
 ci: Boštjan Drobnič\, Jure Gramc\, Domen Hojkar\, Mihael Boštjan Konča
 r\, Andrej Lotrič\, Rok Stropnik\nProstor: Laboratorij LTE SI-67
END:VEVENT
BEGIN:VEVENT
SUMMARY:Trajnostne tehnologije v energetiki (TTEP)\, Laboratorijske vaje (
 VL)\, [S1]
DTSTART;TZID=Europe/Ljubljana:20251104T073000
DTEND;TZID=Europe/Ljubljana:20251104T093000
DTSTAMP:20260423T035047Z
UID:fs-AFLABS-URNIK:srecanje:16548-2025-11-04 07:30:00+01:00
DESCRIPTION:Predmet: Trajnostne tehnologije v energetiki (TTEP)\, Laborato
 rijske vaje (VL)\, [S1]\nLetniki: Energetsko strojništvo (PAP-3)\nIzvajal
 ci: Boštjan Drobnič\, Jure Gramc\, Domen Hojkar\, Mihael Boštjan Konča
 r\, Andrej Lotrič\, Rok Stropnik\nProstor: Laboratorij LTE SI-67
END:VEVENT
BEGIN:VEVENT
SUMMARY:Trajnostne tehnologije v energetiki (TTEP)\, Laboratorijske vaje (
 VL)\, [S1]
DTSTART;TZID=Europe/Ljubljana:20251111T073000
DTEND;TZID=Europe/Ljubljana:20251111T093000
DTSTAMP:20260423T035047Z
UID:fs-AFLABS-URNIK:srecanje:16548-2025-11-11 07:30:00+01:00
DESCRIPTION:Predmet: Trajnostne tehnologije v energetiki (TTEP)\, Laborato
 rijske vaje (VL)\, [S1]\nLetniki: Energetsko strojništvo (PAP-3)\nIzvajal
 ci: Boštjan Drobnič\, Jure Gramc\, Domen Hojkar\, Mihael Boštjan Konča
 r\, Andrej Lotrič\, Rok Stropnik\nProstor: Laboratorij LTE SI-67
END:VEVENT
BEGIN:VEVENT
SUMMARY:Trajnostne tehnologije v energetiki (TTEP)\, Laboratorijske vaje (
 VL)\, [S1]
DTSTART;TZID=Europe/Ljubljana:20251202T073000
DTEND;TZID=Europe/Ljubljana:20251202T093000
DTSTAMP:20260423T035047Z
UID:fs-AFLABS-URNIK:srecanje:16548-2025-12-02 07:30:00+01:00
DESCRIPTION:Predmet: Trajnostne tehnologije v energetiki (TTEP)\, Laborato
 rijske vaje (VL)\, [S1]\nLetniki: Energetsko strojništvo (PAP-3)\nIzvajal
 ci: Boštjan Drobnič\, Jure Gramc\, Domen Hojkar\, Mihael Boštjan Konča
 r\, Andrej Lotrič\, Rok Stropnik\nProstor: Laboratorij LTE SI-67
END:VEVENT
BEGIN:VEVENT
SUMMARY:Trajnostne tehnologije v energetiki (TTEP)\, Laboratorijske vaje (
 VL)\, [S1]
DTSTART;TZID=Europe/Ljubljana:20260106T073000
DTEND;TZID=Europe/Ljubljana:20260106T093000
DTSTAMP:20260423T035047Z
UID:fs-AFLABS-URNIK:srecanje:16548-2026-01-06 07:30:00+01:00
DESCRIPTION:Predmet: Trajnostne tehnologije v energetiki (TTEP)\, Laborato
 rijske vaje (VL)\, [S1]\nLetniki: Energetsko strojništvo (PAP-3)\nIzvajal
 ci: Boštjan Drobnič\, Jure Gramc\, Domen Hojkar\, Mihael Boštjan Konča
 r\, Andrej Lotrič\, Rok Stropnik\nProstor: Laboratorij LTE SI-67
END:VEVENT
BEGIN:VEVENT
SUMMARY:Trajnostne tehnologije v energetiki (TTEP)\, Laboratorijske vaje (
 VL)\, [S1]
DTSTART;TZID=Europe/Ljubljana:20260113T073000
DTEND;TZID=Europe/Ljubljana:20260113T093000
DTSTAMP:20260423T035047Z
UID:fs-AFLABS-URNIK:srecanje:16548-2026-01-13 07:30:00+01:00
DESCRIPTION:Predmet: Trajnostne tehnologije v energetiki (TTEP)\, Laborato
 rijske vaje (VL)\, [S1]\nLetniki: Energetsko strojništvo (PAP-3)\nIzvajal
 ci: Boštjan Drobnič\, Jure Gramc\, Domen Hojkar\, Mihael Boštjan Konča
 r\, Andrej Lotrič\, Rok Stropnik\nProstor: Laboratorij LTE SI-67
END:VEVENT
BEGIN:VEVENT
SUMMARY:Trajnostne tehnologije v energetiki (TTEP)\, Laboratorijske vaje (
 VL)\, [S2]
DTSTART;TZID=Europe/Ljubljana:20251014T133000
DTEND;TZID=Europe/Ljubljana:20251014T153000
DTSTAMP:20260423T035047Z
UID:fs-AFLABS-URNIK:srecanje:16549-2025-10-14 13:30:00+02:00
DESCRIPTION:Predmet: Trajnostne tehnologije v energetiki (TTEP)\, Laborato
 rijske vaje (VL)\, [S2]\nLetniki: Energetsko strojništvo (PAP-3)\nIzvajal
 ci: Boštjan Drobnič\, Jure Gramc\, Domen Hojkar\, Mihael Boštjan Konča
 r\, Andrej Lotrič\, Rok Stropnik\nProstor: Laboratorij LTE SI-67
END:VEVENT
BEGIN:VEVENT
SUMMARY:Trajnostne tehnologije v energetiki (TTEP)\, Laboratorijske vaje (
 VL)\, [S2]
DTSTART;TZID=Europe/Ljubljana:20251021T133000
DTEND;TZID=Europe/Ljubljana:20251021T153000
DTSTAMP:20260423T035047Z
UID:fs-AFLABS-URNIK:srecanje:16549-2025-10-21 13:30:00+02:00
DESCRIPTION:Predmet: Trajnostne tehnologije v energetiki (TTEP)\, Laborato
 rijske vaje (VL)\, [S2]\nLetniki: Energetsko strojništvo (PAP-3)\nIzvajal
 ci: Boštjan Drobnič\, Jure Gramc\, Domen Hojkar\, Mihael Boštjan Konča
 r\, Andrej Lotrič\, Rok Stropnik\nProstor: Laboratorij LTE SI-67
END:VEVENT
BEGIN:VEVENT
SUMMARY:Trajnostne tehnologije v energetiki (TTEP)\, Laboratorijske vaje (
 VL)\, [S2]
DTSTART;TZID=Europe/Ljubljana:20251104T133000
DTEND;TZID=Europe/Ljubljana:20251104T153000
DTSTAMP:20260423T035047Z
UID:fs-AFLABS-URNIK:srecanje:16549-2025-11-04 13:30:00+01:00
DESCRIPTION:Predmet: Trajnostne tehnologije v energetiki (TTEP)\, Laborato
 rijske vaje (VL)\, [S2]\nLetniki: Energetsko strojništvo (PAP-3)\nIzvajal
 ci: Boštjan Drobnič\, Jure Gramc\, Domen Hojkar\, Mihael Boštjan Konča
 r\, Andrej Lotrič\, Rok Stropnik\nProstor: Laboratorij LTE SI-67
END:VEVENT
BEGIN:VEVENT
SUMMARY:Trajnostne tehnologije v energetiki (TTEP)\, Laboratorijske vaje (
 VL)\, [S2]
DTSTART;TZID=Europe/Ljubljana:20251111T133000
DTEND;TZID=Europe/Ljubljana:20251111T153000
DTSTAMP:20260423T035047Z
UID:fs-AFLABS-URNIK:srecanje:16549-2025-11-11 13:30:00+01:00
DESCRIPTION:Predmet: Trajnostne tehnologije v energetiki (TTEP)\, Laborato
 rijske vaje (VL)\, [S2]\nLetniki: Energetsko strojništvo (PAP-3)\nIzvajal
 ci: Boštjan Drobnič\, Jure Gramc\, Domen Hojkar\, Mihael Boštjan Konča
 r\, Andrej Lotrič\, Rok Stropnik\nProstor: Laboratorij LTE SI-67
END:VEVENT
BEGIN:VEVENT
SUMMARY:Trajnostne tehnologije v energetiki (TTEP)\, Laboratorijske vaje (
 VL)\, [S2]
DTSTART;TZID=Europe/Ljubljana:20251202T133000
DTEND;TZID=Europe/Ljubljana:20251202T153000
DTSTAMP:20260423T035047Z
UID:fs-AFLABS-URNIK:srecanje:16549-2025-12-02 13:30:00+01:00
DESCRIPTION:Predmet: Trajnostne tehnologije v energetiki (TTEP)\, Laborato
 rijske vaje (VL)\, [S2]\nLetniki: Energetsko strojništvo (PAP-3)\nIzvajal
 ci: Boštjan Drobnič\, Jure Gramc\, Domen Hojkar\, Mihael Boštjan Konča
 r\, Andrej Lotrič\, Rok Stropnik\nProstor: Laboratorij LTE SI-67
END:VEVENT
BEGIN:VEVENT
SUMMARY:Trajnostne tehnologije v energetiki (TTEP)\, Laboratorijske vaje (
 VL)\, [S2]
DTSTART;TZID=Europe/Ljubljana:20260106T133000
DTEND;TZID=Europe/Ljubljana:20260106T153000
DTSTAMP:20260423T035047Z
UID:fs-AFLABS-URNIK:srecanje:16549-2026-01-06 13:30:00+01:00
DESCRIPTION:Predmet: Trajnostne tehnologije v energetiki (TTEP)\, Laborato
 rijske vaje (VL)\, [S2]\nLetniki: Energetsko strojništvo (PAP-3)\nIzvajal
 ci: Boštjan Drobnič\, Jure Gramc\, Domen Hojkar\, Mihael Boštjan Konča
 r\, Andrej Lotrič\, Rok Stropnik\nProstor: Laboratorij LTE SI-67
END:VEVENT
BEGIN:VEVENT
SUMMARY:Trajnostne tehnologije v energetiki (TTEP)\, Laboratorijske vaje (
 VL)\, [S2]
DTSTART;TZID=Europe/Ljubljana:20260113T133000
DTEND;TZID=Europe/Ljubljana:20260113T153000
DTSTAMP:20260423T035047Z
UID:fs-AFLABS-URNIK:srecanje:16549-2026-01-13 13:30:00+01:00
DESCRIPTION:Predmet: Trajnostne tehnologije v energetiki (TTEP)\, Laborato
 rijske vaje (VL)\, [S2]\nLetniki: Energetsko strojništvo (PAP-3)\nIzvajal
 ci: Boštjan Drobnič\, Jure Gramc\, Domen Hojkar\, Mihael Boštjan Konča
 r\, Andrej Lotrič\, Rok Stropnik\nProstor: Laboratorij LTE SI-67
END:VEVENT
BEGIN:VEVENT
SUMMARY:Energetika v krožnem gospodarstvu (EKGM)\, Laboratorijske vaje (V
 L)\, [S1]
DTSTART;TZID=Europe/Ljubljana:20251127T120000
DTEND;TZID=Europe/Ljubljana:20251127T140000
DTSTAMP:20260423T035047Z
UID:fs-AFLABS-URNIK:srecanje:16827-2025-11-27 12:00:00+01:00
DESCRIPTION:Predmet: Energetika v krožnem gospodarstvu (EKGM)\, Laborator
 ijske vaje (VL)\, [S1]\nLetniki: Energetsko strojništvo (MAG-2)\nIzvajalc
 i: Boštjan Drobnič\, Jure Gramc\, Domen Hojkar\, Mitja Mori\nProstor: La
 boratorij LTE SI-60A
END:VEVENT
BEGIN:VEVENT
SUMMARY:Energetika v krožnem gospodarstvu (EKGM)\, Laboratorijske vaje (V
 L)\, [S1]
DTSTART;TZID=Europe/Ljubljana:20251204T120000
DTEND;TZID=Europe/Ljubljana:20251204T140000
DTSTAMP:20260423T035047Z
UID:fs-AFLABS-URNIK:srecanje:16827-2025-12-04 12:00:00+01:00
DESCRIPTION:Predmet: Energetika v krožnem gospodarstvu (EKGM)\, Laborator
 ijske vaje (VL)\, [S1]\nLetniki: Energetsko strojništvo (MAG-2)\nIzvajalc
 i: Boštjan Drobnič\, Jure Gramc\, Domen Hojkar\, Mitja Mori\nProstor: La
 boratorij LTE SI-60A
END:VEVENT
BEGIN:VEVENT
SUMMARY:Energetika v krožnem gospodarstvu (EKGM)\, Laboratorijske vaje (V
 L)\, [S1]
DTSTART;TZID=Europe/Ljubljana:20251211T120000
DTEND;TZID=Europe/Ljubljana:20251211T140000
DTSTAMP:20260423T035047Z
UID:fs-AFLABS-URNIK:srecanje:16827-2025-12-11 12:00:00+01:00
DESCRIPTION:Predmet: Energetika v krožnem gospodarstvu (EKGM)\, Laborator
 ijske vaje (VL)\, [S1]\nLetniki: Energetsko strojništvo (MAG-2)\nIzvajalc
 i: Boštjan Drobnič\, Jure Gramc\, Domen Hojkar\, Mitja Mori\nProstor: La
 boratorij LTE SI-60A
END:VEVENT
BEGIN:VEVENT
SUMMARY:Energetika v krožnem gospodarstvu (EKGM)\, Laboratorijske vaje (V
 L)\, [S1]
DTSTART;TZID=Europe/Ljubljana:20251218T120000
DTEND;TZID=Europe/Ljubljana:20251218T140000
DTSTAMP:20260423T035047Z
UID:fs-AFLABS-URNIK:srecanje:16827-2025-12-18 12:00:00+01:00
DESCRIPTION:Predmet: Energetika v krožnem gospodarstvu (EKGM)\, Laborator
 ijske vaje (VL)\, [S1]\nLetniki: Energetsko strojništvo (MAG-2)\nIzvajalc
 i: Boštjan Drobnič\, Jure Gramc\, Domen Hojkar\, Mitja Mori\nProstor: La
 boratorij LTE SI-60A
END:VEVENT
BEGIN:VEVENT
SUMMARY:Energetika v krožnem gospodarstvu (EKGM)\, Laboratorijske vaje (V
 L)\, [S1]
DTSTART;TZID=Europe/Ljubljana:20251225T120000
DTEND;TZID=Europe/Ljubljana:20251225T140000
DTSTAMP:20260423T035047Z
UID:fs-AFLABS-URNIK:srecanje:16827-2025-12-25 12:00:00+01:00
DESCRIPTION:Predmet: Energetika v krožnem gospodarstvu (EKGM)\, Laborator
 ijske vaje (VL)\, [S1]\nLetniki: Energetsko strojništvo (MAG-2)\nIzvajalc
 i: Boštjan Drobnič\, Jure Gramc\, Domen Hojkar\, Mitja Mori\nProstor: La
 boratorij LTE SI-60A
END:VEVENT
BEGIN:VEVENT
SUMMARY:Energetika v krožnem gospodarstvu (EKGM)\, Laboratorijske vaje (V
 L)\, [S1]
DTSTART;TZID=Europe/Ljubljana:20260108T120000
DTEND;TZID=Europe/Ljubljana:20260108T140000
DTSTAMP:20260423T035047Z
UID:fs-AFLABS-URNIK:srecanje:16827-2026-01-08 12:00:00+01:00
DESCRIPTION:Predmet: Energetika v krožnem gospodarstvu (EKGM)\, Laborator
 ijske vaje (VL)\, [S1]\nLetniki: Energetsko strojništvo (MAG-2)\nIzvajalc
 i: Boštjan Drobnič\, Jure Gramc\, Domen Hojkar\, Mitja Mori\nProstor: La
 boratorij LTE SI-60A
END:VEVENT
BEGIN:VEVENT
SUMMARY:Energetika v krožnem gospodarstvu (EKGM)\, Laboratorijske vaje (V
 L)\, [S2]
DTSTART;TZID=Europe/Ljubljana:20251127T140000
DTEND;TZID=Europe/Ljubljana:20251127T160000
DTSTAMP:20260423T035047Z
UID:fs-AFLABS-URNIK:srecanje:16830-2025-11-27 14:00:00+01:00
DESCRIPTION:Predmet: Energetika v krožnem gospodarstvu (EKGM)\, Laborator
 ijske vaje (VL)\, [S2]\nLetniki: Energetsko strojništvo (MAG-2)\nIzvajalc
 i: Jure Gramc\, Mitja Mori\, Emilija Todorovski\, Filip Todorovski\nProsto
 r: Laboratorij LTE SI-60A
END:VEVENT
BEGIN:VEVENT
SUMMARY:Energetika v krožnem gospodarstvu (EKGM)\, Laboratorijske vaje (V
 L)\, [S2]
DTSTART;TZID=Europe/Ljubljana:20251204T140000
DTEND;TZID=Europe/Ljubljana:20251204T160000
DTSTAMP:20260423T035047Z
UID:fs-AFLABS-URNIK:srecanje:16830-2025-12-04 14:00:00+01:00
DESCRIPTION:Predmet: Energetika v krožnem gospodarstvu (EKGM)\, Laborator
 ijske vaje (VL)\, [S2]\nLetniki: Energetsko strojništvo (MAG-2)\nIzvajalc
 i: Jure Gramc\, Mitja Mori\, Emilija Todorovski\, Filip Todorovski\nProsto
 r: Laboratorij LTE SI-60A
END:VEVENT
BEGIN:VEVENT
SUMMARY:Energetika v krožnem gospodarstvu (EKGM)\, Laboratorijske vaje (V
 L)\, [S2]
DTSTART;TZID=Europe/Ljubljana:20251211T140000
DTEND;TZID=Europe/Ljubljana:20251211T160000
DTSTAMP:20260423T035047Z
UID:fs-AFLABS-URNIK:srecanje:16830-2025-12-11 14:00:00+01:00
DESCRIPTION:Predmet: Energetika v krožnem gospodarstvu (EKGM)\, Laborator
 ijske vaje (VL)\, [S2]\nLetniki: Energetsko strojništvo (MAG-2)\nIzvajalc
 i: Jure Gramc\, Mitja Mori\, Emilija Todorovski\, Filip Todorovski\nProsto
 r: Laboratorij LTE SI-60A
END:VEVENT
BEGIN:VEVENT
SUMMARY:Energetika v krožnem gospodarstvu (EKGM)\, Laboratorijske vaje (V
 L)\, [S2]
DTSTART;TZID=Europe/Ljubljana:20251218T140000
DTEND;TZID=Europe/Ljubljana:20251218T160000
DTSTAMP:20260423T035047Z
UID:fs-AFLABS-URNIK:srecanje:16830-2025-12-18 14:00:00+01:00
DESCRIPTION:Predmet: Energetika v krožnem gospodarstvu (EKGM)\, Laborator
 ijske vaje (VL)\, [S2]\nLetniki: Energetsko strojništvo (MAG-2)\nIzvajalc
 i: Jure Gramc\, Mitja Mori\, Emilija Todorovski\, Filip Todorovski\nProsto
 r: Laboratorij LTE SI-60A
END:VEVENT
BEGIN:VEVENT
SUMMARY:Energetika v krožnem gospodarstvu (EKGM)\, Laboratorijske vaje (V
 L)\, [S2]
DTSTART;TZID=Europe/Ljubljana:20251225T140000
DTEND;TZID=Europe/Ljubljana:20251225T160000
DTSTAMP:20260423T035047Z
UID:fs-AFLABS-URNIK:srecanje:16830-2025-12-25 14:00:00+01:00
DESCRIPTION:Predmet: Energetika v krožnem gospodarstvu (EKGM)\, Laborator
 ijske vaje (VL)\, [S2]\nLetniki: Energetsko strojništvo (MAG-2)\nIzvajalc
 i: Jure Gramc\, Mitja Mori\, Emilija Todorovski\, Filip Todorovski\nProsto
 r: Laboratorij LTE SI-60A
END:VEVENT
BEGIN:VEVENT
SUMMARY:Energetika v krožnem gospodarstvu (EKGM)\, Laboratorijske vaje (V
 L)\, [S2]
DTSTART;TZID=Europe/Ljubljana:20260108T140000
DTEND;TZID=Europe/Ljubljana:20260108T160000
DTSTAMP:20260423T035047Z
UID:fs-AFLABS-URNIK:srecanje:16830-2026-01-08 14:00:00+01:00
DESCRIPTION:Predmet: Energetika v krožnem gospodarstvu (EKGM)\, Laborator
 ijske vaje (VL)\, [S2]\nLetniki: Energetsko strojništvo (MAG-2)\nIzvajalc
 i: Jure Gramc\, Mitja Mori\, Emilija Todorovski\, Filip Todorovski\nProsto
 r: Laboratorij LTE SI-60A
END:VEVENT
BEGIN:VEVENT
SUMMARY:Energetika v krožnem gospodarstvu (EKGM)\, Laboratorijske vaje (V
 L)\, [S3]
DTSTART;TZID=Europe/Ljubljana:20251128T100000
DTEND;TZID=Europe/Ljubljana:20251128T120000
DTSTAMP:20260423T035047Z
UID:fs-AFLABS-URNIK:srecanje:16834-2025-11-28 10:00:00+01:00
DESCRIPTION:Predmet: Energetika v krožnem gospodarstvu (EKGM)\, Laborator
 ijske vaje (VL)\, [S3]\nLetniki: Energetsko strojništvo (MAG-2)\nIzvajalc
 i: Boštjan Drobnič\, Jure Gramc\, Mitja Mori\, Emilija Todorovski\, Fili
 p Todorovski\nProstor: Laboratorij LTE SI-60A
END:VEVENT
BEGIN:VEVENT
SUMMARY:Energetika v krožnem gospodarstvu (EKGM)\, Laboratorijske vaje (V
 L)\, [S3]
DTSTART;TZID=Europe/Ljubljana:20251205T100000
DTEND;TZID=Europe/Ljubljana:20251205T120000
DTSTAMP:20260423T035047Z
UID:fs-AFLABS-URNIK:srecanje:16834-2025-12-05 10:00:00+01:00
DESCRIPTION:Predmet: Energetika v krožnem gospodarstvu (EKGM)\, Laborator
 ijske vaje (VL)\, [S3]\nLetniki: Energetsko strojništvo (MAG-2)\nIzvajalc
 i: Boštjan Drobnič\, Jure Gramc\, Mitja Mori\, Emilija Todorovski\, Fili
 p Todorovski\nProstor: Laboratorij LTE SI-60A
END:VEVENT
BEGIN:VEVENT
SUMMARY:Energetika v krožnem gospodarstvu (EKGM)\, Laboratorijske vaje (V
 L)\, [S3]
DTSTART;TZID=Europe/Ljubljana:20251212T100000
DTEND;TZID=Europe/Ljubljana:20251212T120000
DTSTAMP:20260423T035047Z
UID:fs-AFLABS-URNIK:srecanje:16834-2025-12-12 10:00:00+01:00
DESCRIPTION:Predmet: Energetika v krožnem gospodarstvu (EKGM)\, Laborator
 ijske vaje (VL)\, [S3]\nLetniki: Energetsko strojništvo (MAG-2)\nIzvajalc
 i: Boštjan Drobnič\, Jure Gramc\, Mitja Mori\, Emilija Todorovski\, Fili
 p Todorovski\nProstor: Laboratorij LTE SI-60A
END:VEVENT
BEGIN:VEVENT
SUMMARY:Energetika v krožnem gospodarstvu (EKGM)\, Laboratorijske vaje (V
 L)\, [S3]
DTSTART;TZID=Europe/Ljubljana:20251219T100000
DTEND;TZID=Europe/Ljubljana:20251219T120000
DTSTAMP:20260423T035047Z
UID:fs-AFLABS-URNIK:srecanje:16834-2025-12-19 10:00:00+01:00
DESCRIPTION:Predmet: Energetika v krožnem gospodarstvu (EKGM)\, Laborator
 ijske vaje (VL)\, [S3]\nLetniki: Energetsko strojništvo (MAG-2)\nIzvajalc
 i: Boštjan Drobnič\, Jure Gramc\, Mitja Mori\, Emilija Todorovski\, Fili
 p Todorovski\nProstor: Laboratorij LTE SI-60A
END:VEVENT
BEGIN:VEVENT
SUMMARY:Energetika v krožnem gospodarstvu (EKGM)\, Laboratorijske vaje (V
 L)\, [S3]
DTSTART;TZID=Europe/Ljubljana:20251226T100000
DTEND;TZID=Europe/Ljubljana:20251226T120000
DTSTAMP:20260423T035047Z
UID:fs-AFLABS-URNIK:srecanje:16834-2025-12-26 10:00:00+01:00
DESCRIPTION:Predmet: Energetika v krožnem gospodarstvu (EKGM)\, Laborator
 ijske vaje (VL)\, [S3]\nLetniki: Energetsko strojništvo (MAG-2)\nIzvajalc
 i: Boštjan Drobnič\, Jure Gramc\, Mitja Mori\, Emilija Todorovski\, Fili
 p Todorovski\nProstor: Laboratorij LTE SI-60A
END:VEVENT
BEGIN:VEVENT
SUMMARY:Energetika v krožnem gospodarstvu (EKGM)\, Laboratorijske vaje (V
 L)\, [S3]
DTSTART;TZID=Europe/Ljubljana:20260109T100000
DTEND;TZID=Europe/Ljubljana:20260109T120000
DTSTAMP:20260423T035047Z
UID:fs-AFLABS-URNIK:srecanje:16834-2026-01-09 10:00:00+01:00
DESCRIPTION:Predmet: Energetika v krožnem gospodarstvu (EKGM)\, Laborator
 ijske vaje (VL)\, [S3]\nLetniki: Energetsko strojništvo (MAG-2)\nIzvajalc
 i: Boštjan Drobnič\, Jure Gramc\, Mitja Mori\, Emilija Todorovski\, Fili
 p Todorovski\nProstor: Laboratorij LTE SI-60A
END:VEVENT
BEGIN:VEVENT
SUMMARY:Energetika v krožnem gospodarstvu (EKGM)\, Laboratorijske vaje (V
 L)\, [S4]
DTSTART;TZID=Europe/Ljubljana:20251128T140000
DTEND;TZID=Europe/Ljubljana:20251128T160000
DTSTAMP:20260423T035047Z
UID:fs-AFLABS-URNIK:srecanje:16838-2025-11-28 14:00:00+01:00
DESCRIPTION:Predmet: Energetika v krožnem gospodarstvu (EKGM)\, Laborator
 ijske vaje (VL)\, [S4]\nLetniki: Energetsko strojništvo (MAG-2)\nIzvajalc
 i: Boštjan Drobnič\, Jure Gramc\, Mitja Mori\, Emilija Todorovski\, Fili
 p Todorovski\nProstor: Laboratorij LTE SI-60A
END:VEVENT
BEGIN:VEVENT
SUMMARY:Energetika v krožnem gospodarstvu (EKGM)\, Laboratorijske vaje (V
 L)\, [S4]
DTSTART;TZID=Europe/Ljubljana:20251205T140000
DTEND;TZID=Europe/Ljubljana:20251205T160000
DTSTAMP:20260423T035047Z
UID:fs-AFLABS-URNIK:srecanje:16838-2025-12-05 14:00:00+01:00
DESCRIPTION:Predmet: Energetika v krožnem gospodarstvu (EKGM)\, Laborator
 ijske vaje (VL)\, [S4]\nLetniki: Energetsko strojništvo (MAG-2)\nIzvajalc
 i: Boštjan Drobnič\, Jure Gramc\, Mitja Mori\, Emilija Todorovski\, Fili
 p Todorovski\nProstor: Laboratorij LTE SI-60A
END:VEVENT
BEGIN:VEVENT
SUMMARY:Energetika v krožnem gospodarstvu (EKGM)\, Laboratorijske vaje (V
 L)\, [S4]
DTSTART;TZID=Europe/Ljubljana:20251212T140000
DTEND;TZID=Europe/Ljubljana:20251212T160000
DTSTAMP:20260423T035047Z
UID:fs-AFLABS-URNIK:srecanje:16838-2025-12-12 14:00:00+01:00
DESCRIPTION:Predmet: Energetika v krožnem gospodarstvu (EKGM)\, Laborator
 ijske vaje (VL)\, [S4]\nLetniki: Energetsko strojništvo (MAG-2)\nIzvajalc
 i: Boštjan Drobnič\, Jure Gramc\, Mitja Mori\, Emilija Todorovski\, Fili
 p Todorovski\nProstor: Laboratorij LTE SI-60A
END:VEVENT
BEGIN:VEVENT
SUMMARY:Energetika v krožnem gospodarstvu (EKGM)\, Laboratorijske vaje (V
 L)\, [S4]
DTSTART;TZID=Europe/Ljubljana:20251219T140000
DTEND;TZID=Europe/Ljubljana:20251219T160000
DTSTAMP:20260423T035047Z
UID:fs-AFLABS-URNIK:srecanje:16838-2025-12-19 14:00:00+01:00
DESCRIPTION:Predmet: Energetika v krožnem gospodarstvu (EKGM)\, Laborator
 ijske vaje (VL)\, [S4]\nLetniki: Energetsko strojništvo (MAG-2)\nIzvajalc
 i: Boštjan Drobnič\, Jure Gramc\, Mitja Mori\, Emilija Todorovski\, Fili
 p Todorovski\nProstor: Laboratorij LTE SI-60A
END:VEVENT
BEGIN:VEVENT
SUMMARY:Energetika v krožnem gospodarstvu (EKGM)\, Laboratorijske vaje (V
 L)\, [S4]
DTSTART;TZID=Europe/Ljubljana:20251226T140000
DTEND;TZID=Europe/Ljubljana:20251226T160000
DTSTAMP:20260423T035047Z
UID:fs-AFLABS-URNIK:srecanje:16838-2025-12-26 14:00:00+01:00
DESCRIPTION:Predmet: Energetika v krožnem gospodarstvu (EKGM)\, Laborator
 ijske vaje (VL)\, [S4]\nLetniki: Energetsko strojništvo (MAG-2)\nIzvajalc
 i: Boštjan Drobnič\, Jure Gramc\, Mitja Mori\, Emilija Todorovski\, Fili
 p Todorovski\nProstor: Laboratorij LTE SI-60A
END:VEVENT
BEGIN:VEVENT
SUMMARY:Energetika v krožnem gospodarstvu (EKGM)\, Laboratorijske vaje (V
 L)\, [S4]
DTSTART;TZID=Europe/Ljubljana:20260109T140000
DTEND;TZID=Europe/Ljubljana:20260109T160000
DTSTAMP:20260423T035047Z
UID:fs-AFLABS-URNIK:srecanje:16838-2026-01-09 14:00:00+01:00
DESCRIPTION:Predmet: Energetika v krožnem gospodarstvu (EKGM)\, Laborator
 ijske vaje (VL)\, [S4]\nLetniki: Energetsko strojništvo (MAG-2)\nIzvajalc
 i: Boštjan Drobnič\, Jure Gramc\, Mitja Mori\, Emilija Todorovski\, Fili
 p Todorovski\nProstor: Laboratorij LTE SI-60A
END:VEVENT
BEGIN:VEVENT
SUMMARY:Trajnostne tehnologije v energetiki (TTEP)\, Laboratorijske vaje (
 VL)\, [S1]
DTSTART;TZID=Europe/Ljubljana:20251216T073000
DTEND;TZID=Europe/Ljubljana:20251216T093000
DTSTAMP:20260423T035047Z
UID:fs-AFLABS-URNIK:srecanje:19763-2025-12-16 07:30:00+01:00
DESCRIPTION:Predmet: Trajnostne tehnologije v energetiki (TTEP)\, Laborato
 rijske vaje (VL)\, [S1]\nLetniki: Energetsko strojništvo (PAP-3)\nIzvajal
 ci: Boštjan Drobnič\, Jure Gramc\, Domen Hojkar\, Mihael Boštjan Konča
 r\, Andrej Lotrič\, Rok Stropnik\nProstor: Predavalnica II/4
END:VEVENT
BEGIN:VEVENT
SUMMARY:Trajnostne tehnologije v energetiki (TTEP)\, Laboratorijske vaje (
 VL)\, [S2]
DTSTART;TZID=Europe/Ljubljana:20251216T133000
DTEND;TZID=Europe/Ljubljana:20251216T153000
DTSTAMP:20260423T035047Z
UID:fs-AFLABS-URNIK:srecanje:19764-2025-12-16 13:30:00+01:00
DESCRIPTION:Predmet: Trajnostne tehnologije v energetiki (TTEP)\, Laborato
 rijske vaje (VL)\, [S2]\nLetniki: Energetsko strojništvo (PAP-3)\nIzvajal
 ci: Boštjan Drobnič\, Jure Gramc\, Domen Hojkar\, Mihael Boštjan Konča
 r\, Andrej Lotrič\, Rok Stropnik\nProstor: Predavalnica II/4
END:VEVENT
BEGIN:VEVENT
SUMMARY:Kolokvij 1 EKGM
DTSTART;TZID=Europe/Ljubljana:20251121T140000
DTEND;TZID=Europe/Ljubljana:20251121T160000
DTSTAMP:20260423T035047Z
UID:fs-AFLABS-URNIK:rezervacija:11307
ATTENDEE:Energetsko strojništvo (MAG-2)
CATEGORIES:Reservation
COLOR:royalblue
DESCRIPTION:Predmeti: Energetika v krožnem gospodarstvu (EKGM)\nLetniki: 
 Energetsko strojništvo (MAG-2)\nIzvajalci: Jure Gramc\, Domen Hojkar\, Mi
 tja Mori\, Anton Žnidarčič\, Urban Žvar Baškovič\nProstori: Predaval
 nica IV/3A
LOCATION:Predavalnica IV/3A
ORGANIZER:Jure Gramc, Domen Hojkar, Mitja Mori, Anton Žnidarčič, Urban 
 Žvar Baškovič
X-WR-TIMEZONE:Europe/Ljubljana
END:VEVENT
BEGIN:VEVENT
SUMMARY:1. kolokvij ESN RRP
DTSTART;TZID=Europe/Ljubljana:20251118T160000
DTEND;TZID=Europe/Ljubljana:20251118T180000
DTSTAMP:20260423T035047Z
UID:fs-AFLABS-URNIK:rezervacija:12905
ATTENDEE:RRP-3 (RRP-3)
CATEGORIES:Reservation
COLOR:royalblue
DESCRIPTION:Predmeti: Energetski stroji in naprave - RRP (ESNR)\nLetniki: 
 RRP-3 (RRP-3)\nIzvajalci: Jure Gramc\, Domen Hojkar\, Maj Rudolf Vahtar\, 
 Mihael Sekavčnik\, Rok Stropnik\nProstori: Predavalnica V/2\, Predavalnic
 a V/8
LOCATION:Predavalnica V/2\, Predavalnica V/8
ORGANIZER:Jure Gramc, Domen Hojkar, Maj Rudolf Vahtar, Mihael Sekavčnik, 
 Rok Stropnik
X-WR-TIMEZONE:Europe/Ljubljana
END:VEVENT
BEGIN:VEVENT
SUMMARY:Energy conversion systems - META
DTSTART;TZID=Europe/Ljubljana:20251203T100000
DTEND;TZID=Europe/Ljubljana:20251203T113000
DTSTAMP:20260423T035047Z
UID:fs-AFLABS-URNIK:rezervacija:13285
ATTENDEE:Erasmus (Erasmus)
CATEGORIES:Reservation
COLOR:royalblue
DESCRIPTION:Predmeti: Energy Conversion Systems (ECSE)\nLetniki: Erasmus (
 Erasmus)\nIzvajalci: Jure Gramc\nProstori: Predavalnica III/3B
LOCATION:Predavalnica III/3B
ORGANIZER:Jure Gramc
X-WR-TIMEZONE:Europe/Ljubljana
END:VEVENT
BEGIN:VEVENT
SUMMARY:2. kolokvij ESN RRP
DTSTART;TZID=Europe/Ljubljana:20260114T180000
DTEND;TZID=Europe/Ljubljana:20260114T200000
DTSTAMP:20260423T035047Z
UID:fs-AFLABS-URNIK:rezervacija:13501
ATTENDEE:RRP-3 (RRP-3)
CATEGORIES:Reservation
COLOR:royalblue
DESCRIPTION:Predmeti: Energetski stroji in naprave - RRP (ESNR)\nLetniki: 
 RRP-3 (RRP-3)\nIzvajalci: Jure Gramc\, Domen Hojkar\, Mihael Sekavčnik\, 
 Rok Stropnik\nProstori: Predavalnica III/2\, Predavalnica III/4
LOCATION:Predavalnica III/2\, Predavalnica III/4
ORGANIZER:Jure Gramc, Domen Hojkar, Mihael Sekavčnik, Rok Stropnik
X-WR-TIMEZONE:Europe/Ljubljana
END:VEVENT
END:VCALENDAR
