BEGIN:VCALENDAR
VERSION:2.0
PRODID:-//AFLabs urnik izvoz - fs//aflabs.si//SI
NAME:UL FS Urnik
X-WR-CALNAME:UL FS Urnik
DTSTAMP:20260423T214826Z
REFRESH-INTERVAL:PT1H
SOURCE:https://urnik.fs.uni-lj.si/teacher/972/?day=2026-03-09&export=1
URL:https://urnik.fs.uni-lj.si/teacher/972/?day=2026-03-09&export=1
X-PUBLISHED-TTL:PT1H
X-WR-TIMEZONE:Europe/Ljubljana
BEGIN:VTIMEZONE
TZID:Europe/Ljubljana
BEGIN:DAYLIGHT
DTSTART:20260329T020000
RDATE:20260329T020000
RDATE:20270328T020000
TZNAME:CEST
TZOFFSETFROM:+0100
TZOFFSETTO:+0200
END:DAYLIGHT
BEGIN:STANDARD
DTSTART:20261025T030000
RDATE:20261025T030000
RDATE:20271031T030000
TZNAME:CET
TZOFFSETFROM:+0200
TZOFFSETTO:+0100
END:STANDARD
END:VTIMEZONE
BEGIN:VEVENT
SUMMARY:ESA ACADEMY
DTSTART;TZID=Europe/Ljubljana:20260303T080000
DTEND;TZID=Europe/Ljubljana:20260303T103000
DTSTAMP:20260423T214826Z
UID:fs-AFLABS-URNIK:rezervacija:13612
CATEGORIES:Reservation
COLOR:royalblue
DESCRIPTION:Predmeti: \nLetniki: \nIzvajalci: Katja Pustovrh\, Matevž Zup
 ančič\nProstori: Predavalnica V/8
LOCATION:Predavalnica V/8
ORGANIZER:Katja Pustovrh, Matevž Zupančič
X-WR-TIMEZONE:Europe/Ljubljana
END:VEVENT
BEGIN:VEVENT
SUMMARY:esa ACADEMY
DTSTART;TZID=Europe/Ljubljana:20260303T073000
DTEND;TZID=Europe/Ljubljana:20260303T080000
DTSTAMP:20260423T214826Z
UID:fs-AFLABS-URNIK:rezervacija:13710
CATEGORIES:Reservation
COLOR:royalblue
DESCRIPTION:Predmeti: \nLetniki: \nIzvajalci: Katja Pustovrh\nProstori: Pr
 edavalnica V/8
LOCATION:Predavalnica V/8
ORGANIZER:Katja Pustovrh
X-WR-TIMEZONE:Europe/Ljubljana
END:VEVENT
BEGIN:VEVENT
SUMMARY:Tehniški dan OŠ Dravlje
DTSTART;TZID=Europe/Ljubljana:20260511T080000
DTEND;TZID=Europe/Ljubljana:20260511T120000
DTSTAMP:20260423T214826Z
UID:fs-AFLABS-URNIK:rezervacija:13853
CATEGORIES:Reservation
COLOR:royalblue
DESCRIPTION:Predmeti: \nLetniki: \nIzvajalci: Katja Pustovrh\nProstori: Pr
 edavalnica II/4
LOCATION:Predavalnica II/4
ORGANIZER:Katja Pustovrh
X-WR-TIMEZONE:Europe/Ljubljana
END:VEVENT
BEGIN:VEVENT
SUMMARY:Tehniški dan OŠ Dravlje
DTSTART;TZID=Europe/Ljubljana:20260512T080000
DTEND;TZID=Europe/Ljubljana:20260512T120000
DTSTAMP:20260423T214826Z
UID:fs-AFLABS-URNIK:rezervacija:13854
CATEGORIES:Reservation
COLOR:royalblue
DESCRIPTION:Predmeti: \nLetniki: \nIzvajalci: Katja Pustovrh\nProstori: Pr
 edavalnica II/4
LOCATION:Predavalnica II/4
ORGANIZER:Katja Pustovrh
X-WR-TIMEZONE:Europe/Ljubljana
END:VEVENT
BEGIN:VEVENT
SUMMARY:Tehniški dan OŠ Dravlje
DTSTART;TZID=Europe/Ljubljana:20260513T080000
DTEND;TZID=Europe/Ljubljana:20260513T120000
DTSTAMP:20260423T214826Z
UID:fs-AFLABS-URNIK:rezervacija:13855
CATEGORIES:Reservation
COLOR:royalblue
DESCRIPTION:Predmeti: \nLetniki: \nIzvajalci: Katja Pustovrh\nProstori: Pr
 edavalnica II/4
LOCATION:Predavalnica II/4
ORGANIZER:Katja Pustovrh
X-WR-TIMEZONE:Europe/Ljubljana
END:VEVENT
BEGIN:VEVENT
SUMMARY:Tehniški dan OŠ Dravlje
DTSTART;TZID=Europe/Ljubljana:20260514T080000
DTEND;TZID=Europe/Ljubljana:20260514T113000
DTSTAMP:20260423T214826Z
UID:fs-AFLABS-URNIK:rezervacija:13856
CATEGORIES:Reservation
COLOR:royalblue
DESCRIPTION:Predmeti: \nLetniki: \nIzvajalci: Katja Pustovrh\nProstori: Pr
 edavalnica II/4
LOCATION:Predavalnica II/4
ORGANIZER:Katja Pustovrh
X-WR-TIMEZONE:Europe/Ljubljana
END:VEVENT
BEGIN:VEVENT
SUMMARY:Tehniški dan OŠ Dravlje
DTSTART;TZID=Europe/Ljubljana:20260515T080000
DTEND;TZID=Europe/Ljubljana:20260515T120000
DTSTAMP:20260423T214826Z
UID:fs-AFLABS-URNIK:rezervacija:13857
CATEGORIES:Reservation
COLOR:royalblue
DESCRIPTION:Predmeti: \nLetniki: \nIzvajalci: Katja Pustovrh\nProstori: Pr
 edavalnica II/4
LOCATION:Predavalnica II/4
ORGANIZER:Katja Pustovrh
X-WR-TIMEZONE:Europe/Ljubljana
END:VEVENT
BEGIN:VEVENT
SUMMARY:Andreja Jurček: Javno nastopanje
DTSTART;TZID=Europe/Ljubljana:20260408T143000
DTEND;TZID=Europe/Ljubljana:20260408T183000
DTSTAMP:20260423T214826Z
UID:fs-AFLABS-URNIK:rezervacija:13946
CATEGORIES:Reservation
COLOR:royalblue
DESCRIPTION:Predmeti: \nLetniki: \nIzvajalci: Katja Pustovrh\nProstori: Pr
 edavalnica II/2
LOCATION:Predavalnica II/2
ORGANIZER:Katja Pustovrh
X-WR-TIMEZONE:Europe/Ljubljana
END:VEVENT
BEGIN:VEVENT
SUMMARY:Tehniški dan - OŠ Dravlje
DTSTART;TZID=Europe/Ljubljana:20260514T083000
DTEND;TZID=Europe/Ljubljana:20260514T093000
DTSTAMP:20260423T214826Z
UID:fs-AFLABS-URNIK:rezervacija:14020
CATEGORIES:Reservation
COLOR:royalblue
DESCRIPTION:Predmeti: \nLetniki: \nIzvajalci: Katja Pustovrh\nProstori: Pr
 edavalnica II/5
LOCATION:Predavalnica II/5
ORGANIZER:Katja Pustovrh
X-WR-TIMEZONE:Europe/Ljubljana
END:VEVENT
BEGIN:VEVENT
SUMMARY:Obisk astronavta
DTSTART;TZID=Europe/Ljubljana:20260422T090000
DTEND;TZID=Europe/Ljubljana:20260422T120000
DTSTAMP:20260423T214826Z
UID:fs-AFLABS-URNIK:rezervacija:14179
CATEGORIES:Reservation
COLOR:royalblue
DESCRIPTION:Predmeti: \nLetniki: \nIzvajalci: Katja Pustovrh\nProstori: Pr
 edavalnica II/5
LOCATION:Predavalnica II/5
ORGANIZER:Katja Pustovrh
X-WR-TIMEZONE:Europe/Ljubljana
END:VEVENT
BEGIN:VEVENT
SUMMARY:OBISK
DTSTART;TZID=Europe/Ljubljana:20260422T120000
DTEND;TZID=Europe/Ljubljana:20260422T133000
DTSTAMP:20260423T214826Z
UID:fs-AFLABS-URNIK:rezervacija:14205
CATEGORIES:Reservation
COLOR:royalblue
DESCRIPTION:Predmeti: \nLetniki: \nIzvajalci: Katja Pustovrh\nProstori: Pr
 edavalnica II/5
LOCATION:Predavalnica II/5
ORGANIZER:Katja Pustovrh
X-WR-TIMEZONE:Europe/Ljubljana
END:VEVENT
END:VCALENDAR
