BEGIN:VCALENDAR
VERSION:2.0
PRODID:-//AFLabs urnik izvoz - fs//aflabs.si//SI
NAME:UL FS Urnik
X-WR-CALNAME:UL FS Urnik
DTSTAMP:20260422T005436Z
REFRESH-INTERVAL:PT1H
SOURCE:https://urnik.fs.uni-lj.si/teacher/980/?day=2023-07-03&export=1
URL:https://urnik.fs.uni-lj.si/teacher/980/?day=2023-07-03&export=1
X-PUBLISHED-TTL:PT1H
X-WR-TIMEZONE:Europe/Ljubljana
BEGIN:VTIMEZONE
TZID:Europe/Ljubljana
BEGIN:DAYLIGHT
DTSTART:20260329T020000
RDATE:20260329T020000
RDATE:20270328T020000
TZNAME:CEST
TZOFFSETFROM:+0100
TZOFFSETTO:+0200
END:DAYLIGHT
BEGIN:STANDARD
DTSTART:20261025T030000
RDATE:20261025T030000
RDATE:20271031T030000
TZNAME:CET
TZOFFSETFROM:+0200
TZOFFSETTO:+0100
END:STANDARD
END:VTIMEZONE
BEGIN:VEVENT
SUMMARY:Kolokvij 2
DTSTART;TZID=Europe/Ljubljana:20230602T180000
DTEND;TZID=Europe/Ljubljana:20230602T190000
DTSTAMP:20260422T005436Z
UID:fs-AFLABS-URNIK:rezervacija:645
ATTENDEE:Konstruiranje (MAG-1)
CATEGORIES:Reservation
COLOR:royalblue
DESCRIPTION:Predmeti: Nanotehnologije (NNTM)\nLetniki: Konstruiranje (MAG-
 1)\nIzvajalci: Anastasia Samodurova\nProstori: Predavalnica III/2
LOCATION:Predavalnica III/2
ORGANIZER:Anastasia Samodurova
X-WR-TIMEZONE:Europe/Ljubljana
END:VEVENT
BEGIN:VEVENT
SUMMARY:Kolokvij iz teorije 2
DTSTART;TZID=Europe/Ljubljana:20230602T190000
DTEND;TZID=Europe/Ljubljana:20230602T200000
DTSTAMP:20260422T005436Z
UID:fs-AFLABS-URNIK:rezervacija:1441
ATTENDEE:Konstruiranje (MAG-1)
CATEGORIES:Reservation
COLOR:royalblue
DESCRIPTION:Predmeti: Nanotehnologije (NNTM)\nLetniki: Konstruiranje (MAG-
 1)\nIzvajalci: Anastasia Samodurova\nProstori: Predavalnica III/2
LOCATION:Predavalnica III/2
ORGANIZER:Anastasia Samodurova
X-WR-TIMEZONE:Europe/Ljubljana
END:VEVENT
END:VCALENDAR
