BEGIN:VCALENDAR
VERSION:2.0
PRODID:-//AFLabs urnik izvoz - fs//aflabs.si//SI
NAME:UL FS Urnik
X-WR-CALNAME:UL FS Urnik
DTSTAMP:20260420T053654Z
REFRESH-INTERVAL:PT1H
SOURCE:https://urnik.fs.uni-lj.si/teacher/997/?day=2023-09-11&export=1
URL:https://urnik.fs.uni-lj.si/teacher/997/?day=2023-09-11&export=1
X-PUBLISHED-TTL:PT1H
X-WR-TIMEZONE:Europe/Ljubljana
BEGIN:VTIMEZONE
TZID:Europe/Ljubljana
BEGIN:DAYLIGHT
DTSTART:20260329T020000
RDATE:20260329T020000
RDATE:20270328T020000
TZNAME:CEST
TZOFFSETFROM:+0100
TZOFFSETTO:+0200
END:DAYLIGHT
BEGIN:STANDARD
DTSTART:20261025T030000
RDATE:20261025T030000
RDATE:20271031T030000
TZNAME:CET
TZOFFSETFROM:+0200
TZOFFSETTO:+0100
END:STANDARD
END:VTIMEZONE
BEGIN:VEVENT
SUMMARY:Programski algoritmi in protokoli (PAPM)\, Predavanja (P)
DTSTART;TZID=Europe/Ljubljana:20231002T080000
DTEND;TZID=Europe/Ljubljana:20231002T100000
DTSTAMP:20260420T053654Z
UID:fs-AFLABS-URNIK:srecanje:2488-2023-10-02 08:00:00+02:00
DESCRIPTION:Predmet: Programski algoritmi in protokoli (PAPM)\, Predavanja
  (P)\nLetniki: Mehatronika in laserska tehnika (MAG-1)\nIzvajalci: Dominik
  Kozjek\, Rok Vrabič\nProstor: Predavalnica III/4
END:VEVENT
BEGIN:VEVENT
SUMMARY:Programski algoritmi in protokoli (PAPM)\, Predavanja (P)
DTSTART;TZID=Europe/Ljubljana:20231009T080000
DTEND;TZID=Europe/Ljubljana:20231009T100000
DTSTAMP:20260420T053654Z
UID:fs-AFLABS-URNIK:srecanje:2488-2023-10-09 08:00:00+02:00
DESCRIPTION:Predmet: Programski algoritmi in protokoli (PAPM)\, Predavanja
  (P)\nLetniki: Mehatronika in laserska tehnika (MAG-1)\nIzvajalci: Dominik
  Kozjek\, Rok Vrabič\nProstor: Predavalnica III/4
END:VEVENT
BEGIN:VEVENT
SUMMARY:Programski algoritmi in protokoli (PAPM)\, Predavanja (P)
DTSTART;TZID=Europe/Ljubljana:20231016T080000
DTEND;TZID=Europe/Ljubljana:20231016T100000
DTSTAMP:20260420T053654Z
UID:fs-AFLABS-URNIK:srecanje:2488-2023-10-16 08:00:00+02:00
DESCRIPTION:Predmet: Programski algoritmi in protokoli (PAPM)\, Predavanja
  (P)\nLetniki: Mehatronika in laserska tehnika (MAG-1)\nIzvajalci: Dominik
  Kozjek\, Rok Vrabič\nProstor: Predavalnica III/4
END:VEVENT
BEGIN:VEVENT
SUMMARY:Krmiljenje mehatronskih sistemov (KMSP)\, Predavanja (P)
DTSTART;TZID=Europe/Ljubljana:20231002T093000
DTEND;TZID=Europe/Ljubljana:20231002T113000
DTSTAMP:20260420T053654Z
UID:fs-AFLABS-URNIK:srecanje:4009-2023-10-02 09:30:00+02:00
DESCRIPTION:Predmet: Krmiljenje mehatronskih sistemov (KMSP)\, Predavanja 
 (P)\nLetniki: Mehatronika (PAP-3)\nIzvajalci: Dominik Kozjek\, Primož Pod
 ržaj\nProstor: Predavalnica III/3B
END:VEVENT
BEGIN:VEVENT
SUMMARY:Krmiljenje mehatronskih sistemov (KMSP)\, Predavanja (P)
DTSTART;TZID=Europe/Ljubljana:20231009T093000
DTEND;TZID=Europe/Ljubljana:20231009T113000
DTSTAMP:20260420T053654Z
UID:fs-AFLABS-URNIK:srecanje:4009-2023-10-09 09:30:00+02:00
DESCRIPTION:Predmet: Krmiljenje mehatronskih sistemov (KMSP)\, Predavanja 
 (P)\nLetniki: Mehatronika (PAP-3)\nIzvajalci: Dominik Kozjek\, Primož Pod
 ržaj\nProstor: Predavalnica III/3B
END:VEVENT
BEGIN:VEVENT
SUMMARY:Krmiljenje mehatronskih sistemov (KMSP)\, Predavanja (P)
DTSTART;TZID=Europe/Ljubljana:20231016T093000
DTEND;TZID=Europe/Ljubljana:20231016T113000
DTSTAMP:20260420T053654Z
UID:fs-AFLABS-URNIK:srecanje:4009-2023-10-16 09:30:00+02:00
DESCRIPTION:Predmet: Krmiljenje mehatronskih sistemov (KMSP)\, Predavanja 
 (P)\nLetniki: Mehatronika (PAP-3)\nIzvajalci: Dominik Kozjek\, Primož Pod
 ržaj\nProstor: Predavalnica III/3B
END:VEVENT
BEGIN:VEVENT
SUMMARY:Mikroprocesorska krmilja (MPKM)\, Predavanja (P)
DTSTART;TZID=Europe/Ljubljana:20231003T140000
DTEND;TZID=Europe/Ljubljana:20231003T160000
DTSTAMP:20260420T053654Z
UID:fs-AFLABS-URNIK:srecanje:2373-2023-10-03 14:00:00+02:00
DESCRIPTION:Predmet: Mikroprocesorska krmilja (MPKM)\, Predavanja (P)\nLet
 niki: Mehatronika in laserska tehnika (MAG-1)\nIzvajalci: Janez Diaci\, Do
 minik Kozjek\, Primož Podržaj\nProstor: Predavalnica III/4
END:VEVENT
BEGIN:VEVENT
SUMMARY:Mikroprocesorska krmilja (MPKM)\, Predavanja (P)
DTSTART;TZID=Europe/Ljubljana:20231010T140000
DTEND;TZID=Europe/Ljubljana:20231010T160000
DTSTAMP:20260420T053654Z
UID:fs-AFLABS-URNIK:srecanje:2373-2023-10-10 14:00:00+02:00
DESCRIPTION:Predmet: Mikroprocesorska krmilja (MPKM)\, Predavanja (P)\nLet
 niki: Mehatronika in laserska tehnika (MAG-1)\nIzvajalci: Janez Diaci\, Do
 minik Kozjek\, Primož Podržaj\nProstor: Predavalnica III/4
END:VEVENT
BEGIN:VEVENT
SUMMARY:Krmiljenje mehatronskih sistemov (KMSP)\, Predavalniške vaje (VP)
DTSTART;TZID=Europe/Ljubljana:20231004T153000
DTEND;TZID=Europe/Ljubljana:20231004T173000
DTSTAMP:20260420T053654Z
UID:fs-AFLABS-URNIK:srecanje:4178-2023-10-04 15:30:00+02:00
DESCRIPTION:Predmet: Krmiljenje mehatronskih sistemov (KMSP)\, Predavalni
 ške vaje (VP)\nLetniki: Mehatronika (PAP-3)\nIzvajalci: Dominik Kozjek\, 
 Tomaž Požrl\nProstor: Predavalnica II/3B
END:VEVENT
BEGIN:VEVENT
SUMMARY:Krmiljenje mehatronskih sistemov (KMSP)\, Predavalniške vaje (VP)
DTSTART;TZID=Europe/Ljubljana:20231011T153000
DTEND;TZID=Europe/Ljubljana:20231011T173000
DTSTAMP:20260420T053654Z
UID:fs-AFLABS-URNIK:srecanje:4178-2023-10-11 15:30:00+02:00
DESCRIPTION:Predmet: Krmiljenje mehatronskih sistemov (KMSP)\, Predavalni
 ške vaje (VP)\nLetniki: Mehatronika (PAP-3)\nIzvajalci: Dominik Kozjek\, 
 Tomaž Požrl\nProstor: Predavalnica II/3B
END:VEVENT
BEGIN:VEVENT
SUMMARY:Microprocessor Control (MPCE)\, Predavanja (P)
DTSTART;TZID=Europe/Ljubljana:20231010T120000
DTEND;TZID=Europe/Ljubljana:20231010T140000
DTSTAMP:20260420T053654Z
UID:fs-AFLABS-URNIK:srecanje:6201-2023-10-10 12:00:00+02:00
DESCRIPTION:Predmet: Microprocessor Control (MPCE)\, Predavanja (P)\nLetni
 ki: Erasmus (Erasmus)\nIzvajalci: Janez Diaci\, Dominik Kozjek\, Primož P
 održaj\nProstor: Predavalnica II/5
END:VEVENT
BEGIN:VEVENT
SUMMARY:Dodatni termin
DTSTART;TZID=Europe/Ljubljana:20231016T120000
DTEND;TZID=Europe/Ljubljana:20231016T140000
DTSTAMP:20260420T053654Z
UID:fs-AFLABS-URNIK:rezervacija:479
ATTENDEE:Mehatronika in laserska tehnika (MAG-1)
CATEGORIES:Reservation
COLOR:royalblue
DESCRIPTION:Predmeti: Programski algoritmi in protokoli (PAPM)\nLetniki: M
 ehatronika in laserska tehnika (MAG-1)\nIzvajalci: Dominik Kozjek\nProstor
 i: Predavalnica III/3B
LOCATION:Predavalnica III/3B
ORGANIZER:Dominik Kozjek
X-WR-TIMEZONE:Europe/Ljubljana
END:VEVENT
END:VCALENDAR
